BEGIN:VCALENDAR
VERSION:2.0
PRODID:-//Lutheran Church of Our Redeemer - ECPv6.15.20//NONSGML v1.0//EN
CALSCALE:GREGORIAN
METHOD:PUBLISH
X-WR-CALNAME:Lutheran Church of Our Redeemer
X-ORIGINAL-URL:https://lcor.org
X-WR-CALDESC:Events for Lutheran Church of Our Redeemer
REFRESH-INTERVAL;VALUE=DURATION:PT1H
X-Robots-Tag:noindex
X-PUBLISHED-TTL:PT1H
BEGIN:VTIMEZONE
TZID:UTC
BEGIN:STANDARD
TZOFFSETFROM:+0000
TZOFFSETTO:+0000
TZNAME:UTC
DTSTART:20200101T000000
END:STANDARD
END:VTIMEZONE
BEGIN:VEVENT
DTSTART;TZID=UTC:20211010T080000
DTEND;TZID=UTC:20211010T170000
DTSTAMP:20260421T094203
CREATED:20210922T040657Z
LAST-MODIFIED:20210922T040751Z
UID:10000891-1633852800-1633885200@lcor.org
SUMMARY:Sunday School
DESCRIPTION:Sunday School
URL:https://lcor.org/events-calendar/sunday-school/
LOCATION:Lutheran Church of Our Redeemer\, 234 Arizona Ave Foxbourough\, MA 78956
CATEGORIES:Sunday School
END:VEVENT
END:VCALENDAR