BEGIN:VCALENDAR
VERSION:2.0
PRODID:-//Lutheran Church of Our Redeemer - ECPv6.15.20//NONSGML v1.0//EN
CALSCALE:GREGORIAN
METHOD:PUBLISH
X-ORIGINAL-URL:https://lcor.org
X-WR-CALDESC:Events for Lutheran Church of Our Redeemer
REFRESH-INTERVAL;VALUE=DURATION:PT1H
X-Robots-Tag:noindex
X-PUBLISHED-TTL:PT1H
BEGIN:VTIMEZONE
TZID:UTC
BEGIN:STANDARD
TZOFFSETFROM:+0000
TZOFFSETTO:+0000
TZNAME:UTC
DTSTART:20220101T000000
END:STANDARD
END:VTIMEZONE
BEGIN:VEVENT
DTSTART;TZID=UTC:20230903T083000
DTEND;TZID=UTC:20230903T083000
DTSTAMP:20260423T112726
CREATED:20230226T212701Z
LAST-MODIFIED:20230430T224359Z
UID:10001518-1693729800-1693729800@lcor.org
SUMMARY:Contemp. Worship
DESCRIPTION:
URL:https://lcor.org/events-calendar/contemporary-worship-2023-06-04/2023-09-03/
CATEGORIES:Worship & Music
END:VEVENT
BEGIN:VEVENT
DTSTART;TZID=UTC:20230903T091500
DTEND;TZID=UTC:20230903T091500
DTSTAMP:20260423T112726
CREATED:20230226T213007Z
LAST-MODIFIED:20230226T213007Z
UID:10001532-1693732500-1693732500@lcor.org
SUMMARY:Coffee & Fellowship
DESCRIPTION:
URL:https://lcor.org/events-calendar/coffee-fellowship/2023-09-03/
CATEGORIES:Social Event
END:VEVENT
BEGIN:VEVENT
DTSTART;TZID=UTC:20230903T100000
DTEND;TZID=UTC:20230903T100000
DTSTAMP:20260423T112726
CREATED:20230226T213131Z
LAST-MODIFIED:20230226T213131Z
UID:10001548-1693735200-1693735200@lcor.org
SUMMARY:Traditional Worship
DESCRIPTION:
URL:https://lcor.org/events-calendar/traditional-worship/2023-09-03/
CATEGORIES:Worship & Music
END:VEVENT
BEGIN:VEVENT
DTSTART;VALUE=DATE:20230904
DTEND;VALUE=DATE:20230905
DTSTAMP:20260423T112726
CREATED:20230831T135829Z
LAST-MODIFIED:20230831T135829Z
UID:10001716-1693785600-1693871999@lcor.org
SUMMARY:Office Closed
DESCRIPTION:Office will resume 9 am – 2 pm hours on Tuesday September 5th.
URL:https://lcor.org/events-calendar/office-closed/
CATEGORIES:Administration
END:VEVENT
BEGIN:VEVENT
DTSTART;TZID=UTC:20230905T163000
DTEND;TZID=UTC:20230905T163000
DTSTAMP:20260423T112726
CREATED:20230831T140053Z
LAST-MODIFIED:20230831T140053Z
UID:10001717-1693931400-1693931400@lcor.org
SUMMARY:Stewardship Meeting
DESCRIPTION:For more information email us at office@lcor.org
URL:https://lcor.org/events-calendar/stewardship-meeting/
CATEGORIES:Stewardship Committee
END:VEVENT
BEGIN:VEVENT
DTSTART;TZID=UTC:20230906T183000
DTEND;TZID=UTC:20230906T183000
DTSTAMP:20260423T112726
CREATED:20230831T140220Z
LAST-MODIFIED:20230831T140220Z
UID:10001718-1694025000-1694025000@lcor.org
SUMMARY:ORCCC Board of Directors Meeting
DESCRIPTION:For more information email us at office@lcor.org
URL:https://lcor.org/events-calendar/orccc-board-of-directors-meeting-3/
CATEGORIES:ORCCC
END:VEVENT
BEGIN:VEVENT
DTSTART;TZID=UTC:20230906T190000
DTEND;TZID=UTC:20230906T190000
DTSTAMP:20260423T112726
CREATED:20230831T140703Z
LAST-MODIFIED:20230831T140703Z
UID:10001719-1694026800-1694026800@lcor.org
SUMMARY:Mutual Ministry Meeting
DESCRIPTION:For more information email us at office@lcor.org
URL:https://lcor.org/events-calendar/mutual-ministry-meeting-4/
CATEGORIES:Mutual Ministry
END:VEVENT
BEGIN:VEVENT
DTSTART;TZID=UTC:20230910T083000
DTEND;TZID=UTC:20230910T083000
DTSTAMP:20260423T112726
CREATED:20230802T172019Z
LAST-MODIFIED:20230802T173611Z
UID:10001564-1694334600-1694334600@lcor.org
SUMMARY:Contemporary Worship
DESCRIPTION:Join us Sundays at 8:30 am for our Contemporary Worship Service. \nFor questions or to inquire more information\, please contact office@lcor.org.
URL:https://lcor.org/events-calendar/contemporary-worship-2/2023-09-10/
CATEGORIES:Worship & Music
END:VEVENT
BEGIN:VEVENT
DTSTART;TZID=UTC:20230910T093000
DTEND;TZID=UTC:20230910T093000
DTSTAMP:20260423T112726
CREATED:20230831T141413Z
LAST-MODIFIED:20230831T141933Z
UID:10001755-1694338200-1694338200@lcor.org
SUMMARY:God's Work. Our Hands.; Fellowship
DESCRIPTION:Join us for an opportunity to connect\, chat\, socialize and kick-off for the Sunday School year with God’s Work\, Our Hands Sunday. \nIn our tradition of service\, we will be assembling bean soup kits for local food pantries during the time between services. All ages will be able to participate in this activity. Please plan on staying awhile after first service and if you come to the second service\, come early. You are encouraged to wear your God’s Work\, Our Hands or Thrivent shirts (we’ll have some available on that day.) We can do a lot when we work together.
URL:https://lcor.org/events-calendar/gods-work-our-hands/
CATEGORIES:Christian Education,Community Life
END:VEVENT
BEGIN:VEVENT
DTSTART;TZID=UTC:20230910T103000
DTEND;TZID=UTC:20230910T103000
DTSTAMP:20260423T112726
CREATED:20230802T173432Z
LAST-MODIFIED:20230807T162503Z
UID:10001603-1694341800-1694341800@lcor.org
SUMMARY:Traditional Worship
DESCRIPTION:Join us Sundays at 10:30 am for our Traditional Worship Service. \nFor questions or to inquire more information\, please contact office@lcor.org.
URL:https://lcor.org/events-calendar/traditional-worship-service/2023-09-10/
CATEGORIES:Worship & Music
END:VEVENT
BEGIN:VEVENT
DTSTART;TZID=UTC:20230911T073000
DTEND;TZID=UTC:20230911T073000
DTSTAMP:20260423T112726
CREATED:20230807T163442Z
LAST-MODIFIED:20230807T163442Z
UID:10001641-1694417400-1694417400@lcor.org
SUMMARY:Ladies Bible Study via Zoom
DESCRIPTION:Join us every Monday and Thursday! \nFor more information\, email us at office@lcor.org.
URL:https://lcor.org/events-calendar/ladies-bible-study-via-zoom-5/2023-09-11/
END:VEVENT
BEGIN:VEVENT
DTSTART;TZID=UTC:20230911T183000
DTEND;TZID=UTC:20230911T183000
DTSTAMP:20260423T112726
CREATED:20230831T142112Z
LAST-MODIFIED:20230831T142112Z
UID:10001758-1694457000-1694457000@lcor.org
SUMMARY:Worship and Music Meeting
DESCRIPTION:For more information email us at office@lcor.org
URL:https://lcor.org/events-calendar/worship-and-music-meeting/
CATEGORIES:Worship & Music
END:VEVENT
BEGIN:VEVENT
DTSTART;TZID=UTC:20230914T073000
DTEND;TZID=UTC:20230914T073000
DTSTAMP:20260423T112726
CREATED:20230807T163627Z
LAST-MODIFIED:20230907T161914Z
UID:10001679-1694676600-1694676600@lcor.org
SUMMARY:Ladies Bible Study via Zoom
DESCRIPTION:Join us every Monday and Thursday! \nFor more information\, email us at office@lcor.org.
URL:https://lcor.org/events-calendar/ladies-bible-stude-via-zoom/2023-09-14/
END:VEVENT
BEGIN:VEVENT
DTSTART;TZID=UTC:20230917T083000
DTEND;TZID=UTC:20230917T083000
DTSTAMP:20260423T112726
CREATED:20230802T172019Z
LAST-MODIFIED:20230802T173611Z
UID:10001565-1694939400-1694939400@lcor.org
SUMMARY:Contemporary Worship
DESCRIPTION:Join us Sundays at 8:30 am for our Contemporary Worship Service. \nFor questions or to inquire more information\, please contact office@lcor.org.
URL:https://lcor.org/events-calendar/contemporary-worship-2/2023-09-17/
CATEGORIES:Worship & Music
END:VEVENT
BEGIN:VEVENT
DTSTART;TZID=UTC:20230917T093000
DTEND;TZID=UTC:20230917T093000
DTSTAMP:20260423T112726
CREATED:20230802T172728Z
LAST-MODIFIED:20230831T144853Z
UID:10001602-1694943000-1694943000@lcor.org
SUMMARY:Fellowship; Christian Ed.
DESCRIPTION:Join us for an opportunity to connect\, chat\, socialize and learn between our Sunday Worship Services. Visit our Adult Sunday School Page to see the upcoming schedule.
URL:https://lcor.org/events-calendar/coffee-and-fellowship/
CATEGORIES:Social Event
END:VEVENT
BEGIN:VEVENT
DTSTART;TZID=UTC:20230917T103000
DTEND;TZID=UTC:20230917T103000
DTSTAMP:20260423T112726
CREATED:20230802T173432Z
LAST-MODIFIED:20230807T162503Z
UID:10001604-1694946600-1694946600@lcor.org
SUMMARY:Traditional Worship
DESCRIPTION:Join us Sundays at 10:30 am for our Traditional Worship Service. \nFor questions or to inquire more information\, please contact office@lcor.org.
URL:https://lcor.org/events-calendar/traditional-worship-service/2023-09-17/
CATEGORIES:Worship & Music
END:VEVENT
BEGIN:VEVENT
DTSTART;TZID=UTC:20230917T183000
DTEND;TZID=UTC:20230917T183000
DTSTAMP:20260423T112726
CREATED:20230831T143018Z
LAST-MODIFIED:20230831T143018Z
UID:10001757-1694975400-1694975400@lcor.org
SUMMARY:Confirmation Class
DESCRIPTION:For more information email us at office@lcor.org
URL:https://lcor.org/events-calendar/confirmation-class/
CATEGORIES:Christian Education
END:VEVENT
BEGIN:VEVENT
DTSTART;TZID=UTC:20230918T073000
DTEND;TZID=UTC:20230918T073000
DTSTAMP:20260423T112726
CREATED:20230807T163442Z
LAST-MODIFIED:20230807T163442Z
UID:10001642-1695022200-1695022200@lcor.org
SUMMARY:Ladies Bible Study via Zoom
DESCRIPTION:Join us every Monday and Thursday! \nFor more information\, email us at office@lcor.org.
URL:https://lcor.org/events-calendar/ladies-bible-study-via-zoom-5/2023-09-18/
END:VEVENT
BEGIN:VEVENT
DTSTART;TZID=UTC:20230918T183000
DTEND;TZID=UTC:20230918T183000
DTSTAMP:20260423T112726
CREATED:20230831T143125Z
LAST-MODIFIED:20230831T143125Z
UID:10001759-1695061800-1695061800@lcor.org
SUMMARY:Finance Committee Meeting
DESCRIPTION:For more information email us at office@lcor.org
URL:https://lcor.org/events-calendar/finance-committee-meeting-5/
CATEGORIES:Finance Committee
END:VEVENT
BEGIN:VEVENT
DTSTART;TZID=UTC:20230919T190000
DTEND;TZID=UTC:20230919T190000
DTSTAMP:20260423T112726
CREATED:20230831T143228Z
LAST-MODIFIED:20230831T143228Z
UID:10001760-1695150000-1695150000@lcor.org
SUMMARY:Church Council Meeting
DESCRIPTION:For more information email us at office@lcor.org
URL:https://lcor.org/events-calendar/church-council-meeting/
CATEGORIES:Council Meetings
END:VEVENT
BEGIN:VEVENT
DTSTART;TZID=UTC:20230921T073000
DTEND;TZID=UTC:20230921T073000
DTSTAMP:20260423T112726
CREATED:20230807T163627Z
LAST-MODIFIED:20230907T161914Z
UID:10001680-1695281400-1695281400@lcor.org
SUMMARY:Ladies Bible Study via Zoom
DESCRIPTION:Join us every Monday and Thursday! \nFor more information\, email us at office@lcor.org.
URL:https://lcor.org/events-calendar/ladies-bible-stude-via-zoom/2023-09-21/
END:VEVENT
BEGIN:VEVENT
DTSTART;TZID=UTC:20230924T083000
DTEND;TZID=UTC:20230924T083000
DTSTAMP:20260423T112726
CREATED:20230802T172019Z
LAST-MODIFIED:20230802T173611Z
UID:10001566-1695544200-1695544200@lcor.org
SUMMARY:Contemporary Worship
DESCRIPTION:Join us Sundays at 8:30 am for our Contemporary Worship Service. \nFor questions or to inquire more information\, please contact office@lcor.org.
URL:https://lcor.org/events-calendar/contemporary-worship-2/2023-09-24/
CATEGORIES:Worship & Music
END:VEVENT
BEGIN:VEVENT
DTSTART;TZID=UTC:20230924T093000
DTEND;TZID=UTC:20230924T093000
DTSTAMP:20260423T112726
CREATED:20230802T172728Z
LAST-MODIFIED:20230907T152204Z
UID:10001720-1695547800-1695547800@lcor.org
SUMMARY:Fellowship; Christian Ed.
DESCRIPTION:Join us for an opportunity to connect\, chat\, socialize and learn between our Sunday Worship Services. Visit our Adult Sunday School Page to see the upcoming schedule.
URL:https://lcor.org/events-calendar/coffee-and-fellowship-2023-09-24/2023-09-24/
CATEGORIES:Social Event
END:VEVENT
BEGIN:VEVENT
DTSTART;TZID=UTC:20230924T103000
DTEND;TZID=UTC:20230924T103000
DTSTAMP:20260423T112726
CREATED:20230802T173432Z
LAST-MODIFIED:20230807T162503Z
UID:10001605-1695551400-1695551400@lcor.org
SUMMARY:Traditional Worship
DESCRIPTION:Join us Sundays at 10:30 am for our Traditional Worship Service. \nFor questions or to inquire more information\, please contact office@lcor.org.
URL:https://lcor.org/events-calendar/traditional-worship-service/2023-09-24/
CATEGORIES:Worship & Music
END:VEVENT
BEGIN:VEVENT
DTSTART;TZID=UTC:20230925T073000
DTEND;TZID=UTC:20230925T073000
DTSTAMP:20260423T112726
CREATED:20230807T163442Z
LAST-MODIFIED:20230807T163442Z
UID:10001643-1695627000-1695627000@lcor.org
SUMMARY:Ladies Bible Study via Zoom
DESCRIPTION:Join us every Monday and Thursday! \nFor more information\, email us at office@lcor.org.
URL:https://lcor.org/events-calendar/ladies-bible-study-via-zoom-5/2023-09-25/
END:VEVENT
BEGIN:VEVENT
DTSTART;TZID=UTC:20230928T073000
DTEND;TZID=UTC:20230928T073000
DTSTAMP:20260423T112726
CREATED:20230807T163627Z
LAST-MODIFIED:20230907T161914Z
UID:10001681-1695886200-1695886200@lcor.org
SUMMARY:Ladies Bible Study via Zoom
DESCRIPTION:Join us every Monday and Thursday! \nFor more information\, email us at office@lcor.org.
URL:https://lcor.org/events-calendar/ladies-bible-stude-via-zoom/2023-09-28/
END:VEVENT
END:VCALENDAR