BEGIN:VCALENDAR
VERSION:2.0
PRODID:-//Lutheran Church of Our Redeemer - ECPv6.15.20//NONSGML v1.0//EN
CALSCALE:GREGORIAN
METHOD:PUBLISH
X-ORIGINAL-URL:https://lcor.org
X-WR-CALDESC:Events for Lutheran Church of Our Redeemer
REFRESH-INTERVAL;VALUE=DURATION:PT1H
X-Robots-Tag:noindex
X-PUBLISHED-TTL:PT1H
BEGIN:VTIMEZONE
TZID:UTC
BEGIN:STANDARD
TZOFFSETFROM:+0000
TZOFFSETTO:+0000
TZNAME:UTC
DTSTART:20220101T000000
END:STANDARD
END:VTIMEZONE
BEGIN:VEVENT
DTSTART;VALUE=DATE:20230101
DTEND;VALUE=DATE:20230102
DTSTAMP:20260423T224940
CREATED:20221228T042336Z
LAST-MODIFIED:20221228T042336Z
UID:10001351-1672531200-1672617599@lcor.org
SUMMARY:No Christian Education
DESCRIPTION:
URL:https://lcor.org/events-calendar/no-christian-education/
CATEGORIES:Christian Education
END:VEVENT
BEGIN:VEVENT
DTSTART;TZID=UTC:20230101T100000
DTEND;TZID=UTC:20230101T100000
DTSTAMP:20260423T224940
CREATED:20221228T041528Z
LAST-MODIFIED:20221228T041528Z
UID:10001350-1672567200-1672567200@lcor.org
SUMMARY:Blended Worship Service
DESCRIPTION:
URL:https://lcor.org/events-calendar/blended-worship-service/
CATEGORIES:Worship & Music
END:VEVENT
BEGIN:VEVENT
DTSTART;TZID=UTC:20230102T071500
DTEND;TZID=UTC:20230102T084500
DTSTAMP:20260423T224940
CREATED:20220620T211210Z
LAST-MODIFIED:20230531T155924Z
UID:10001252-1672643700-1672649100@lcor.org
SUMMARY:Ladies Bible Study via Zoom
DESCRIPTION:
URL:https://lcor.org/events-calendar/ladies-bible-study/2023-01-02/
END:VEVENT
BEGIN:VEVENT
DTSTART;TZID=UTC:20230104T180000
DTEND;TZID=UTC:20230104T193000
DTSTAMP:20260423T224940
CREATED:20221223T193417Z
LAST-MODIFIED:20221223T193417Z
UID:10001474-1672855200-1672860600@lcor.org
SUMMARY:Girl Scout Troop 82350 - Narthex
DESCRIPTION:
URL:https://lcor.org/events-calendar/girl-scout-troop-82350-narthex-9/2023-01-04/
CATEGORIES:Girl Scout Meetings
END:VEVENT
BEGIN:VEVENT
DTSTART;TZID=UTC:20230105T071500
DTEND;TZID=UTC:20230105T084500
DTSTAMP:20260423T224940
CREATED:20220620T211603Z
LAST-MODIFIED:20230531T160220Z
UID:10001311-1672902900-1672908300@lcor.org
SUMMARY:Ladies Bible Study via Zoom
DESCRIPTION:
URL:https://lcor.org/events-calendar/ladies-bible-study-via-zoom-4/2023-01-05/
END:VEVENT
BEGIN:VEVENT
DTSTART;TZID=UTC:20230105T190000
DTEND;TZID=UTC:20230105T190000
DTSTAMP:20260423T224940
CREATED:20221228T034047Z
LAST-MODIFIED:20221228T034047Z
UID:10001479-1672945200-1672945200@lcor.org
SUMMARY:Social Ministry Mtg
DESCRIPTION:
URL:https://lcor.org/events-calendar/social-ministry-mtg/
CATEGORIES:Social Ministry
END:VEVENT
BEGIN:VEVENT
DTSTART;VALUE=DATE:20230108
DTEND;VALUE=DATE:20230109
DTSTAMP:20260423T224940
CREATED:20221229T130859Z
LAST-MODIFIED:20221229T130859Z
UID:10001355-1673136000-1673222399@lcor.org
SUMMARY:No Confirmation Class
DESCRIPTION:
URL:https://lcor.org/events-calendar/no-confirmation-class-2/
CATEGORIES:Christian Education
END:VEVENT
BEGIN:VEVENT
DTSTART;TZID=UTC:20230108T083000
DTEND;TZID=UTC:20230108T083000
DTSTAMP:20260423T224940
CREATED:20220504T200730Z
LAST-MODIFIED:20221229T131139Z
UID:10001096-1673166600-1673166600@lcor.org
SUMMARY:Cont. Worship
DESCRIPTION:
URL:https://lcor.org/events-calendar/contemporary-worship-service-with-holy-communion-2023-01-08/
END:VEVENT
BEGIN:VEVENT
DTSTART;TZID=UTC:20230108T091500
DTEND;TZID=UTC:20230108T091500
DTSTAMP:20260423T224940
CREATED:20220829T013104Z
LAST-MODIFIED:20221229T125752Z
UID:10001433-1673169300-1673169300@lcor.org
SUMMARY:Fellowship
DESCRIPTION:
URL:https://lcor.org/events-calendar/fellowship-2022-09-18-2023-01-08/
CATEGORIES:Worship & Music
END:VEVENT
BEGIN:VEVENT
DTSTART;TZID=UTC:20230108T093000
DTEND;TZID=UTC:20230108T093000
DTSTAMP:20260423T224940
CREATED:20221229T130526Z
LAST-MODIFIED:20221229T130721Z
UID:10001353-1673170200-1673170200@lcor.org
SUMMARY:Christian Ed.
DESCRIPTION:
URL:https://lcor.org/events-calendar/christian-ed-no-confirmation-class/
CATEGORIES:Worship & Music
END:VEVENT
BEGIN:VEVENT
DTSTART;TZID=UTC:20230108T103000
DTEND;TZID=UTC:20230108T103000
DTSTAMP:20260423T224940
CREATED:20220504T201337Z
LAST-MODIFIED:20221229T125441Z
UID:10001448-1673173800-1673173800@lcor.org
SUMMARY:Traditional Worship Service
DESCRIPTION:
URL:https://lcor.org/events-calendar/traditional-worship-service-with-holy-communion-2022-12-04-2023-01-08/
CATEGORIES:Worship & Music
END:VEVENT
BEGIN:VEVENT
DTSTART;TZID=UTC:20230109T071500
DTEND;TZID=UTC:20230109T084500
DTSTAMP:20260423T224940
CREATED:20220620T211210Z
LAST-MODIFIED:20230531T155924Z
UID:10001253-1673248500-1673253900@lcor.org
SUMMARY:Ladies Bible Study via Zoom
DESCRIPTION:
URL:https://lcor.org/events-calendar/ladies-bible-study/2023-01-09/
END:VEVENT
BEGIN:VEVENT
DTSTART;TZID=UTC:20230109T183000
DTEND;TZID=UTC:20230109T183000
DTSTAMP:20260423T224940
CREATED:20221228T034505Z
LAST-MODIFIED:20221228T034505Z
UID:10001480-1673289000-1673289000@lcor.org
SUMMARY:Worship & Music Mtg
DESCRIPTION:
URL:https://lcor.org/events-calendar/worship-music-mtg/
CATEGORIES:Worship & Music
END:VEVENT
BEGIN:VEVENT
DTSTART;TZID=UTC:20230110T180000
DTEND;TZID=UTC:20230110T180000
DTSTAMP:20260423T224940
CREATED:20221228T034922Z
LAST-MODIFIED:20221228T034922Z
UID:10001482-1673373600-1673373600@lcor.org
SUMMARY:ORCCC BOD Mtg
DESCRIPTION:
URL:https://lcor.org/events-calendar/orccc-bod-mtg/
CATEGORIES:ORCCC
END:VEVENT
BEGIN:VEVENT
DTSTART;TZID=UTC:20230110T190000
DTEND;TZID=UTC:20230110T190000
DTSTAMP:20260423T224940
CREATED:20221228T034730Z
LAST-MODIFIED:20221228T034730Z
UID:10001481-1673377200-1673377200@lcor.org
SUMMARY:Finance Mtg
DESCRIPTION:
URL:https://lcor.org/events-calendar/finance-mtg/
CATEGORIES:Finance Committee
END:VEVENT
BEGIN:VEVENT
DTSTART;TZID=UTC:20230112T071500
DTEND;TZID=UTC:20230112T084500
DTSTAMP:20260423T224940
CREATED:20220620T211603Z
LAST-MODIFIED:20230531T160220Z
UID:10001312-1673507700-1673513100@lcor.org
SUMMARY:Ladies Bible Study via Zoom
DESCRIPTION:
URL:https://lcor.org/events-calendar/ladies-bible-study-via-zoom-4/2023-01-12/
END:VEVENT
BEGIN:VEVENT
DTSTART;TZID=UTC:20230115T083000
DTEND;TZID=UTC:20230115T083000
DTSTAMP:20260423T224940
CREATED:20220504T200730Z
LAST-MODIFIED:20230226T205450Z
UID:10001076-1673771400-1673771400@lcor.org
SUMMARY:Contemp. Worship
DESCRIPTION:
URL:https://lcor.org/events-calendar/contemporary-worship-service-with-holy-communion/2023-01-15/
CATEGORIES:Worship & Music
END:VEVENT
BEGIN:VEVENT
DTSTART;TZID=UTC:20230115T091500
DTEND;TZID=UTC:20230115T091500
DTSTAMP:20260423T224940
CREATED:20220829T013104Z
LAST-MODIFIED:20230226T205936Z
UID:10001391-1673774100-1673774100@lcor.org
SUMMARY:Fellowship at 9:15; Christian Ed. at 9:30
DESCRIPTION:
URL:https://lcor.org/events-calendar/fellowship-2022-09-18/2023-01-15/
END:VEVENT
BEGIN:VEVENT
DTSTART;TZID=UTC:20230115T103000
DTEND;TZID=UTC:20230115T103000
DTSTAMP:20260423T224940
CREATED:20220504T201337Z
LAST-MODIFIED:20230226T203125Z
UID:10001192-1673778600-1673778600@lcor.org
SUMMARY:Traditional Worship
DESCRIPTION:
URL:https://lcor.org/events-calendar/traditional-worship-service-with-holy-communion-2022-12-04/2023-01-15/
CATEGORIES:Worship & Music
END:VEVENT
BEGIN:VEVENT
DTSTART;TZID=UTC:20230116T071500
DTEND;TZID=UTC:20230116T084500
DTSTAMP:20260423T224940
CREATED:20220620T211210Z
LAST-MODIFIED:20230531T155924Z
UID:10001254-1673853300-1673858700@lcor.org
SUMMARY:Ladies Bible Study via Zoom
DESCRIPTION:
URL:https://lcor.org/events-calendar/ladies-bible-study/2023-01-16/
END:VEVENT
BEGIN:VEVENT
DTSTART;TZID=UTC:20230117T190000
DTEND;TZID=UTC:20230117T210000
DTSTAMP:20260423T224940
CREATED:20221223T192902Z
LAST-MODIFIED:20221223T192902Z
UID:10001470-1673982000-1673989200@lcor.org
SUMMARY:LCOR Council Meeting
DESCRIPTION:
URL:https://lcor.org/events-calendar/lcor-council-meeting/2023-01-17/
CATEGORIES:Council Meetings
END:VEVENT
BEGIN:VEVENT
DTSTART;TZID=UTC:20230118T180000
DTEND;TZID=UTC:20230118T193000
DTSTAMP:20260423T224940
CREATED:20221223T193417Z
LAST-MODIFIED:20221223T193417Z
UID:10001475-1674064800-1674070200@lcor.org
SUMMARY:Girl Scout Troop 82350 - Narthex
DESCRIPTION:
URL:https://lcor.org/events-calendar/girl-scout-troop-82350-narthex-9/2023-01-18/
CATEGORIES:Girl Scout Meetings
END:VEVENT
BEGIN:VEVENT
DTSTART;TZID=UTC:20230119T071500
DTEND;TZID=UTC:20230119T084500
DTSTAMP:20260423T224940
CREATED:20220620T211603Z
LAST-MODIFIED:20230531T160220Z
UID:10001313-1674112500-1674117900@lcor.org
SUMMARY:Ladies Bible Study via Zoom
DESCRIPTION:
URL:https://lcor.org/events-calendar/ladies-bible-study-via-zoom-4/2023-01-19/
END:VEVENT
BEGIN:VEVENT
DTSTART;TZID=UTC:20230119T100000
DTEND;TZID=UTC:20230119T100000
DTSTAMP:20260423T224940
CREATED:20221228T035310Z
LAST-MODIFIED:20221228T035310Z
UID:10001483-1674122400-1674122400@lcor.org
SUMMARY:SE Mass Conference Mtg at LCOR
DESCRIPTION:
URL:https://lcor.org/events-calendar/se-mass-conference-mtg-at-lcor/
CATEGORIES:Worship & Music
END:VEVENT
BEGIN:VEVENT
DTSTART;VALUE=DATE:20230121
DTEND;VALUE=DATE:20230122
DTSTAMP:20260423T224940
CREATED:20221228T040627Z
LAST-MODIFIED:20221228T040627Z
UID:10001485-1674259200-1674345599@lcor.org
SUMMARY:Deadline for all February Newsletter Submissions
DESCRIPTION:
URL:https://lcor.org/events-calendar/deadline-for-all-february-newsletter-submissions-2/
END:VEVENT
BEGIN:VEVENT
DTSTART;TZID=UTC:20230121T080000
DTEND;TZID=UTC:20230121T080000
DTSTAMP:20260423T224940
CREATED:20221228T040512Z
LAST-MODIFIED:20221228T040512Z
UID:10001484-1674288000-1674288000@lcor.org
SUMMARY:Food-n-Friends
DESCRIPTION:
URL:https://lcor.org/events-calendar/food-n-friends/
CATEGORIES:Social Event
END:VEVENT
BEGIN:VEVENT
DTSTART;TZID=UTC:20230122T083000
DTEND;TZID=UTC:20230122T083000
DTSTAMP:20260423T224940
CREATED:20220504T200730Z
LAST-MODIFIED:20230226T205450Z
UID:10001077-1674376200-1674376200@lcor.org
SUMMARY:Contemp. Worship
DESCRIPTION:
URL:https://lcor.org/events-calendar/contemporary-worship-service-with-holy-communion/2023-01-22/
CATEGORIES:Worship & Music
END:VEVENT
BEGIN:VEVENT
DTSTART;TZID=UTC:20230122T091500
DTEND;TZID=UTC:20230122T091500
DTSTAMP:20260423T224940
CREATED:20220829T013104Z
LAST-MODIFIED:20230226T205936Z
UID:10001392-1674378900-1674378900@lcor.org
SUMMARY:Fellowship at 9:15; Christian Ed. at 9:30
DESCRIPTION:
URL:https://lcor.org/events-calendar/fellowship-2022-09-18/2023-01-22/
END:VEVENT
BEGIN:VEVENT
DTSTART;TZID=UTC:20230122T103000
DTEND;TZID=UTC:20230122T103000
DTSTAMP:20260423T224940
CREATED:20220504T201337Z
LAST-MODIFIED:20230226T203125Z
UID:10001193-1674383400-1674383400@lcor.org
SUMMARY:Traditional Worship
DESCRIPTION:
URL:https://lcor.org/events-calendar/traditional-worship-service-with-holy-communion-2022-12-04/2023-01-22/
CATEGORIES:Worship & Music
END:VEVENT
BEGIN:VEVENT
DTSTART;TZID=UTC:20230123T071500
DTEND;TZID=UTC:20230123T084500
DTSTAMP:20260423T224940
CREATED:20220620T211210Z
LAST-MODIFIED:20230531T155924Z
UID:10001255-1674458100-1674463500@lcor.org
SUMMARY:Ladies Bible Study via Zoom
DESCRIPTION:
URL:https://lcor.org/events-calendar/ladies-bible-study/2023-01-23/
END:VEVENT
END:VCALENDAR