BEGIN:VCALENDAR
VERSION:2.0
PRODID:-//Lutheran Church of Our Redeemer - ECPv6.15.20//NONSGML v1.0//EN
CALSCALE:GREGORIAN
METHOD:PUBLISH
X-ORIGINAL-URL:https://lcor.org
X-WR-CALDESC:Events for Lutheran Church of Our Redeemer
REFRESH-INTERVAL;VALUE=DURATION:PT1H
X-Robots-Tag:noindex
X-PUBLISHED-TTL:PT1H
BEGIN:VTIMEZONE
TZID:UTC
BEGIN:STANDARD
TZOFFSETFROM:+0000
TZOFFSETTO:+0000
TZNAME:UTC
DTSTART:20210101T000000
END:STANDARD
END:VTIMEZONE
BEGIN:VEVENT
DTSTART;TZID=UTC:20221001T100000
DTEND;TZID=UTC:20221001T120000
DTSTAMP:20260424T133635
CREATED:20220829T012012Z
LAST-MODIFIED:20220829T012012Z
UID:10001372-1664618400-1664625600@lcor.org
SUMMARY:New Members Class
DESCRIPTION:
URL:https://lcor.org/events-calendar/new-members-class/
END:VEVENT
BEGIN:VEVENT
DTSTART;TZID=UTC:20221002T083000
DTEND;TZID=UTC:20221002T083000
DTSTAMP:20260424T133635
CREATED:20220504T200730Z
LAST-MODIFIED:20230226T205450Z
UID:10001064-1664699400-1664699400@lcor.org
SUMMARY:Contemp. Worship
DESCRIPTION:
URL:https://lcor.org/events-calendar/contemporary-worship-service-with-holy-communion/2022-10-02/
CATEGORIES:Worship & Music
END:VEVENT
BEGIN:VEVENT
DTSTART;TZID=UTC:20221002T091500
DTEND;TZID=UTC:20221002T091500
DTSTAMP:20260424T133635
CREATED:20220829T013104Z
LAST-MODIFIED:20230226T205936Z
UID:10001379-1664702100-1664702100@lcor.org
SUMMARY:Fellowship at 9:15; Christian Ed. at 9:30
DESCRIPTION:
URL:https://lcor.org/events-calendar/fellowship-2022-09-18/2022-10-02/
END:VEVENT
BEGIN:VEVENT
DTSTART;TZID=UTC:20221002T103000
DTEND;TZID=UTC:20221002T113000
DTSTAMP:20260424T133635
CREATED:20220504T201337Z
LAST-MODIFIED:20220927T204256Z
UID:10001104-1664706600-1664710200@lcor.org
SUMMARY:Traditional Worship Service
DESCRIPTION:
URL:https://lcor.org/events-calendar/traditional-worship-service-with-holy-communion-2022-10-02/
END:VEVENT
BEGIN:VEVENT
DTSTART;TZID=UTC:20221002T120000
DTEND;TZID=UTC:20221002T120000
DTSTAMP:20260424T133635
CREATED:20220927T200444Z
LAST-MODIFIED:20220927T200444Z
UID:10001405-1664712000-1664712000@lcor.org
SUMMARY:Oktoberfest
DESCRIPTION:
URL:https://lcor.org/events-calendar/oktoberfest/
END:VEVENT
BEGIN:VEVENT
DTSTART;TZID=UTC:20221003T071500
DTEND;TZID=UTC:20221003T084500
DTSTAMP:20260424T133635
CREATED:20220620T211210Z
LAST-MODIFIED:20230531T155924Z
UID:10001239-1664781300-1664786700@lcor.org
SUMMARY:Ladies Bible Study via Zoom
DESCRIPTION:
URL:https://lcor.org/events-calendar/ladies-bible-study/2022-10-03/
END:VEVENT
BEGIN:VEVENT
DTSTART;TZID=UTC:20221004T180000
DTEND;TZID=UTC:20221004T180000
DTSTAMP:20260424T133635
CREATED:20220927T201233Z
LAST-MODIFIED:20220927T201406Z
UID:10001417-1664906400-1664906400@lcor.org
SUMMARY:ORCCC BOD Meeting
DESCRIPTION:
URL:https://lcor.org/events-calendar/orccc-bod/
END:VEVENT
BEGIN:VEVENT
DTSTART;TZID=UTC:20221004T190000
DTEND;TZID=UTC:20221004T190000
DTSTAMP:20260424T133635
CREATED:20220927T201551Z
LAST-MODIFIED:20220927T201551Z
UID:10001418-1664910000-1664910000@lcor.org
SUMMARY:Finance Committee Meeting
DESCRIPTION:
URL:https://lcor.org/events-calendar/finance-committee-meeting/
END:VEVENT
BEGIN:VEVENT
DTSTART;TZID=UTC:20221006T071500
DTEND;TZID=UTC:20221006T084500
DTSTAMP:20260424T133635
CREATED:20220620T211603Z
LAST-MODIFIED:20230531T160220Z
UID:10001299-1665040500-1665045900@lcor.org
SUMMARY:Ladies Bible Study via Zoom
DESCRIPTION:
URL:https://lcor.org/events-calendar/ladies-bible-study-via-zoom-4/2022-10-06/
END:VEVENT
BEGIN:VEVENT
DTSTART;TZID=UTC:20221009T083000
DTEND;TZID=UTC:20221009T083000
DTSTAMP:20260424T133635
CREATED:20220504T200730Z
LAST-MODIFIED:20230226T205450Z
UID:10001065-1665304200-1665304200@lcor.org
SUMMARY:Contemp. Worship
DESCRIPTION:
URL:https://lcor.org/events-calendar/contemporary-worship-service-with-holy-communion/2022-10-09/
CATEGORIES:Worship & Music
END:VEVENT
BEGIN:VEVENT
DTSTART;TZID=UTC:20221009T091500
DTEND;TZID=UTC:20221009T091500
DTSTAMP:20260424T133635
CREATED:20220829T013104Z
LAST-MODIFIED:20230226T205936Z
UID:10001380-1665306900-1665306900@lcor.org
SUMMARY:Fellowship at 9:15; Christian Ed. at 9:30
DESCRIPTION:
URL:https://lcor.org/events-calendar/fellowship-2022-09-18/2022-10-09/
END:VEVENT
BEGIN:VEVENT
DTSTART;TZID=UTC:20221009T103000
DTEND;TZID=UTC:20221009T113000
DTSTAMP:20260424T133635
CREATED:20220504T201337Z
LAST-MODIFIED:20220927T204421Z
UID:10001179-1665311400-1665315000@lcor.org
SUMMARY:Traditional Worship Service
DESCRIPTION:
URL:https://lcor.org/events-calendar/traditional-worship-service-with-holy-communion-2022-10-09/
END:VEVENT
BEGIN:VEVENT
DTSTART;VALUE=DATE:20221010
DTEND;VALUE=DATE:20221011
DTSTAMP:20260424T133635
CREATED:20220927T200937Z
LAST-MODIFIED:20220927T200937Z
UID:10001416-1665360000-1665446399@lcor.org
SUMMARY:Church Office Closed for Columbus Day
DESCRIPTION:
URL:https://lcor.org/events-calendar/church-office-closed-for-columbus-day/
END:VEVENT
BEGIN:VEVENT
DTSTART;TZID=UTC:20221010T071500
DTEND;TZID=UTC:20221010T084500
DTSTAMP:20260424T133635
CREATED:20220620T211210Z
LAST-MODIFIED:20230531T155924Z
UID:10001240-1665386100-1665391500@lcor.org
SUMMARY:Ladies Bible Study via Zoom
DESCRIPTION:
URL:https://lcor.org/events-calendar/ladies-bible-study/2022-10-10/
END:VEVENT
BEGIN:VEVENT
DTSTART;TZID=UTC:20221012T183000
DTEND;TZID=UTC:20221012T183000
DTSTAMP:20260424T133635
CREATED:20220927T201744Z
LAST-MODIFIED:20220927T201744Z
UID:10001419-1665599400-1665599400@lcor.org
SUMMARY:Worship & Music Committee Meeting
DESCRIPTION:
URL:https://lcor.org/events-calendar/worship-music-committee-meeting/
END:VEVENT
BEGIN:VEVENT
DTSTART;TZID=UTC:20221013T071500
DTEND;TZID=UTC:20221013T084500
DTSTAMP:20260424T133635
CREATED:20220620T211603Z
LAST-MODIFIED:20230531T160220Z
UID:10001300-1665645300-1665650700@lcor.org
SUMMARY:Ladies Bible Study via Zoom
DESCRIPTION:
URL:https://lcor.org/events-calendar/ladies-bible-study-via-zoom-4/2022-10-13/
END:VEVENT
BEGIN:VEVENT
DTSTART;TZID=UTC:20221016T083000
DTEND;TZID=UTC:20221016T083000
DTSTAMP:20260424T133635
CREATED:20220504T200730Z
LAST-MODIFIED:20230226T205450Z
UID:10001066-1665909000-1665909000@lcor.org
SUMMARY:Contemp. Worship
DESCRIPTION:
URL:https://lcor.org/events-calendar/contemporary-worship-service-with-holy-communion/2022-10-16/
CATEGORIES:Worship & Music
END:VEVENT
BEGIN:VEVENT
DTSTART;TZID=UTC:20221016T091500
DTEND;TZID=UTC:20221016T091500
DTSTAMP:20260424T133635
CREATED:20220829T013104Z
LAST-MODIFIED:20230226T205936Z
UID:10001381-1665911700-1665911700@lcor.org
SUMMARY:Fellowship at 9:15; Christian Ed. at 9:30
DESCRIPTION:
URL:https://lcor.org/events-calendar/fellowship-2022-09-18/2022-10-16/
END:VEVENT
BEGIN:VEVENT
DTSTART;TZID=UTC:20221016T103000
DTEND;TZID=UTC:20221016T113000
DTSTAMP:20260424T133635
CREATED:20220504T201337Z
LAST-MODIFIED:20220627T201853Z
UID:10001180-1665916200-1665919800@lcor.org
SUMMARY:Traditional Worship Service with Holy Communion
DESCRIPTION:
URL:https://lcor.org/events-calendar/traditional-worship-service-with-holy-communion-2022-10-16/
END:VEVENT
BEGIN:VEVENT
DTSTART;TZID=UTC:20221017T071500
DTEND;TZID=UTC:20221017T084500
DTSTAMP:20260424T133635
CREATED:20220620T211210Z
LAST-MODIFIED:20230531T155924Z
UID:10001241-1665990900-1665996300@lcor.org
SUMMARY:Ladies Bible Study via Zoom
DESCRIPTION:
URL:https://lcor.org/events-calendar/ladies-bible-study/2022-10-17/
END:VEVENT
BEGIN:VEVENT
DTSTART;TZID=UTC:20221018T190000
DTEND;TZID=UTC:20221018T190000
DTSTAMP:20260424T133635
CREATED:20220927T202048Z
LAST-MODIFIED:20220927T202048Z
UID:10001420-1666119600-1666119600@lcor.org
SUMMARY:Council Meeting
DESCRIPTION:
URL:https://lcor.org/events-calendar/council-meeting-9/
END:VEVENT
BEGIN:VEVENT
DTSTART;TZID=UTC:20221020T071500
DTEND;TZID=UTC:20221020T084500
DTSTAMP:20260424T133635
CREATED:20220620T211603Z
LAST-MODIFIED:20230531T160220Z
UID:10001301-1666250100-1666255500@lcor.org
SUMMARY:Ladies Bible Study via Zoom
DESCRIPTION:
URL:https://lcor.org/events-calendar/ladies-bible-study-via-zoom-4/2022-10-20/
END:VEVENT
BEGIN:VEVENT
DTSTART;VALUE=DATE:20221022
DTEND;VALUE=DATE:20221023
DTSTAMP:20260424T133635
CREATED:20220927T202706Z
LAST-MODIFIED:20220927T202706Z
UID:10001139-1666396800-1666483199@lcor.org
SUMMARY:Deadline for all November Newsletter Submissions
DESCRIPTION:
URL:https://lcor.org/events-calendar/deadline-for-all-november-newsletter-submissions/
END:VEVENT
BEGIN:VEVENT
DTSTART;TZID=UTC:20221022T090000
DTEND;TZID=UTC:20221022T120000
DTSTAMP:20260424T133635
CREATED:20220927T202553Z
LAST-MODIFIED:20220927T202553Z
UID:10001421-1666429200-1666440000@lcor.org
SUMMARY:LCOR Fall Cleanup
DESCRIPTION:
URL:https://lcor.org/events-calendar/lcor-fall-cleanup/
END:VEVENT
BEGIN:VEVENT
DTSTART;TZID=UTC:20221023T083000
DTEND;TZID=UTC:20221023T083000
DTSTAMP:20260424T133635
CREATED:20220504T200730Z
LAST-MODIFIED:20230226T205450Z
UID:10001067-1666513800-1666513800@lcor.org
SUMMARY:Contemp. Worship
DESCRIPTION:
URL:https://lcor.org/events-calendar/contemporary-worship-service-with-holy-communion/2022-10-23/
CATEGORIES:Worship & Music
END:VEVENT
BEGIN:VEVENT
DTSTART;TZID=UTC:20221023T091500
DTEND;TZID=UTC:20221023T091500
DTSTAMP:20260424T133635
CREATED:20220829T013104Z
LAST-MODIFIED:20230226T205936Z
UID:10001382-1666516500-1666516500@lcor.org
SUMMARY:Fellowship at 9:15; Christian Ed. at 9:30
DESCRIPTION:
URL:https://lcor.org/events-calendar/fellowship-2022-09-18/2022-10-23/
END:VEVENT
BEGIN:VEVENT
DTSTART;TZID=UTC:20221023T103000
DTEND;TZID=UTC:20221023T113000
DTSTAMP:20260424T133635
CREATED:20220504T201337Z
LAST-MODIFIED:20220627T201657Z
UID:10001181-1666521000-1666524600@lcor.org
SUMMARY:Traditional Worship Service with Holy Communion
DESCRIPTION:
URL:https://lcor.org/events-calendar/traditional-worship-service-with-holy-communion-2022-10-23/
END:VEVENT
BEGIN:VEVENT
DTSTART;TZID=UTC:20221024T071500
DTEND;TZID=UTC:20221024T084500
DTSTAMP:20260424T133635
CREATED:20220620T211210Z
LAST-MODIFIED:20230531T155924Z
UID:10001242-1666595700-1666601100@lcor.org
SUMMARY:Ladies Bible Study via Zoom
DESCRIPTION:
URL:https://lcor.org/events-calendar/ladies-bible-study/2022-10-24/
END:VEVENT
BEGIN:VEVENT
DTSTART;TZID=UTC:20221027T071500
DTEND;TZID=UTC:20221027T084500
DTSTAMP:20260424T133635
CREATED:20220620T211603Z
LAST-MODIFIED:20230531T160220Z
UID:10001302-1666854900-1666860300@lcor.org
SUMMARY:Ladies Bible Study via Zoom
DESCRIPTION:
URL:https://lcor.org/events-calendar/ladies-bible-study-via-zoom-4/2022-10-27/
END:VEVENT
BEGIN:VEVENT
DTSTART;TZID=UTC:20221029T190000
DTEND;TZID=UTC:20221029T220000
DTSTAMP:20260424T133635
CREATED:20220927T202932Z
LAST-MODIFIED:20221021T004809Z
UID:10001141-1667070000-1667080800@lcor.org
SUMMARY:7:00 PM Progressive Dinner at the Ivanovskis Home
DESCRIPTION:Bring an Appetizer or Dessert to share\, adult social event.
URL:https://lcor.org/events-calendar/progressive-dinner-at-the-ivanovskis-home/
CATEGORIES:Social Event
END:VEVENT
END:VCALENDAR