BEGIN:VCALENDAR
VERSION:2.0
PRODID:-//Lutheran Church of Our Redeemer - ECPv6.15.20//NONSGML v1.0//EN
CALSCALE:GREGORIAN
METHOD:PUBLISH
X-WR-CALNAME:Lutheran Church of Our Redeemer
X-ORIGINAL-URL:https://lcor.org
X-WR-CALDESC:Events for Lutheran Church of Our Redeemer
REFRESH-INTERVAL;VALUE=DURATION:PT1H
X-Robots-Tag:noindex
X-PUBLISHED-TTL:PT1H
BEGIN:VTIMEZONE
TZID:UTC
BEGIN:STANDARD
TZOFFSETFROM:+0000
TZOFFSETTO:+0000
TZNAME:UTC
DTSTART:20230101T000000
END:STANDARD
END:VTIMEZONE
BEGIN:VEVENT
DTSTART;TZID=UTC:20240331T083000
DTEND;TZID=UTC:20240331T083000
DTSTAMP:20260422T215650
CREATED:20230802T172019Z
LAST-MODIFIED:20230802T173611Z
UID:10001593-1711873800-1711873800@lcor.org
SUMMARY:Contemporary Worship
DESCRIPTION:Join us Sundays at 8:30 am for our Contemporary Worship Service. \nFor questions or to inquire more information\, please contact office@lcor.org.
URL:https://lcor.org/events-calendar/contemporary-worship-2/2024-03-31/
CATEGORIES:Worship & Music
END:VEVENT
BEGIN:VEVENT
DTSTART;VALUE=DATE:20240331
DTEND;VALUE=DATE:20240401
DTSTAMP:20260422T215650
CREATED:20240229T224617Z
LAST-MODIFIED:20240229T224617Z
UID:10001846-1711843200-1711929599@lcor.org
SUMMARY:Easter
DESCRIPTION:
URL:https://lcor.org/events-calendar/easter/
CATEGORIES:Worship & Music
END:VEVENT
BEGIN:VEVENT
DTSTART;TZID=UTC:20240329T190000
DTEND;TZID=UTC:20240329T190000
DTSTAMP:20260422T215650
CREATED:20240229T224243Z
LAST-MODIFIED:20240326T181018Z
UID:10001842-1711738800-1711738800@lcor.org
SUMMARY:Tenebrae (Traditional) Worship Service
DESCRIPTION:
URL:https://lcor.org/events-calendar/tenebrae-traditional-worship-service/
CATEGORIES:Worship & Music
END:VEVENT
BEGIN:VEVENT
DTSTART;TZID=UTC:20240329T160000
DTEND;TZID=UTC:20240329T160000
DTSTAMP:20260422T215650
CREATED:20240229T224356Z
LAST-MODIFIED:20240229T224356Z
UID:10001844-1711728000-1711728000@lcor.org
SUMMARY:Contemporary Worship Service
DESCRIPTION:
URL:https://lcor.org/events-calendar/contemporary-worship-service/
CATEGORIES:Worship & Music
END:VEVENT
BEGIN:VEVENT
DTSTART;VALUE=DATE:20240329
DTEND;VALUE=DATE:20240330
DTSTAMP:20260422T215650
CREATED:20240229T224303Z
LAST-MODIFIED:20240229T224303Z
UID:10001843-1711670400-1711756799@lcor.org
SUMMARY:Good Friday
DESCRIPTION:
URL:https://lcor.org/events-calendar/good-friday/
CATEGORIES:Worship & Music
END:VEVENT
BEGIN:VEVENT
DTSTART;TZID=UTC:20240328T190000
DTEND;TZID=UTC:20240328T190000
DTSTAMP:20260422T215650
CREATED:20240326T181126Z
LAST-MODIFIED:20240326T181126Z
UID:10001847-1711652400-1711652400@lcor.org
SUMMARY:Traditional Worship Service
DESCRIPTION:
URL:https://lcor.org/events-calendar/traditional-worship-service-3/
CATEGORIES:Worship & Music
END:VEVENT
BEGIN:VEVENT
DTSTART;TZID=UTC:20240328T073000
DTEND;TZID=UTC:20240328T073000
DTSTAMP:20260422T215650
CREATED:20230807T163627Z
LAST-MODIFIED:20230907T161914Z
UID:10001707-1711611000-1711611000@lcor.org
SUMMARY:Ladies Bible Study via Zoom
DESCRIPTION:Join us every Monday and Thursday! \nFor more information\, email us at office@lcor.org.
URL:https://lcor.org/events-calendar/ladies-bible-stude-via-zoom/2024-03-28/
END:VEVENT
BEGIN:VEVENT
DTSTART;VALUE=DATE:20240328
DTEND;VALUE=DATE:20240329
DTSTAMP:20260422T215650
CREATED:20240229T224204Z
LAST-MODIFIED:20240229T224204Z
UID:10001841-1711584000-1711670399@lcor.org
SUMMARY:Maundy Thursday
DESCRIPTION:
URL:https://lcor.org/events-calendar/maundy-thursday/
CATEGORIES:Worship & Music
END:VEVENT
BEGIN:VEVENT
DTSTART;TZID=UTC:20240326T190000
DTEND;TZID=UTC:20240326T190000
DTSTAMP:20260422T215650
CREATED:20240326T182928Z
LAST-MODIFIED:20240326T182928Z
UID:10001852-1711479600-1711479600@lcor.org
SUMMARY:Church Council Meeting
DESCRIPTION:
URL:https://lcor.org/events-calendar/church-council-meeting-7/
CATEGORIES:Council Meetings
END:VEVENT
BEGIN:VEVENT
DTSTART;TZID=UTC:20240325T073000
DTEND;TZID=UTC:20240325T073000
DTSTAMP:20260422T215650
CREATED:20230807T163442Z
LAST-MODIFIED:20230807T163442Z
UID:10001669-1711351800-1711351800@lcor.org
SUMMARY:Ladies Bible Study via Zoom
DESCRIPTION:Join us every Monday and Thursday! \nFor more information\, email us at office@lcor.org.
URL:https://lcor.org/events-calendar/ladies-bible-study-via-zoom-5/2024-03-25/
END:VEVENT
BEGIN:VEVENT
DTSTART;TZID=UTC:20240324T103000
DTEND;TZID=UTC:20240324T103000
DTSTAMP:20260422T215650
CREATED:20230802T173432Z
LAST-MODIFIED:20230807T162503Z
UID:10001631-1711276200-1711276200@lcor.org
SUMMARY:Traditional Worship
DESCRIPTION:Join us Sundays at 10:30 am for our Traditional Worship Service. \nFor questions or to inquire more information\, please contact office@lcor.org.
URL:https://lcor.org/events-calendar/traditional-worship-service/2024-03-24/
CATEGORIES:Worship & Music
END:VEVENT
BEGIN:VEVENT
DTSTART;TZID=UTC:20240324T093000
DTEND;TZID=UTC:20240324T093000
DTSTAMP:20260422T215650
CREATED:20230802T172728Z
LAST-MODIFIED:20230907T152204Z
UID:10001739-1711272600-1711272600@lcor.org
SUMMARY:Fellowship; Christian Ed.
DESCRIPTION:Join us for an opportunity to connect\, chat\, socialize and learn between our Sunday Worship Services. Visit our Adult Sunday School Page to see the upcoming schedule.
URL:https://lcor.org/events-calendar/coffee-and-fellowship-2023-09-24/2024-03-24/
CATEGORIES:Social Event
END:VEVENT
BEGIN:VEVENT
DTSTART;TZID=UTC:20240324T083000
DTEND;TZID=UTC:20240324T083000
DTSTAMP:20260422T215650
CREATED:20230802T172019Z
LAST-MODIFIED:20230802T173611Z
UID:10001592-1711269000-1711269000@lcor.org
SUMMARY:Contemporary Worship
DESCRIPTION:Join us Sundays at 8:30 am for our Contemporary Worship Service. \nFor questions or to inquire more information\, please contact office@lcor.org.
URL:https://lcor.org/events-calendar/contemporary-worship-2/2024-03-24/
CATEGORIES:Worship & Music
END:VEVENT
BEGIN:VEVENT
DTSTART;VALUE=DATE:20240324
DTEND;VALUE=DATE:20240325
DTSTAMP:20260422T215650
CREATED:20240229T224052Z
LAST-MODIFIED:20240229T224052Z
UID:10001840-1711238400-1711324799@lcor.org
SUMMARY:Palm Sunday
DESCRIPTION:
URL:https://lcor.org/events-calendar/palm-sunday/
CATEGORIES:Worship & Music
END:VEVENT
BEGIN:VEVENT
DTSTART;TZID=UTC:20240321T190000
DTEND;TZID=UTC:20240321T190000
DTSTAMP:20260422T215650
CREATED:20240229T223945Z
LAST-MODIFIED:20240229T223945Z
UID:10001839-1711047600-1711047600@lcor.org
SUMMARY:Church Council Meeting
DESCRIPTION:For more information\, please contact us at office@lcor.org.
URL:https://lcor.org/events-calendar/church-council-meeting-6/
CATEGORIES:Council Meetings
END:VEVENT
BEGIN:VEVENT
DTSTART;TZID=UTC:20240321T073000
DTEND;TZID=UTC:20240321T073000
DTSTAMP:20260422T215650
CREATED:20230807T163627Z
LAST-MODIFIED:20230907T161914Z
UID:10001706-1711006200-1711006200@lcor.org
SUMMARY:Ladies Bible Study via Zoom
DESCRIPTION:Join us every Monday and Thursday! \nFor more information\, email us at office@lcor.org.
URL:https://lcor.org/events-calendar/ladies-bible-stude-via-zoom/2024-03-21/
END:VEVENT
BEGIN:VEVENT
DTSTART;TZID=UTC:20240320T183000
DTEND;TZID=UTC:20240320T183000
DTSTAMP:20260422T215650
CREATED:20240229T222802Z
LAST-MODIFIED:20240229T223004Z
UID:10001831-1710959400-1710959400@lcor.org
SUMMARY:Lenten Soup and Scripture
DESCRIPTION:Please join us on Wednesday evenings\, March 6th\, March 13th\, and March 20th.  We’ll cover a passage in John and discuss how the lesson applies to us in 2024. \nSoup is served at 6:30 pm – feel free to bring your own salad or sandwich. Our study will begin at 7:00 pm. \nFor more information\, please contact us at office@lcor.org.
URL:https://lcor.org/events-calendar/orccc-board-meeting-6/2024-03-20/
CATEGORIES:ORCCC,Worship & Music
END:VEVENT
BEGIN:VEVENT
DTSTART;TZID=UTC:20240319T183000
DTEND;TZID=UTC:20240319T183000
DTSTAMP:20260422T215650
CREATED:20240229T223913Z
LAST-MODIFIED:20240229T223913Z
UID:10001838-1710873000-1710873000@lcor.org
SUMMARY:Social Ministry Meeting
DESCRIPTION:For more information\, please contact us at office@lcor.org.
URL:https://lcor.org/events-calendar/social-ministry-meeting-5/
CATEGORIES:Social Ministry
END:VEVENT
BEGIN:VEVENT
DTSTART;TZID=UTC:20240318T073000
DTEND;TZID=UTC:20240318T073000
DTSTAMP:20260422T215650
CREATED:20230807T163442Z
LAST-MODIFIED:20230807T163442Z
UID:10001668-1710747000-1710747000@lcor.org
SUMMARY:Ladies Bible Study via Zoom
DESCRIPTION:Join us every Monday and Thursday! \nFor more information\, email us at office@lcor.org.
URL:https://lcor.org/events-calendar/ladies-bible-study-via-zoom-5/2024-03-18/
END:VEVENT
BEGIN:VEVENT
DTSTART;TZID=UTC:20240317T103000
DTEND;TZID=UTC:20240317T103000
DTSTAMP:20260422T215650
CREATED:20230802T173432Z
LAST-MODIFIED:20230807T162503Z
UID:10001630-1710671400-1710671400@lcor.org
SUMMARY:Traditional Worship
DESCRIPTION:Join us Sundays at 10:30 am for our Traditional Worship Service. \nFor questions or to inquire more information\, please contact office@lcor.org.
URL:https://lcor.org/events-calendar/traditional-worship-service/2024-03-17/
CATEGORIES:Worship & Music
END:VEVENT
BEGIN:VEVENT
DTSTART;TZID=UTC:20240317T093000
DTEND;TZID=UTC:20240317T093000
DTSTAMP:20260422T215650
CREATED:20230802T172728Z
LAST-MODIFIED:20230907T152204Z
UID:10001738-1710667800-1710667800@lcor.org
SUMMARY:Fellowship; Christian Ed.
DESCRIPTION:Join us for an opportunity to connect\, chat\, socialize and learn between our Sunday Worship Services. Visit our Adult Sunday School Page to see the upcoming schedule.
URL:https://lcor.org/events-calendar/coffee-and-fellowship-2023-09-24/2024-03-17/
CATEGORIES:Social Event
END:VEVENT
BEGIN:VEVENT
DTSTART;TZID=UTC:20240317T083000
DTEND;TZID=UTC:20240317T083000
DTSTAMP:20260422T215650
CREATED:20230802T172019Z
LAST-MODIFIED:20230802T173611Z
UID:10001591-1710664200-1710664200@lcor.org
SUMMARY:Contemporary Worship
DESCRIPTION:Join us Sundays at 8:30 am for our Contemporary Worship Service. \nFor questions or to inquire more information\, please contact office@lcor.org.
URL:https://lcor.org/events-calendar/contemporary-worship-2/2024-03-17/
CATEGORIES:Worship & Music
END:VEVENT
BEGIN:VEVENT
DTSTART;TZID=UTC:20240316T084500
DTEND;TZID=UTC:20240316T084500
DTSTAMP:20260422T215650
CREATED:20240229T223724Z
LAST-MODIFIED:20240229T223724Z
UID:10001836-1710578700-1710578700@lcor.org
SUMMARY:Food-N-Friends
DESCRIPTION:For more information\, please contact us at office@lcor.org.
URL:https://lcor.org/events-calendar/food-n-friends-3/
CATEGORIES:Social Ministry
END:VEVENT
BEGIN:VEVENT
DTSTART;TZID=UTC:20240316T080000
DTEND;TZID=UTC:20240316T080000
DTSTAMP:20260422T215650
CREATED:20240229T223834Z
LAST-MODIFIED:20240229T223834Z
UID:10001837-1710576000-1710576000@lcor.org
SUMMARY:Newsletter Deadline
DESCRIPTION:For more information\, please contact us at office@lcor.org.
URL:https://lcor.org/events-calendar/newsletter-deadline-6/
CATEGORIES:Administration
END:VEVENT
BEGIN:VEVENT
DTSTART;TZID=UTC:20240314T073000
DTEND;TZID=UTC:20240314T073000
DTSTAMP:20260422T215650
CREATED:20230807T163627Z
LAST-MODIFIED:20230907T161914Z
UID:10001705-1710401400-1710401400@lcor.org
SUMMARY:Ladies Bible Study via Zoom
DESCRIPTION:Join us every Monday and Thursday! \nFor more information\, email us at office@lcor.org.
URL:https://lcor.org/events-calendar/ladies-bible-stude-via-zoom/2024-03-14/
END:VEVENT
BEGIN:VEVENT
DTSTART;TZID=UTC:20240313T183000
DTEND;TZID=UTC:20240313T183000
DTSTAMP:20260422T215650
CREATED:20240229T222802Z
LAST-MODIFIED:20240229T223004Z
UID:10001830-1710354600-1710354600@lcor.org
SUMMARY:Lenten Soup and Scripture
DESCRIPTION:Please join us on Wednesday evenings\, March 6th\, March 13th\, and March 20th.  We’ll cover a passage in John and discuss how the lesson applies to us in 2024. \nSoup is served at 6:30 pm – feel free to bring your own salad or sandwich. Our study will begin at 7:00 pm. \nFor more information\, please contact us at office@lcor.org.
URL:https://lcor.org/events-calendar/orccc-board-meeting-6/2024-03-13/
CATEGORIES:ORCCC,Worship & Music
END:VEVENT
BEGIN:VEVENT
DTSTART;TZID=UTC:20240312T183000
DTEND;TZID=UTC:20240312T183000
DTSTAMP:20260422T215650
CREATED:20240229T223608Z
LAST-MODIFIED:20240229T223608Z
UID:10001835-1710268200-1710268200@lcor.org
SUMMARY:Finance Meeting
DESCRIPTION:For more information\, please contact us at office@lcor.org.
URL:https://lcor.org/events-calendar/finance-meeting-9/
CATEGORIES:Finance Committee
END:VEVENT
BEGIN:VEVENT
DTSTART;TZID=UTC:20240311T183000
DTEND;TZID=UTC:20240311T183000
DTSTAMP:20260422T215650
CREATED:20240229T223533Z
LAST-MODIFIED:20240229T223533Z
UID:10001834-1710181800-1710181800@lcor.org
SUMMARY:Worship and Music Meeting
DESCRIPTION:For more information\, please contact us at office@lcor.org.
URL:https://lcor.org/events-calendar/worship-and-music-meeting-4/
CATEGORIES:Worship & Music
END:VEVENT
BEGIN:VEVENT
DTSTART;TZID=UTC:20240311T073000
DTEND;TZID=UTC:20240311T073000
DTSTAMP:20260422T215650
CREATED:20230807T163442Z
LAST-MODIFIED:20230807T163442Z
UID:10001667-1710142200-1710142200@lcor.org
SUMMARY:Ladies Bible Study via Zoom
DESCRIPTION:Join us every Monday and Thursday! \nFor more information\, email us at office@lcor.org.
URL:https://lcor.org/events-calendar/ladies-bible-study-via-zoom-5/2024-03-11/
END:VEVENT
BEGIN:VEVENT
DTSTART;TZID=UTC:20240310T140000
DTEND;TZID=UTC:20240310T140000
DTSTAMP:20260422T215650
CREATED:20240229T223323Z
LAST-MODIFIED:20240229T223323Z
UID:10001833-1710079200-1710079200@lcor.org
SUMMARY:First Communion Class
DESCRIPTION:This class is for anyone ready to celebrate their First Communion. There are no age requirements. Parent/Guardian(s) of school-aged students will need to attend with their children. Please sign up on the bulletin board or by emailing or calling the church office by March 3.
URL:https://lcor.org/events-calendar/first-communion-class-3/
CATEGORIES:Worship & Music
END:VEVENT
END:VCALENDAR