BEGIN:VCALENDAR
VERSION:2.0
PRODID:-//Lutheran Church of Our Redeemer - ECPv6.15.20//NONSGML v1.0//EN
CALSCALE:GREGORIAN
METHOD:PUBLISH
X-WR-CALNAME:Lutheran Church of Our Redeemer
X-ORIGINAL-URL:https://lcor.org
X-WR-CALDESC:Events for Lutheran Church of Our Redeemer
REFRESH-INTERVAL;VALUE=DURATION:PT1H
X-Robots-Tag:noindex
X-PUBLISHED-TTL:PT1H
BEGIN:VTIMEZONE
TZID:UTC
BEGIN:STANDARD
TZOFFSETFROM:+0000
TZOFFSETTO:+0000
TZNAME:UTC
DTSTART:20220101T000000
END:STANDARD
END:VTIMEZONE
BEGIN:VEVENT
DTSTART;TZID=UTC:20231105T083000
DTEND;TZID=UTC:20231105T083000
DTSTAMP:20260423T083637
CREATED:20230802T172019Z
LAST-MODIFIED:20230802T173611Z
UID:10001572-1699173000-1699173000@lcor.org
SUMMARY:Contemporary Worship
DESCRIPTION:Join us Sundays at 8:30 am for our Contemporary Worship Service. \nFor questions or to inquire more information\, please contact office@lcor.org.
URL:https://lcor.org/events-calendar/contemporary-worship-2/2023-11-05/
CATEGORIES:Worship & Music
END:VEVENT
BEGIN:VEVENT
DTSTART;TZID=UTC:20231102T073000
DTEND;TZID=UTC:20231102T073000
DTSTAMP:20260423T083637
CREATED:20230807T163627Z
LAST-MODIFIED:20230907T161914Z
UID:10001686-1698910200-1698910200@lcor.org
SUMMARY:Ladies Bible Study via Zoom
DESCRIPTION:Join us every Monday and Thursday! \nFor more information\, email us at office@lcor.org.
URL:https://lcor.org/events-calendar/ladies-bible-stude-via-zoom/2023-11-02/
END:VEVENT
BEGIN:VEVENT
DTSTART;TZID=UTC:20231030T073000
DTEND;TZID=UTC:20231030T073000
DTSTAMP:20260423T083637
CREATED:20230807T163442Z
LAST-MODIFIED:20230807T163442Z
UID:10001648-1698651000-1698651000@lcor.org
SUMMARY:Ladies Bible Study via Zoom
DESCRIPTION:Join us every Monday and Thursday! \nFor more information\, email us at office@lcor.org.
URL:https://lcor.org/events-calendar/ladies-bible-study-via-zoom-5/2023-10-30/
END:VEVENT
BEGIN:VEVENT
DTSTART;TZID=UTC:20231029T183000
DTEND;TZID=UTC:20231029T183000
DTSTAMP:20260423T083638
CREATED:20230831T144245Z
LAST-MODIFIED:20230831T144245Z
UID:10001764-1698604200-1698604200@lcor.org
SUMMARY:Confirmation Class
DESCRIPTION:For more information email us at office@lcor.org
URL:https://lcor.org/events-calendar/confirmation-class-3/2023-10-29/
CATEGORIES:Christian Education
END:VEVENT
BEGIN:VEVENT
DTSTART;TZID=UTC:20231029T103000
DTEND;TZID=UTC:20231029T103000
DTSTAMP:20260423T083638
CREATED:20230802T173432Z
LAST-MODIFIED:20230807T162503Z
UID:10001610-1698575400-1698575400@lcor.org
SUMMARY:Traditional Worship
DESCRIPTION:Join us Sundays at 10:30 am for our Traditional Worship Service. \nFor questions or to inquire more information\, please contact office@lcor.org.
URL:https://lcor.org/events-calendar/traditional-worship-service/2023-10-29/
CATEGORIES:Worship & Music
END:VEVENT
BEGIN:VEVENT
DTSTART;TZID=UTC:20231029T093000
DTEND;TZID=UTC:20231029T093000
DTSTAMP:20260423T083638
CREATED:20230802T172728Z
LAST-MODIFIED:20230907T152204Z
UID:10001724-1698571800-1698571800@lcor.org
SUMMARY:Fellowship; Christian Ed.
DESCRIPTION:Join us for an opportunity to connect\, chat\, socialize and learn between our Sunday Worship Services. Visit our Adult Sunday School Page to see the upcoming schedule.
URL:https://lcor.org/events-calendar/coffee-and-fellowship-2023-09-24/2023-10-29/
CATEGORIES:Social Event
END:VEVENT
BEGIN:VEVENT
DTSTART;TZID=UTC:20231029T083000
DTEND;TZID=UTC:20231029T083000
DTSTAMP:20260423T083638
CREATED:20230802T172019Z
LAST-MODIFIED:20230802T173611Z
UID:10001571-1698568200-1698568200@lcor.org
SUMMARY:Contemporary Worship
DESCRIPTION:Join us Sundays at 8:30 am for our Contemporary Worship Service. \nFor questions or to inquire more information\, please contact office@lcor.org.
URL:https://lcor.org/events-calendar/contemporary-worship-2/2023-10-29/
CATEGORIES:Worship & Music
END:VEVENT
BEGIN:VEVENT
DTSTART;TZID=UTC:20231029T080000
DTEND;TZID=UTC:20231029T080000
DTSTAMP:20260423T083638
CREATED:20231004T151045Z
LAST-MODIFIED:20231004T151045Z
UID:10001783-1698566400-1698566400@lcor.org
SUMMARY:Giving Sunday
DESCRIPTION:
URL:https://lcor.org/events-calendar/giving-sunday/
CATEGORIES:Stewardship Committee
END:VEVENT
BEGIN:VEVENT
DTSTART;TZID=UTC:20231028T150000
DTEND;TZID=UTC:20231028T150000
DTSTAMP:20260423T083638
CREATED:20230928T165138Z
LAST-MODIFIED:20230928T165138Z
UID:10001779-1698505200-1698505200@lcor.org
SUMMARY:New Members Class
DESCRIPTION:This Class will be offered to anyone interested in joining or learning more about LCOR. You may sign up on the church bulletin board or by emailing or calling the church office. Please do not hesitate to contact the pastor or church office with any questions.
URL:https://lcor.org/events-calendar/new-members-class-2/
CATEGORIES:Worship & Music
END:VEVENT
BEGIN:VEVENT
DTSTART;TZID=UTC:20231028T090000
DTEND;TZID=UTC:20231028T120000
DTSTAMP:20260423T083638
CREATED:20230928T165031Z
LAST-MODIFIED:20230928T165031Z
UID:10001778-1698483600-1698494400@lcor.org
SUMMARY:Fall Property Cleanup
DESCRIPTION:We are seeking 10-14 team members to help spruce up our beloved church and grounds. Some of the tasks at hand will be: \nExterior: Weeding\, mowing\, leaf/debris blowing\, trimming\, hedging\, sweeping grounds\nInterior: Kitchen\, appliances\, windows\, pews and entrances\nNeeds: Working clothes\, Gloves\, Wheel Barrels\, Rakes\, Blowers\, Tarps\, some rain gear in case we have any light rain. \n\nLunch will be served and water available. Please contact us at office@lcor.org\, if you are able to lend a hand. Your help makes a difference to the property of our LCOR Property.
URL:https://lcor.org/events-calendar/fall-property-cleanup/
CATEGORIES:Buildings & Grounds
END:VEVENT
BEGIN:VEVENT
DTSTART;TZID=UTC:20231026T190000
DTEND;TZID=UTC:20231026T190000
DTSTAMP:20260423T083638
CREATED:20230928T164641Z
LAST-MODIFIED:20230928T164641Z
UID:10001777-1698346800-1698346800@lcor.org
SUMMARY:Book Club
DESCRIPTION:Crashing Through: The Extraordinary True Story of the Man Who Dared to See by Robert Kurson. \n For more details\, email us at office@lcor.org
URL:https://lcor.org/events-calendar/book-club/
CATEGORIES:Social Event
END:VEVENT
BEGIN:VEVENT
DTSTART;TZID=UTC:20231026T073000
DTEND;TZID=UTC:20231026T073000
DTSTAMP:20260423T083638
CREATED:20230807T163627Z
LAST-MODIFIED:20230907T161914Z
UID:10001685-1698305400-1698305400@lcor.org
SUMMARY:Ladies Bible Study via Zoom
DESCRIPTION:Join us every Monday and Thursday! \nFor more information\, email us at office@lcor.org.
URL:https://lcor.org/events-calendar/ladies-bible-stude-via-zoom/2023-10-26/
END:VEVENT
BEGIN:VEVENT
DTSTART;TZID=UTC:20231024T183000
DTEND;TZID=UTC:20231024T183000
DTSTAMP:20260423T083638
CREATED:20230928T163812Z
LAST-MODIFIED:20230928T163812Z
UID:10001776-1698172200-1698172200@lcor.org
SUMMARY:Social Ministry Meeting
DESCRIPTION:For more details\, email us at office@lcor.org.
URL:https://lcor.org/events-calendar/social-ministry-meeting-4/
CATEGORIES:Social Ministry
END:VEVENT
BEGIN:VEVENT
DTSTART;TZID=UTC:20231023T073000
DTEND;TZID=UTC:20231023T073000
DTSTAMP:20260423T083638
CREATED:20230807T163442Z
LAST-MODIFIED:20230807T163442Z
UID:10001647-1698046200-1698046200@lcor.org
SUMMARY:Ladies Bible Study via Zoom
DESCRIPTION:Join us every Monday and Thursday! \nFor more information\, email us at office@lcor.org.
URL:https://lcor.org/events-calendar/ladies-bible-study-via-zoom-5/2023-10-23/
END:VEVENT
BEGIN:VEVENT
DTSTART;TZID=UTC:20231022T183000
DTEND;TZID=UTC:20231022T183000
DTSTAMP:20260423T083638
CREATED:20230831T144245Z
LAST-MODIFIED:20230831T144245Z
UID:10001763-1697999400-1697999400@lcor.org
SUMMARY:Confirmation Class
DESCRIPTION:For more information email us at office@lcor.org
URL:https://lcor.org/events-calendar/confirmation-class-3/2023-10-22/
CATEGORIES:Christian Education
END:VEVENT
BEGIN:VEVENT
DTSTART;TZID=UTC:20231022T103000
DTEND;TZID=UTC:20231022T103000
DTSTAMP:20260423T083638
CREATED:20230802T173432Z
LAST-MODIFIED:20230807T162503Z
UID:10001609-1697970600-1697970600@lcor.org
SUMMARY:Traditional Worship
DESCRIPTION:Join us Sundays at 10:30 am for our Traditional Worship Service. \nFor questions or to inquire more information\, please contact office@lcor.org.
URL:https://lcor.org/events-calendar/traditional-worship-service/2023-10-22/
CATEGORIES:Worship & Music
END:VEVENT
BEGIN:VEVENT
DTSTART;TZID=UTC:20231022T093000
DTEND;TZID=UTC:20231022T093000
DTSTAMP:20260423T083638
CREATED:20230802T172728Z
LAST-MODIFIED:20230907T152204Z
UID:10001723-1697967000-1697967000@lcor.org
SUMMARY:Fellowship; Christian Ed.
DESCRIPTION:Join us for an opportunity to connect\, chat\, socialize and learn between our Sunday Worship Services. Visit our Adult Sunday School Page to see the upcoming schedule.
URL:https://lcor.org/events-calendar/coffee-and-fellowship-2023-09-24/2023-10-22/
CATEGORIES:Social Event
END:VEVENT
BEGIN:VEVENT
DTSTART;TZID=UTC:20231022T083000
DTEND;TZID=UTC:20231022T083000
DTSTAMP:20260423T083638
CREATED:20230802T172019Z
LAST-MODIFIED:20230802T173611Z
UID:10001570-1697963400-1697963400@lcor.org
SUMMARY:Contemporary Worship
DESCRIPTION:Join us Sundays at 8:30 am for our Contemporary Worship Service. \nFor questions or to inquire more information\, please contact office@lcor.org.
URL:https://lcor.org/events-calendar/contemporary-worship-2/2023-10-22/
CATEGORIES:Worship & Music
END:VEVENT
BEGIN:VEVENT
DTSTART;TZID=UTC:20231021T080000
DTEND;TZID=UTC:20231021T080000
DTSTAMP:20260423T083638
CREATED:20230928T163713Z
LAST-MODIFIED:20230928T163713Z
UID:10001466-1697875200-1697875200@lcor.org
SUMMARY:Newsletter Deadline
DESCRIPTION:
URL:https://lcor.org/events-calendar/newsletter-deadline-2/
CATEGORIES:Administration
END:VEVENT
BEGIN:VEVENT
DTSTART;TZID=UTC:20231019T073000
DTEND;TZID=UTC:20231019T073000
DTSTAMP:20260423T083638
CREATED:20230807T163627Z
LAST-MODIFIED:20230907T161914Z
UID:10001684-1697700600-1697700600@lcor.org
SUMMARY:Ladies Bible Study via Zoom
DESCRIPTION:Join us every Monday and Thursday! \nFor more information\, email us at office@lcor.org.
URL:https://lcor.org/events-calendar/ladies-bible-stude-via-zoom/2023-10-19/
END:VEVENT
BEGIN:VEVENT
DTSTART;TZID=UTC:20231017T190000
DTEND;TZID=UTC:20231017T190000
DTSTAMP:20260423T083638
CREATED:20230928T163559Z
LAST-MODIFIED:20230928T163559Z
UID:10001464-1697569200-1697569200@lcor.org
SUMMARY:Church Council Meeting
DESCRIPTION:For more details\, email us at office@lcor.org.
URL:https://lcor.org/events-calendar/church-council-meeting-2/
CATEGORIES:Council Meetings
END:VEVENT
BEGIN:VEVENT
DTSTART;TZID=UTC:20231016T183000
DTEND;TZID=UTC:20231016T183000
DTSTAMP:20260423T083638
CREATED:20230928T162023Z
LAST-MODIFIED:20231005T195326Z
UID:10001456-1697481000-1697481000@lcor.org
SUMMARY:Worship and Music Ministry Meeting
DESCRIPTION:For more details\, email us at office@lcor.org.
URL:https://lcor.org/events-calendar/worship-and-music-ministry-meeting/
CATEGORIES:Worship & Music
END:VEVENT
BEGIN:VEVENT
DTSTART;TZID=UTC:20231016T073000
DTEND;TZID=UTC:20231016T073000
DTSTAMP:20260423T083638
CREATED:20230807T163442Z
LAST-MODIFIED:20230807T163442Z
UID:10001646-1697441400-1697441400@lcor.org
SUMMARY:Ladies Bible Study via Zoom
DESCRIPTION:Join us every Monday and Thursday! \nFor more information\, email us at office@lcor.org.
URL:https://lcor.org/events-calendar/ladies-bible-study-via-zoom-5/2023-10-16/
END:VEVENT
BEGIN:VEVENT
DTSTART;TZID=UTC:20231015T183000
DTEND;TZID=UTC:20231015T183000
DTSTAMP:20260423T083638
CREATED:20230831T144245Z
LAST-MODIFIED:20230831T144245Z
UID:10001762-1697394600-1697394600@lcor.org
SUMMARY:Confirmation Class
DESCRIPTION:For more information email us at office@lcor.org
URL:https://lcor.org/events-calendar/confirmation-class-3/2023-10-15/
CATEGORIES:Christian Education
END:VEVENT
BEGIN:VEVENT
DTSTART;TZID=UTC:20231015T140000
DTEND;TZID=UTC:20231015T170000
DTSTAMP:20260423T083638
CREATED:20230928T163447Z
LAST-MODIFIED:20230928T163447Z
UID:10001462-1697378400-1697389200@lcor.org
SUMMARY:First Communion Class
DESCRIPTION:This class is for anyone ready to celebrate their First Communion. There are no age requirements. Parent/Guardian (s) of elementary-aged students will need to attend with their children. Please sign up on the bulletin board or by emailing or calling the church office by October 8.
URL:https://lcor.org/events-calendar/first-communion-class-2/
CATEGORIES:Worship & Music
END:VEVENT
BEGIN:VEVENT
DTSTART;TZID=UTC:20231015T103000
DTEND;TZID=UTC:20231015T103000
DTSTAMP:20260423T083638
CREATED:20230802T173432Z
LAST-MODIFIED:20230807T162503Z
UID:10001608-1697365800-1697365800@lcor.org
SUMMARY:Traditional Worship
DESCRIPTION:Join us Sundays at 10:30 am for our Traditional Worship Service. \nFor questions or to inquire more information\, please contact office@lcor.org.
URL:https://lcor.org/events-calendar/traditional-worship-service/2023-10-15/
CATEGORIES:Worship & Music
END:VEVENT
BEGIN:VEVENT
DTSTART;TZID=UTC:20231015T093000
DTEND;TZID=UTC:20231015T093000
DTSTAMP:20260423T083638
CREATED:20230802T172728Z
LAST-MODIFIED:20230907T152204Z
UID:10001722-1697362200-1697362200@lcor.org
SUMMARY:Fellowship; Christian Ed.
DESCRIPTION:Join us for an opportunity to connect\, chat\, socialize and learn between our Sunday Worship Services. Visit our Adult Sunday School Page to see the upcoming schedule.
URL:https://lcor.org/events-calendar/coffee-and-fellowship-2023-09-24/2023-10-15/
CATEGORIES:Social Event
END:VEVENT
BEGIN:VEVENT
DTSTART;TZID=UTC:20231015T083000
DTEND;TZID=UTC:20231015T083000
DTSTAMP:20260423T083638
CREATED:20230802T172019Z
LAST-MODIFIED:20230802T173611Z
UID:10001569-1697358600-1697358600@lcor.org
SUMMARY:Contemporary Worship
DESCRIPTION:Join us Sundays at 8:30 am for our Contemporary Worship Service. \nFor questions or to inquire more information\, please contact office@lcor.org.
URL:https://lcor.org/events-calendar/contemporary-worship-2/2023-10-15/
CATEGORIES:Worship & Music
END:VEVENT
BEGIN:VEVENT
DTSTART;TZID=UTC:20231014T140000
DTEND;TZID=UTC:20231014T140000
DTSTAMP:20260423T083638
CREATED:20230928T163236Z
LAST-MODIFIED:20231004T150605Z
UID:10001460-1697292000-1697292000@lcor.org
SUMMARY:Blessing of the Animals
DESCRIPTION:Lutheran Church of Our Redeemer will be hosting a Blessing of the Animals event in the church parking lot. Bring your pets for a time of thanksgiving and prayer for them. A special free-will offering will be taken to support the Mansfield Animal Shelter. Please note: This event will be outside\, rain or shine\, and all animals must be with their owners and on their leash or in a carrier/terrarium at all times. \nFor more details\, email us at office@lcor.org.
URL:https://lcor.org/events-calendar/blessings-of-the-animals/
CATEGORIES:Social Ministry,Worship & Music
END:VEVENT
BEGIN:VEVENT
DTSTART;TZID=UTC:20231014T090000
DTEND;TZID=UTC:20231014T090000
DTSTAMP:20260423T083638
CREATED:20231004T150412Z
LAST-MODIFIED:20231004T150412Z
UID:10001781-1697274000-1697274000@lcor.org
SUMMARY:Coast Sweep
DESCRIPTION:Join us to clean the shores of our local reservoir. This nationwide coastal cleanup not only beautifies our environment\, but also provides vital data to policy makers as we all work to be good stewards of God’s gifts. For more information email us at office@lcor.org.
URL:https://lcor.org/events-calendar/coast-sweep/
CATEGORIES:Social Ministry
END:VEVENT
END:VCALENDAR