BEGIN:VCALENDAR
VERSION:2.0
PRODID:-//Lutheran Church of Our Redeemer - ECPv6.15.20//NONSGML v1.0//EN
CALSCALE:GREGORIAN
METHOD:PUBLISH
X-WR-CALNAME:Lutheran Church of Our Redeemer
X-ORIGINAL-URL:https://lcor.org
X-WR-CALDESC:Events for Lutheran Church of Our Redeemer
REFRESH-INTERVAL;VALUE=DURATION:PT1H
X-Robots-Tag:noindex
X-PUBLISHED-TTL:PT1H
BEGIN:VTIMEZONE
TZID:UTC
BEGIN:STANDARD
TZOFFSETFROM:+0000
TZOFFSETTO:+0000
TZNAME:UTC
DTSTART:20220101T000000
END:STANDARD
END:VTIMEZONE
BEGIN:VEVENT
DTSTART;TZID=UTC:20240117T190000
DTEND;TZID=UTC:20240117T190000
DTSTAMP:20260422T222931
CREATED:20231221T144747Z
LAST-MODIFIED:20231221T144747Z
UID:10001808-1705518000-1705518000@lcor.org
SUMMARY:Church Council Meeting
DESCRIPTION:
URL:https://lcor.org/events-calendar/church-council-meeting-4/
CATEGORIES:Council Meetings
END:VEVENT
BEGIN:VEVENT
DTSTART;TZID=UTC:20240115T080000
DTEND;TZID=UTC:20240115T080000
DTSTAMP:20260422T222931
CREATED:20231221T144439Z
LAST-MODIFIED:20231221T144439Z
UID:10001807-1705305600-1705305600@lcor.org
SUMMARY:Office Closed
DESCRIPTION:Office hours 9:00 am – 2:00 pm will resume on Tuesday\, January 16\, 2024.
URL:https://lcor.org/events-calendar/office-closed-6/
CATEGORIES:Administration
END:VEVENT
BEGIN:VEVENT
DTSTART;TZID=UTC:20240115T073000
DTEND;TZID=UTC:20240115T073000
DTSTAMP:20260422T222931
CREATED:20230807T163442Z
LAST-MODIFIED:20230807T163442Z
UID:10001659-1705303800-1705303800@lcor.org
SUMMARY:Ladies Bible Study via Zoom
DESCRIPTION:Join us every Monday and Thursday! \nFor more information\, email us at office@lcor.org.
URL:https://lcor.org/events-calendar/ladies-bible-study-via-zoom-5/2024-01-15/
END:VEVENT
BEGIN:VEVENT
DTSTART;TZID=UTC:20240114T183000
DTEND;TZID=UTC:20240114T183000
DTSTAMP:20260422T222931
CREATED:20230907T161307Z
LAST-MODIFIED:20230907T161307Z
UID:10001440-1705257000-1705257000@lcor.org
SUMMARY:Confirmation Class
DESCRIPTION:
URL:https://lcor.org/events-calendar/confirmation-class-5/2024-01-14/
CATEGORIES:Christian Education
END:VEVENT
BEGIN:VEVENT
DTSTART;TZID=UTC:20240114T103000
DTEND;TZID=UTC:20240114T103000
DTSTAMP:20260422T222931
CREATED:20230802T173432Z
LAST-MODIFIED:20230807T162503Z
UID:10001621-1705228200-1705228200@lcor.org
SUMMARY:Traditional Worship
DESCRIPTION:Join us Sundays at 10:30 am for our Traditional Worship Service. \nFor questions or to inquire more information\, please contact office@lcor.org.
URL:https://lcor.org/events-calendar/traditional-worship-service/2024-01-14/
CATEGORIES:Worship & Music
END:VEVENT
BEGIN:VEVENT
DTSTART;TZID=UTC:20240114T093000
DTEND;TZID=UTC:20240114T093000
DTSTAMP:20260422T222931
CREATED:20230802T172728Z
LAST-MODIFIED:20230907T154625Z
UID:10001750-1705224600-1705224600@lcor.org
SUMMARY:Fellowship; Adult Sunday School Only
DESCRIPTION:Join us for an opportunity to connect\, chat\, socialize and learn between our Sunday Worship Services. Visit our Adult Sunday School Page to see the upcoming schedule.
URL:https://lcor.org/events-calendar/coffee-and-fellowship-2024-01-14/
CATEGORIES:Social Event
END:VEVENT
BEGIN:VEVENT
DTSTART;TZID=UTC:20240114T083000
DTEND;TZID=UTC:20240114T083000
DTSTAMP:20260422T222931
CREATED:20230802T172019Z
LAST-MODIFIED:20230802T173611Z
UID:10001582-1705221000-1705221000@lcor.org
SUMMARY:Contemporary Worship
DESCRIPTION:Join us Sundays at 8:30 am for our Contemporary Worship Service. \nFor questions or to inquire more information\, please contact office@lcor.org.
URL:https://lcor.org/events-calendar/contemporary-worship-2/2024-01-14/
CATEGORIES:Worship & Music
END:VEVENT
BEGIN:VEVENT
DTSTART;TZID=UTC:20240111T180000
DTEND;TZID=UTC:20240111T180000
DTSTAMP:20260422T222931
CREATED:20231221T144311Z
LAST-MODIFIED:20231221T144311Z
UID:10001806-1704996000-1704996000@lcor.org
SUMMARY:ORCCC Board Meeting
DESCRIPTION:
URL:https://lcor.org/events-calendar/orccc-board-meeting-4/
CATEGORIES:ORCCC
END:VEVENT
BEGIN:VEVENT
DTSTART;TZID=UTC:20240111T073000
DTEND;TZID=UTC:20240111T073000
DTSTAMP:20260422T222931
CREATED:20230807T163627Z
LAST-MODIFIED:20230907T161914Z
UID:10001696-1704958200-1704958200@lcor.org
SUMMARY:Ladies Bible Study via Zoom
DESCRIPTION:Join us every Monday and Thursday! \nFor more information\, email us at office@lcor.org.
URL:https://lcor.org/events-calendar/ladies-bible-stude-via-zoom/2024-01-11/
END:VEVENT
BEGIN:VEVENT
DTSTART;TZID=UTC:20240110T190000
DTEND;TZID=UTC:20240110T190000
DTSTAMP:20260422T222931
CREATED:20231221T144240Z
LAST-MODIFIED:20231221T144240Z
UID:10001805-1704913200-1704913200@lcor.org
SUMMARY:Mutual Ministry Meeting
DESCRIPTION:
URL:https://lcor.org/events-calendar/mutual-ministry-meeting-6/
CATEGORIES:Mutual Ministry
END:VEVENT
BEGIN:VEVENT
DTSTART;TZID=UTC:20240108T183000
DTEND;TZID=UTC:20240108T183000
DTSTAMP:20260422T222931
CREATED:20231221T144023Z
LAST-MODIFIED:20231221T144023Z
UID:10001804-1704738600-1704738600@lcor.org
SUMMARY:Worship and Music Meeting
DESCRIPTION:
URL:https://lcor.org/events-calendar/worship-and-music-meeting-2/
CATEGORIES:Worship & Music
END:VEVENT
BEGIN:VEVENT
DTSTART;TZID=UTC:20240108T073000
DTEND;TZID=UTC:20240108T073000
DTSTAMP:20260422T222931
CREATED:20230807T163442Z
LAST-MODIFIED:20230807T163442Z
UID:10001658-1704699000-1704699000@lcor.org
SUMMARY:Ladies Bible Study via Zoom
DESCRIPTION:Join us every Monday and Thursday! \nFor more information\, email us at office@lcor.org.
URL:https://lcor.org/events-calendar/ladies-bible-study-via-zoom-5/2024-01-08/
END:VEVENT
BEGIN:VEVENT
DTSTART;TZID=UTC:20240107T183000
DTEND;TZID=UTC:20240107T183000
DTSTAMP:20260422T222931
CREATED:20230907T161307Z
LAST-MODIFIED:20230907T161307Z
UID:10001439-1704652200-1704652200@lcor.org
SUMMARY:Confirmation Class
DESCRIPTION:
URL:https://lcor.org/events-calendar/confirmation-class-5/2024-01-07/
CATEGORIES:Christian Education
END:VEVENT
BEGIN:VEVENT
DTSTART;TZID=UTC:20240107T120000
DTEND;TZID=UTC:20240107T120000
DTSTAMP:20260422T222931
CREATED:20231221T143924Z
LAST-MODIFIED:20231221T143924Z
UID:10001803-1704628800-1704628800@lcor.org
SUMMARY:Community Life Lunch
DESCRIPTION:Join us every 1st Sunday of the month for lunch after church. This is an opportunity for good food\, fun and fellowship. For more details\, email us at office@lcor.org.
URL:https://lcor.org/events-calendar/community-life-lunch/
CATEGORIES:Community Life
END:VEVENT
BEGIN:VEVENT
DTSTART;TZID=UTC:20240107T103000
DTEND;TZID=UTC:20240107T103000
DTSTAMP:20260422T222931
CREATED:20230802T173432Z
LAST-MODIFIED:20230807T162503Z
UID:10001620-1704623400-1704623400@lcor.org
SUMMARY:Traditional Worship
DESCRIPTION:Join us Sundays at 10:30 am for our Traditional Worship Service. \nFor questions or to inquire more information\, please contact office@lcor.org.
URL:https://lcor.org/events-calendar/traditional-worship-service/2024-01-07/
CATEGORIES:Worship & Music
END:VEVENT
BEGIN:VEVENT
DTSTART;TZID=UTC:20240107T093000
DTEND;TZID=UTC:20240107T093000
DTSTAMP:20260422T222931
CREATED:20230802T172728Z
LAST-MODIFIED:20230907T152204Z
UID:10001731-1704619800-1704619800@lcor.org
SUMMARY:Fellowship; Christian Ed.
DESCRIPTION:Join us for an opportunity to connect\, chat\, socialize and learn between our Sunday Worship Services. Visit our Adult Sunday School Page to see the upcoming schedule.
URL:https://lcor.org/events-calendar/coffee-and-fellowship-2023-09-24/2024-01-07/
CATEGORIES:Social Event
END:VEVENT
BEGIN:VEVENT
DTSTART;TZID=UTC:20240107T083000
DTEND;TZID=UTC:20240107T083000
DTSTAMP:20260422T222931
CREATED:20230802T172019Z
LAST-MODIFIED:20230802T173611Z
UID:10001581-1704616200-1704616200@lcor.org
SUMMARY:Contemporary Worship
DESCRIPTION:Join us Sundays at 8:30 am for our Contemporary Worship Service. \nFor questions or to inquire more information\, please contact office@lcor.org.
URL:https://lcor.org/events-calendar/contemporary-worship-2/2024-01-07/
CATEGORIES:Worship & Music
END:VEVENT
BEGIN:VEVENT
DTSTART;TZID=UTC:20240104T073000
DTEND;TZID=UTC:20240104T073000
DTSTAMP:20260422T222931
CREATED:20230807T163627Z
LAST-MODIFIED:20230907T161914Z
UID:10001695-1704353400-1704353400@lcor.org
SUMMARY:Ladies Bible Study via Zoom
DESCRIPTION:Join us every Monday and Thursday! \nFor more information\, email us at office@lcor.org.
URL:https://lcor.org/events-calendar/ladies-bible-stude-via-zoom/2024-01-04/
END:VEVENT
BEGIN:VEVENT
DTSTART;TZID=UTC:20240101T080000
DTEND;TZID=UTC:20240101T080000
DTSTAMP:20260422T222931
CREATED:20231221T143745Z
LAST-MODIFIED:20231221T143745Z
UID:10001802-1704096000-1704096000@lcor.org
SUMMARY:Office Closed
DESCRIPTION:Office Hours 9:00 am – 2:00 pm will resume on Tuesday\, January 2nd\, 2024.
URL:https://lcor.org/events-calendar/office-closed-5/
CATEGORIES:Administration
END:VEVENT
BEGIN:VEVENT
DTSTART;TZID=UTC:20240101T073000
DTEND;TZID=UTC:20240101T073000
DTSTAMP:20260422T222931
CREATED:20230807T163442Z
LAST-MODIFIED:20230807T163442Z
UID:10001657-1704094200-1704094200@lcor.org
SUMMARY:Ladies Bible Study via Zoom
DESCRIPTION:Join us every Monday and Thursday! \nFor more information\, email us at office@lcor.org.
URL:https://lcor.org/events-calendar/ladies-bible-study-via-zoom-5/2024-01-01/
END:VEVENT
BEGIN:VEVENT
DTSTART;TZID=UTC:20231231T100000
DTEND;TZID=UTC:20231231T100000
DTSTAMP:20260422T222931
CREATED:20231129T185137Z
LAST-MODIFIED:20231129T185214Z
UID:10001580-1704016800-1704016800@lcor.org
SUMMARY:Contemporary Worship
DESCRIPTION:Join us New Year’s Eve Day for our Contemporary Worship Service at 10:00 am. \nFor questions or to inquire more information\, please contact office@lcor.org.
URL:https://lcor.org/events-calendar/contemporary-worship-3/
CATEGORIES:Worship & Music
END:VEVENT
BEGIN:VEVENT
DTSTART;TZID=UTC:20231228T073000
DTEND;TZID=UTC:20231228T073000
DTSTAMP:20260422T222931
CREATED:20230807T163627Z
LAST-MODIFIED:20230907T161914Z
UID:10001694-1703748600-1703748600@lcor.org
SUMMARY:Ladies Bible Study via Zoom
DESCRIPTION:Join us every Monday and Thursday! \nFor more information\, email us at office@lcor.org.
URL:https://lcor.org/events-calendar/ladies-bible-stude-via-zoom/2023-12-28/
END:VEVENT
BEGIN:VEVENT
DTSTART;TZID=UTC:20231225T080000
DTEND;TZID=UTC:20231225T080000
DTSTAMP:20260422T222931
CREATED:20231130T164411Z
LAST-MODIFIED:20231130T164423Z
UID:10001801-1703491200-1703491200@lcor.org
SUMMARY:Office Closed
DESCRIPTION:Church office hours will resume on Tuesday December 26th at 9am.
URL:https://lcor.org/events-calendar/office-closed-4/
CATEGORIES:Administration
END:VEVENT
BEGIN:VEVENT
DTSTART;TZID=UTC:20231225T073000
DTEND;TZID=UTC:20231225T073000
DTSTAMP:20260422T222931
CREATED:20230807T163442Z
LAST-MODIFIED:20230807T163442Z
UID:10001656-1703489400-1703489400@lcor.org
SUMMARY:Ladies Bible Study via Zoom
DESCRIPTION:Join us every Monday and Thursday! \nFor more information\, email us at office@lcor.org.
URL:https://lcor.org/events-calendar/ladies-bible-study-via-zoom-5/2023-12-25/
END:VEVENT
BEGIN:VEVENT
DTSTART;TZID=UTC:20231224T200000
DTEND;TZID=UTC:20231224T200000
DTSTAMP:20260422T222931
CREATED:20231129T183854Z
LAST-MODIFIED:20231129T183854Z
UID:10001796-1703448000-1703448000@lcor.org
SUMMARY:Christmas Eve Traditional Service
DESCRIPTION:
URL:https://lcor.org/events-calendar/christmas-eve-traditional-service/
CATEGORIES:Worship & Music
END:VEVENT
BEGIN:VEVENT
DTSTART;TZID=UTC:20231224T170000
DTEND;TZID=UTC:20231224T170000
DTSTAMP:20260422T222931
CREATED:20231129T183822Z
LAST-MODIFIED:20231129T183822Z
UID:10001795-1703437200-1703437200@lcor.org
SUMMARY:Christmas Eve Contemporary Service
DESCRIPTION:
URL:https://lcor.org/events-calendar/christmas-eve-contemporary-service/
END:VEVENT
BEGIN:VEVENT
DTSTART;TZID=UTC:20231224T100000
DTEND;TZID=UTC:20231224T100000
DTSTAMP:20260422T222931
CREATED:20231129T183547Z
LAST-MODIFIED:20231129T183741Z
UID:10001618-1703412000-1703412000@lcor.org
SUMMARY:Traditional Worship
DESCRIPTION:Join us Christmas Eve at 10:00 am for our Traditional Worship Service. \nPlease note\, we will be holding a 5:00pm and 8:00pm Christmas Eve Service. \nFor questions or to inquire more information\, please contact office@lcor.org.
URL:https://lcor.org/events-calendar/traditional-worship-2/
CATEGORIES:Worship & Music
END:VEVENT
BEGIN:VEVENT
DTSTART;TZID=UTC:20231221T073000
DTEND;TZID=UTC:20231221T073000
DTSTAMP:20260422T222931
CREATED:20230807T163627Z
LAST-MODIFIED:20230907T161914Z
UID:10001693-1703143800-1703143800@lcor.org
SUMMARY:Ladies Bible Study via Zoom
DESCRIPTION:Join us every Monday and Thursday! \nFor more information\, email us at office@lcor.org.
URL:https://lcor.org/events-calendar/ladies-bible-stude-via-zoom/2023-12-21/
END:VEVENT
BEGIN:VEVENT
DTSTART;TZID=UTC:20231218T073000
DTEND;TZID=UTC:20231218T073000
DTSTAMP:20260422T222931
CREATED:20230807T163442Z
LAST-MODIFIED:20230807T163442Z
UID:10001655-1702884600-1702884600@lcor.org
SUMMARY:Ladies Bible Study via Zoom
DESCRIPTION:Join us every Monday and Thursday! \nFor more information\, email us at office@lcor.org.
URL:https://lcor.org/events-calendar/ladies-bible-study-via-zoom-5/2023-12-18/
END:VEVENT
BEGIN:VEVENT
DTSTART;TZID=UTC:20231217T183000
DTEND;TZID=UTC:20231217T183000
DTSTAMP:20260422T222931
CREATED:20230831T144416Z
LAST-MODIFIED:20230831T144416Z
UID:10001770-1702837800-1702837800@lcor.org
SUMMARY:Confirmation Class
DESCRIPTION:For more information email us at office@lcor.org
URL:https://lcor.org/events-calendar/confirmation-class-4/2023-12-17/
CATEGORIES:Christian Education
END:VEVENT
END:VCALENDAR