BEGIN:VCALENDAR
VERSION:2.0
PRODID:-//Lutheran Church of Our Redeemer - ECPv6.15.20//NONSGML v1.0//EN
CALSCALE:GREGORIAN
METHOD:PUBLISH
X-WR-CALNAME:Lutheran Church of Our Redeemer
X-ORIGINAL-URL:https://lcor.org
X-WR-CALDESC:Events for Lutheran Church of Our Redeemer
REFRESH-INTERVAL;VALUE=DURATION:PT1H
X-Robots-Tag:noindex
X-PUBLISHED-TTL:PT1H
BEGIN:VTIMEZONE
TZID:UTC
BEGIN:STANDARD
TZOFFSETFROM:+0000
TZOFFSETTO:+0000
TZNAME:UTC
DTSTART:20240101T000000
END:STANDARD
END:VTIMEZONE
BEGIN:VEVENT
DTSTART;TZID=UTC:20250713T111500
DTEND;TZID=UTC:20250713T111500
DTSTAMP:20260420T022638
CREATED:20250702T183158Z
LAST-MODIFIED:20250702T183232Z
UID:10004101-1752405300-1752405300@lcor.org
SUMMARY:Eat Out After Church
DESCRIPTION:Join us at 11:15 am: Tavolino\, Patriot Place.
URL:https://lcor.org/events-calendar/eat-out-after-church-3/
CATEGORIES:Community Life
ATTACH;FMTTYPE=image/png:https://lcor.org/wp-content/uploads/2025/07/Eat-Out-After-Church-1115AM-1.png
END:VEVENT
BEGIN:VEVENT
DTSTART;TZID=UTC:20250714T071500
DTEND;TZID=UTC:20250714T081500
DTSTAMP:20260420T022638
CREATED:20250326T161740Z
LAST-MODIFIED:20250326T161740Z
UID:10003580-1752477300-1752480900@lcor.org
SUMMARY:Ladies Bible Study
DESCRIPTION:Looking for a refreshing pause in the midst of your busy week? Join us for our Ladies Bible Study via Zoom\, where we not only delve into meaningful conversations about faith but also build a supportive and nurturing community. Whether you’re new to Bible study or a seasoned participant\, come as you are\, from the comfort of your home\, and let’s grow spiritually together! We can’t wait to see you there. ✨
URL:https://lcor.org/events-calendar/ladies-bible-study-5/2025-07-14/
CATEGORIES:Bible Study
ATTACH;FMTTYPE=image/png:https://lcor.org/wp-content/uploads/2025/01/Ladies-Bible-study.png
END:VEVENT
BEGIN:VEVENT
DTSTART;TZID=UTC:20250717T071500
DTEND;TZID=UTC:20250717T081500
DTSTAMP:20260420T022638
CREATED:20250326T161740Z
LAST-MODIFIED:20250326T161740Z
UID:10003581-1752736500-1752740100@lcor.org
SUMMARY:Ladies Bible Study
DESCRIPTION:Looking for a refreshing pause in the midst of your busy week? Join us for our Ladies Bible Study via Zoom\, where we not only delve into meaningful conversations about faith but also build a supportive and nurturing community. Whether you’re new to Bible study or a seasoned participant\, come as you are\, from the comfort of your home\, and let’s grow spiritually together! We can’t wait to see you there. ✨
URL:https://lcor.org/events-calendar/ladies-bible-study-5/2025-07-17/
CATEGORIES:Bible Study
ATTACH;FMTTYPE=image/png:https://lcor.org/wp-content/uploads/2025/01/Ladies-Bible-study.png
END:VEVENT
BEGIN:VEVENT
DTSTART;TZID=UTC:20250720T083000
DTEND;TZID=UTC:20250720T083000
DTSTAMP:20260420T022638
CREATED:20250702T183812Z
LAST-MODIFIED:20250702T184003Z
UID:10004106-1753000200-1753000200@lcor.org
SUMMARY:Contemporary Worship
DESCRIPTION:
URL:https://lcor.org/events-calendar/contemporary-worship-6-2/2025-07-20/
CATEGORIES:Worship & Music
ATTACH;FMTTYPE=image/png:https://lcor.org/wp-content/uploads/2024/11/Screenshot-2024-11-13-141206.png
END:VEVENT
BEGIN:VEVENT
DTSTART;TZID=UTC:20250720T100000
DTEND;TZID=UTC:20250720T100000
DTSTAMP:20260420T022638
CREATED:20250602T185549Z
LAST-MODIFIED:20250602T185705Z
UID:10004095-1753005600-1753005600@lcor.org
SUMMARY:Traditional Worship
DESCRIPTION:Join us for our traditional worship service at 10:00am every Sunday.
URL:https://lcor.org/events-calendar/traditional-worship-1000/2025-07-20/
CATEGORIES:Worship & Music
END:VEVENT
BEGIN:VEVENT
DTSTART;TZID=UTC:20250720T123000
DTEND;TZID=UTC:20250720T150000
DTSTAMP:20260420T022638
CREATED:20250702T183417Z
LAST-MODIFIED:20250702T183450Z
UID:10004102-1753014600-1753023600@lcor.org
SUMMARY:Maples Ice Cream Social
DESCRIPTION:Ice Cream Social at Maples\, Wrentham from 1:00-3:00pm. Setup begins at 12:30. Help Serve Up Smiles at Our Sundae Social!
URL:https://lcor.org/events-calendar/maples-ice-cream-social/
CATEGORIES:Social Ministry
ATTACH;FMTTYPE=image/png:https://lcor.org/wp-content/uploads/2025/07/Maples-Sundae-2.png
END:VEVENT
BEGIN:VEVENT
DTSTART;TZID=UTC:20250721T071500
DTEND;TZID=UTC:20250721T081500
DTSTAMP:20260420T022638
CREATED:20250326T161740Z
LAST-MODIFIED:20250326T161740Z
UID:10003582-1753082100-1753085700@lcor.org
SUMMARY:Ladies Bible Study
DESCRIPTION:Looking for a refreshing pause in the midst of your busy week? Join us for our Ladies Bible Study via Zoom\, where we not only delve into meaningful conversations about faith but also build a supportive and nurturing community. Whether you’re new to Bible study or a seasoned participant\, come as you are\, from the comfort of your home\, and let’s grow spiritually together! We can’t wait to see you there. ✨
URL:https://lcor.org/events-calendar/ladies-bible-study-5/2025-07-21/
CATEGORIES:Bible Study
ATTACH;FMTTYPE=image/png:https://lcor.org/wp-content/uploads/2025/01/Ladies-Bible-study.png
END:VEVENT
BEGIN:VEVENT
DTSTART;TZID=UTC:20250724T071500
DTEND;TZID=UTC:20250724T081500
DTSTAMP:20260420T022638
CREATED:20250326T161740Z
LAST-MODIFIED:20250326T161740Z
UID:10003583-1753341300-1753344900@lcor.org
SUMMARY:Ladies Bible Study
DESCRIPTION:Looking for a refreshing pause in the midst of your busy week? Join us for our Ladies Bible Study via Zoom\, where we not only delve into meaningful conversations about faith but also build a supportive and nurturing community. Whether you’re new to Bible study or a seasoned participant\, come as you are\, from the comfort of your home\, and let’s grow spiritually together! We can’t wait to see you there. ✨
URL:https://lcor.org/events-calendar/ladies-bible-study-5/2025-07-24/
CATEGORIES:Bible Study
ATTACH;FMTTYPE=image/png:https://lcor.org/wp-content/uploads/2025/01/Ladies-Bible-study.png
END:VEVENT
BEGIN:VEVENT
DTSTART;TZID=UTC:20250727T083000
DTEND;TZID=UTC:20250727T083000
DTSTAMP:20260420T022638
CREATED:20250702T183812Z
LAST-MODIFIED:20250702T184003Z
UID:10004107-1753605000-1753605000@lcor.org
SUMMARY:Contemporary Worship
DESCRIPTION:
URL:https://lcor.org/events-calendar/contemporary-worship-6-2/2025-07-27/
CATEGORIES:Worship & Music
ATTACH;FMTTYPE=image/png:https://lcor.org/wp-content/uploads/2024/11/Screenshot-2024-11-13-141206.png
END:VEVENT
BEGIN:VEVENT
DTSTART;TZID=UTC:20250727T100000
DTEND;TZID=UTC:20250727T100000
DTSTAMP:20260420T022638
CREATED:20250602T185549Z
LAST-MODIFIED:20250602T185705Z
UID:10004096-1753610400-1753610400@lcor.org
SUMMARY:Traditional Worship
DESCRIPTION:Join us for our traditional worship service at 10:00am every Sunday.
URL:https://lcor.org/events-calendar/traditional-worship-1000/2025-07-27/
CATEGORIES:Worship & Music
END:VEVENT
BEGIN:VEVENT
DTSTART;TZID=UTC:20250728T071500
DTEND;TZID=UTC:20250728T081500
DTSTAMP:20260420T022638
CREATED:20250326T161740Z
LAST-MODIFIED:20250326T161740Z
UID:10003584-1753686900-1753690500@lcor.org
SUMMARY:Ladies Bible Study
DESCRIPTION:Looking for a refreshing pause in the midst of your busy week? Join us for our Ladies Bible Study via Zoom\, where we not only delve into meaningful conversations about faith but also build a supportive and nurturing community. Whether you’re new to Bible study or a seasoned participant\, come as you are\, from the comfort of your home\, and let’s grow spiritually together! We can’t wait to see you there. ✨
URL:https://lcor.org/events-calendar/ladies-bible-study-5/2025-07-28/
CATEGORIES:Bible Study
ATTACH;FMTTYPE=image/png:https://lcor.org/wp-content/uploads/2025/01/Ladies-Bible-study.png
END:VEVENT
BEGIN:VEVENT
DTSTART;TZID=UTC:20250731T071500
DTEND;TZID=UTC:20250731T081500
DTSTAMP:20260420T022638
CREATED:20250326T161740Z
LAST-MODIFIED:20250326T161740Z
UID:10003585-1753946100-1753949700@lcor.org
SUMMARY:Ladies Bible Study
DESCRIPTION:Looking for a refreshing pause in the midst of your busy week? Join us for our Ladies Bible Study via Zoom\, where we not only delve into meaningful conversations about faith but also build a supportive and nurturing community. Whether you’re new to Bible study or a seasoned participant\, come as you are\, from the comfort of your home\, and let’s grow spiritually together! We can’t wait to see you there. ✨
URL:https://lcor.org/events-calendar/ladies-bible-study-5/2025-07-31/
CATEGORIES:Bible Study
ATTACH;FMTTYPE=image/png:https://lcor.org/wp-content/uploads/2025/01/Ladies-Bible-study.png
END:VEVENT
BEGIN:VEVENT
DTSTART;TZID=UTC:20250802T070000
DTEND;TZID=UTC:20250802T070000
DTSTAMP:20260420T022638
CREATED:20250702T183617Z
LAST-MODIFIED:20250702T183642Z
UID:10004103-1754118000-1754118000@lcor.org
SUMMARY:Trail Magic
DESCRIPTION:Trail Magic: 7:00am-4:00pm Ride out to Sheffield\, MA to offer hospitality to hikers on the Appalachian Trail. We always have a great time meeting hikers\, cooking them lunch on a grill\, and fellowshipping with our team on the car ride out and back. Signup sheet is on the church bulletin board.
URL:https://lcor.org/events-calendar/trail-magic/
CATEGORIES:Social Ministry
ATTACH;FMTTYPE=image/jpeg:https://lcor.org/wp-content/uploads/2025/07/Trail-Magic-2025-1.jpg
END:VEVENT
BEGIN:VEVENT
DTSTART;TZID=UTC:20250803T083000
DTEND;TZID=UTC:20250803T083000
DTSTAMP:20260420T022638
CREATED:20250702T183812Z
LAST-MODIFIED:20250702T184003Z
UID:10004108-1754209800-1754209800@lcor.org
SUMMARY:Contemporary Worship
DESCRIPTION:
URL:https://lcor.org/events-calendar/contemporary-worship-6-2/2025-08-03/
CATEGORIES:Worship & Music
ATTACH;FMTTYPE=image/png:https://lcor.org/wp-content/uploads/2024/11/Screenshot-2024-11-13-141206.png
END:VEVENT
BEGIN:VEVENT
DTSTART;TZID=UTC:20250803T100000
DTEND;TZID=UTC:20250803T100000
DTSTAMP:20260420T022638
CREATED:20250602T185549Z
LAST-MODIFIED:20250602T185705Z
UID:10004097-1754215200-1754215200@lcor.org
SUMMARY:Traditional Worship
DESCRIPTION:Join us for our traditional worship service at 10:00am every Sunday.
URL:https://lcor.org/events-calendar/traditional-worship-1000/2025-08-03/
CATEGORIES:Worship & Music
END:VEVENT
BEGIN:VEVENT
DTSTART;TZID=UTC:20250804T071500
DTEND;TZID=UTC:20250804T081500
DTSTAMP:20260420T022638
CREATED:20250326T161740Z
LAST-MODIFIED:20250326T161740Z
UID:10003586-1754291700-1754295300@lcor.org
SUMMARY:Ladies Bible Study
DESCRIPTION:Looking for a refreshing pause in the midst of your busy week? Join us for our Ladies Bible Study via Zoom\, where we not only delve into meaningful conversations about faith but also build a supportive and nurturing community. Whether you’re new to Bible study or a seasoned participant\, come as you are\, from the comfort of your home\, and let’s grow spiritually together! We can’t wait to see you there. ✨
URL:https://lcor.org/events-calendar/ladies-bible-study-5/2025-08-04/
CATEGORIES:Bible Study
ATTACH;FMTTYPE=image/png:https://lcor.org/wp-content/uploads/2025/01/Ladies-Bible-study.png
END:VEVENT
BEGIN:VEVENT
DTSTART;TZID=UTC:20250807T071500
DTEND;TZID=UTC:20250807T081500
DTSTAMP:20260420T022638
CREATED:20250326T161740Z
LAST-MODIFIED:20250326T161740Z
UID:10003587-1754550900-1754554500@lcor.org
SUMMARY:Ladies Bible Study
DESCRIPTION:Looking for a refreshing pause in the midst of your busy week? Join us for our Ladies Bible Study via Zoom\, where we not only delve into meaningful conversations about faith but also build a supportive and nurturing community. Whether you’re new to Bible study or a seasoned participant\, come as you are\, from the comfort of your home\, and let’s grow spiritually together! We can’t wait to see you there. ✨
URL:https://lcor.org/events-calendar/ladies-bible-study-5/2025-08-07/
CATEGORIES:Bible Study
ATTACH;FMTTYPE=image/png:https://lcor.org/wp-content/uploads/2025/01/Ladies-Bible-study.png
END:VEVENT
BEGIN:VEVENT
DTSTART;TZID=UTC:20250810T083000
DTEND;TZID=UTC:20250810T083000
DTSTAMP:20260420T022638
CREATED:20250702T183812Z
LAST-MODIFIED:20250702T184003Z
UID:10004109-1754814600-1754814600@lcor.org
SUMMARY:Contemporary Worship
DESCRIPTION:
URL:https://lcor.org/events-calendar/contemporary-worship-6-2/2025-08-10/
CATEGORIES:Worship & Music
ATTACH;FMTTYPE=image/png:https://lcor.org/wp-content/uploads/2024/11/Screenshot-2024-11-13-141206.png
END:VEVENT
BEGIN:VEVENT
DTSTART;TZID=UTC:20250810T100000
DTEND;TZID=UTC:20250810T100000
DTSTAMP:20260420T022638
CREATED:20250602T185549Z
LAST-MODIFIED:20250602T185705Z
UID:10004098-1754820000-1754820000@lcor.org
SUMMARY:Traditional Worship
DESCRIPTION:Join us for our traditional worship service at 10:00am every Sunday.
URL:https://lcor.org/events-calendar/traditional-worship-1000/2025-08-10/
CATEGORIES:Worship & Music
END:VEVENT
BEGIN:VEVENT
DTSTART;TZID=UTC:20250811T071500
DTEND;TZID=UTC:20250811T081500
DTSTAMP:20260420T022638
CREATED:20250326T161740Z
LAST-MODIFIED:20250326T161740Z
UID:10003588-1754896500-1754900100@lcor.org
SUMMARY:Ladies Bible Study
DESCRIPTION:Looking for a refreshing pause in the midst of your busy week? Join us for our Ladies Bible Study via Zoom\, where we not only delve into meaningful conversations about faith but also build a supportive and nurturing community. Whether you’re new to Bible study or a seasoned participant\, come as you are\, from the comfort of your home\, and let’s grow spiritually together! We can’t wait to see you there. ✨
URL:https://lcor.org/events-calendar/ladies-bible-study-5/2025-08-11/
CATEGORIES:Bible Study
ATTACH;FMTTYPE=image/png:https://lcor.org/wp-content/uploads/2025/01/Ladies-Bible-study.png
END:VEVENT
BEGIN:VEVENT
DTSTART;TZID=UTC:20250814T071500
DTEND;TZID=UTC:20250814T081500
DTSTAMP:20260420T022638
CREATED:20250326T161740Z
LAST-MODIFIED:20250326T161740Z
UID:10003589-1755155700-1755159300@lcor.org
SUMMARY:Ladies Bible Study
DESCRIPTION:Looking for a refreshing pause in the midst of your busy week? Join us for our Ladies Bible Study via Zoom\, where we not only delve into meaningful conversations about faith but also build a supportive and nurturing community. Whether you’re new to Bible study or a seasoned participant\, come as you are\, from the comfort of your home\, and let’s grow spiritually together! We can’t wait to see you there. ✨
URL:https://lcor.org/events-calendar/ladies-bible-study-5/2025-08-14/
CATEGORIES:Bible Study
ATTACH;FMTTYPE=image/png:https://lcor.org/wp-content/uploads/2025/01/Ladies-Bible-study.png
END:VEVENT
BEGIN:VEVENT
DTSTART;TZID=UTC:20250817T083000
DTEND;TZID=UTC:20250817T083000
DTSTAMP:20260420T022638
CREATED:20250702T183812Z
LAST-MODIFIED:20250702T184003Z
UID:10004110-1755419400-1755419400@lcor.org
SUMMARY:Contemporary Worship
DESCRIPTION:
URL:https://lcor.org/events-calendar/contemporary-worship-6-2/2025-08-17/
CATEGORIES:Worship & Music
ATTACH;FMTTYPE=image/png:https://lcor.org/wp-content/uploads/2024/11/Screenshot-2024-11-13-141206.png
END:VEVENT
BEGIN:VEVENT
DTSTART;TZID=UTC:20250817T100000
DTEND;TZID=UTC:20250817T100000
DTSTAMP:20260420T022638
CREATED:20250602T185549Z
LAST-MODIFIED:20250602T185705Z
UID:10004099-1755424800-1755424800@lcor.org
SUMMARY:Traditional Worship
DESCRIPTION:Join us for our traditional worship service at 10:00am every Sunday.
URL:https://lcor.org/events-calendar/traditional-worship-1000/2025-08-17/
CATEGORIES:Worship & Music
END:VEVENT
BEGIN:VEVENT
DTSTART;TZID=UTC:20250818T071500
DTEND;TZID=UTC:20250818T081500
DTSTAMP:20260420T022638
CREATED:20250326T161740Z
LAST-MODIFIED:20250326T161740Z
UID:10003590-1755501300-1755504900@lcor.org
SUMMARY:Ladies Bible Study
DESCRIPTION:Looking for a refreshing pause in the midst of your busy week? Join us for our Ladies Bible Study via Zoom\, where we not only delve into meaningful conversations about faith but also build a supportive and nurturing community. Whether you’re new to Bible study or a seasoned participant\, come as you are\, from the comfort of your home\, and let’s grow spiritually together! We can’t wait to see you there. ✨
URL:https://lcor.org/events-calendar/ladies-bible-study-5/2025-08-18/
CATEGORIES:Bible Study
ATTACH;FMTTYPE=image/png:https://lcor.org/wp-content/uploads/2025/01/Ladies-Bible-study.png
END:VEVENT
BEGIN:VEVENT
DTSTART;TZID=UTC:20250821T071500
DTEND;TZID=UTC:20250821T081500
DTSTAMP:20260420T022638
CREATED:20250326T161740Z
LAST-MODIFIED:20250326T161740Z
UID:10003591-1755760500-1755764100@lcor.org
SUMMARY:Ladies Bible Study
DESCRIPTION:Looking for a refreshing pause in the midst of your busy week? Join us for our Ladies Bible Study via Zoom\, where we not only delve into meaningful conversations about faith but also build a supportive and nurturing community. Whether you’re new to Bible study or a seasoned participant\, come as you are\, from the comfort of your home\, and let’s grow spiritually together! We can’t wait to see you there. ✨
URL:https://lcor.org/events-calendar/ladies-bible-study-5/2025-08-21/
CATEGORIES:Bible Study
ATTACH;FMTTYPE=image/png:https://lcor.org/wp-content/uploads/2025/01/Ladies-Bible-study.png
END:VEVENT
BEGIN:VEVENT
DTSTART;TZID=UTC:20250824T083000
DTEND;TZID=UTC:20250824T083000
DTSTAMP:20260420T022638
CREATED:20250702T183812Z
LAST-MODIFIED:20250702T184003Z
UID:10004111-1756024200-1756024200@lcor.org
SUMMARY:Contemporary Worship
DESCRIPTION:
URL:https://lcor.org/events-calendar/contemporary-worship-6-2/2025-08-24/
CATEGORIES:Worship & Music
ATTACH;FMTTYPE=image/png:https://lcor.org/wp-content/uploads/2024/11/Screenshot-2024-11-13-141206.png
END:VEVENT
BEGIN:VEVENT
DTSTART;TZID=UTC:20250824T100000
DTEND;TZID=UTC:20250824T100000
DTSTAMP:20260420T022638
CREATED:20250602T185549Z
LAST-MODIFIED:20250602T185705Z
UID:10004100-1756029600-1756029600@lcor.org
SUMMARY:Traditional Worship
DESCRIPTION:Join us for our traditional worship service at 10:00am every Sunday.
URL:https://lcor.org/events-calendar/traditional-worship-1000/2025-08-24/
CATEGORIES:Worship & Music
END:VEVENT
BEGIN:VEVENT
DTSTART;TZID=UTC:20250825T071500
DTEND;TZID=UTC:20250825T081500
DTSTAMP:20260420T022638
CREATED:20250326T161740Z
LAST-MODIFIED:20250326T161740Z
UID:10003592-1756106100-1756109700@lcor.org
SUMMARY:Ladies Bible Study
DESCRIPTION:Looking for a refreshing pause in the midst of your busy week? Join us for our Ladies Bible Study via Zoom\, where we not only delve into meaningful conversations about faith but also build a supportive and nurturing community. Whether you’re new to Bible study or a seasoned participant\, come as you are\, from the comfort of your home\, and let’s grow spiritually together! We can’t wait to see you there. ✨
URL:https://lcor.org/events-calendar/ladies-bible-study-5/2025-08-25/
CATEGORIES:Bible Study
ATTACH;FMTTYPE=image/png:https://lcor.org/wp-content/uploads/2025/01/Ladies-Bible-study.png
END:VEVENT
BEGIN:VEVENT
DTSTART;TZID=UTC:20250828T071500
DTEND;TZID=UTC:20250828T081500
DTSTAMP:20260420T022638
CREATED:20250326T161740Z
LAST-MODIFIED:20250326T161740Z
UID:10003593-1756365300-1756368900@lcor.org
SUMMARY:Ladies Bible Study
DESCRIPTION:Looking for a refreshing pause in the midst of your busy week? Join us for our Ladies Bible Study via Zoom\, where we not only delve into meaningful conversations about faith but also build a supportive and nurturing community. Whether you’re new to Bible study or a seasoned participant\, come as you are\, from the comfort of your home\, and let’s grow spiritually together! We can’t wait to see you there. ✨
URL:https://lcor.org/events-calendar/ladies-bible-study-5/2025-08-28/
CATEGORIES:Bible Study
ATTACH;FMTTYPE=image/png:https://lcor.org/wp-content/uploads/2025/01/Ladies-Bible-study.png
END:VEVENT
BEGIN:VEVENT
DTSTART;TZID=UTC:20250831T083000
DTEND;TZID=UTC:20250831T083000
DTSTAMP:20260420T022638
CREATED:20250702T183812Z
LAST-MODIFIED:20250702T184003Z
UID:10004112-1756629000-1756629000@lcor.org
SUMMARY:Contemporary Worship
DESCRIPTION:
URL:https://lcor.org/events-calendar/contemporary-worship-6-2/2025-08-31/
CATEGORIES:Worship & Music
ATTACH;FMTTYPE=image/png:https://lcor.org/wp-content/uploads/2024/11/Screenshot-2024-11-13-141206.png
END:VEVENT
END:VCALENDAR