BEGIN:VCALENDAR
VERSION:2.0
PRODID:-//Lutheran Church of Our Redeemer - ECPv6.15.20//NONSGML v1.0//EN
CALSCALE:GREGORIAN
METHOD:PUBLISH
X-WR-CALNAME:Lutheran Church of Our Redeemer
X-ORIGINAL-URL:https://lcor.org
X-WR-CALDESC:Events for Lutheran Church of Our Redeemer
REFRESH-INTERVAL;VALUE=DURATION:PT1H
X-Robots-Tag:noindex
X-PUBLISHED-TTL:PT1H
BEGIN:VTIMEZONE
TZID:UTC
BEGIN:STANDARD
TZOFFSETFROM:+0000
TZOFFSETTO:+0000
TZNAME:UTC
DTSTART:20220101T000000
END:STANDARD
END:VTIMEZONE
BEGIN:VEVENT
DTSTART;TZID=UTC:20230122T091500
DTEND;TZID=UTC:20230122T091500
DTSTAMP:20260424T134210
CREATED:20220829T013104Z
LAST-MODIFIED:20230226T205936Z
UID:10001392-1674378900-1674378900@lcor.org
SUMMARY:Fellowship at 9:15; Christian Ed. at 9:30
DESCRIPTION:
URL:https://lcor.org/events-calendar/fellowship-2022-09-18/2023-01-22/
END:VEVENT
BEGIN:VEVENT
DTSTART;TZID=UTC:20230122T103000
DTEND;TZID=UTC:20230122T103000
DTSTAMP:20260424T134210
CREATED:20220504T201337Z
LAST-MODIFIED:20230226T203125Z
UID:10001193-1674383400-1674383400@lcor.org
SUMMARY:Traditional Worship
DESCRIPTION:
URL:https://lcor.org/events-calendar/traditional-worship-service-with-holy-communion-2022-12-04/2023-01-22/
CATEGORIES:Worship & Music
END:VEVENT
BEGIN:VEVENT
DTSTART;TZID=UTC:20230123T071500
DTEND;TZID=UTC:20230123T084500
DTSTAMP:20260424T134210
CREATED:20220620T211210Z
LAST-MODIFIED:20230531T155924Z
UID:10001255-1674458100-1674463500@lcor.org
SUMMARY:Ladies Bible Study via Zoom
DESCRIPTION:
URL:https://lcor.org/events-calendar/ladies-bible-study/2023-01-23/
END:VEVENT
BEGIN:VEVENT
DTSTART;TZID=UTC:20230126T071500
DTEND;TZID=UTC:20230126T084500
DTSTAMP:20260424T134210
CREATED:20220620T211603Z
LAST-MODIFIED:20230531T160220Z
UID:10001314-1674717300-1674722700@lcor.org
SUMMARY:Ladies Bible Study via Zoom
DESCRIPTION:
URL:https://lcor.org/events-calendar/ladies-bible-study-via-zoom-4/2023-01-26/
END:VEVENT
BEGIN:VEVENT
DTSTART;TZID=UTC:20230129T083000
DTEND;TZID=UTC:20230129T083000
DTSTAMP:20260424T134210
CREATED:20220504T200730Z
LAST-MODIFIED:20230226T205450Z
UID:10001078-1674981000-1674981000@lcor.org
SUMMARY:Contemp. Worship
DESCRIPTION:
URL:https://lcor.org/events-calendar/contemporary-worship-service-with-holy-communion/2023-01-29/
CATEGORIES:Worship & Music
END:VEVENT
BEGIN:VEVENT
DTSTART;TZID=UTC:20230129T091500
DTEND;TZID=UTC:20230129T091500
DTSTAMP:20260424T134210
CREATED:20220829T013104Z
LAST-MODIFIED:20230226T205936Z
UID:10001393-1674983700-1674983700@lcor.org
SUMMARY:Fellowship at 9:15; Christian Ed. at 9:30
DESCRIPTION:
URL:https://lcor.org/events-calendar/fellowship-2022-09-18/2023-01-29/
END:VEVENT
BEGIN:VEVENT
DTSTART;TZID=UTC:20230129T103000
DTEND;TZID=UTC:20230129T103000
DTSTAMP:20260424T134210
CREATED:20220504T201337Z
LAST-MODIFIED:20230226T203125Z
UID:10001194-1674988200-1674988200@lcor.org
SUMMARY:Traditional Worship
DESCRIPTION:
URL:https://lcor.org/events-calendar/traditional-worship-service-with-holy-communion-2022-12-04/2023-01-29/
CATEGORIES:Worship & Music
END:VEVENT
BEGIN:VEVENT
DTSTART;TZID=UTC:20230130T071500
DTEND;TZID=UTC:20230130T084500
DTSTAMP:20260424T134210
CREATED:20220620T211210Z
LAST-MODIFIED:20230531T155924Z
UID:10001256-1675062900-1675068300@lcor.org
SUMMARY:Ladies Bible Study via Zoom
DESCRIPTION:
URL:https://lcor.org/events-calendar/ladies-bible-study/2023-01-30/
END:VEVENT
BEGIN:VEVENT
DTSTART;TZID=UTC:20230201T180000
DTEND;TZID=UTC:20230201T193000
DTSTAMP:20260424T134210
CREATED:20221223T193417Z
LAST-MODIFIED:20221223T193417Z
UID:10001476-1675274400-1675279800@lcor.org
SUMMARY:Girl Scout Troop 82350 - Narthex
DESCRIPTION:
URL:https://lcor.org/events-calendar/girl-scout-troop-82350-narthex-9/2023-02-01/
CATEGORIES:Girl Scout Meetings
END:VEVENT
BEGIN:VEVENT
DTSTART;TZID=UTC:20230201T190000
DTEND;TZID=UTC:20230201T190000
DTSTAMP:20260424T134210
CREATED:20221228T041124Z
LAST-MODIFIED:20221228T041222Z
UID:10001486-1675278000-1675278000@lcor.org
SUMMARY:Mutual Ministry Mtg
DESCRIPTION:
URL:https://lcor.org/events-calendar/mutual-ministry-mtg/
CATEGORIES:Mutual Ministry
END:VEVENT
BEGIN:VEVENT
DTSTART;TZID=UTC:20230201T190000
DTEND;TZID=UTC:20230201T190000
DTSTAMP:20260424T134210
CREATED:20230202T144725Z
LAST-MODIFIED:20230202T144725Z
UID:10001489-1675278000-1675278000@lcor.org
SUMMARY:Mutual Ministry
DESCRIPTION:
URL:https://lcor.org/events-calendar/mutual-ministry/
CATEGORIES:Mutual Ministry
END:VEVENT
BEGIN:VEVENT
DTSTART;TZID=UTC:20230202T071500
DTEND;TZID=UTC:20230202T084500
DTSTAMP:20260424T134210
CREATED:20220620T211603Z
LAST-MODIFIED:20230531T160220Z
UID:10001315-1675322100-1675327500@lcor.org
SUMMARY:Ladies Bible Study via Zoom
DESCRIPTION:
URL:https://lcor.org/events-calendar/ladies-bible-study-via-zoom-4/2023-02-02/
END:VEVENT
BEGIN:VEVENT
DTSTART;TZID=UTC:20230202T190000
DTEND;TZID=UTC:20230202T190000
DTSTAMP:20260424T134210
CREATED:20230202T143708Z
LAST-MODIFIED:20230202T143708Z
UID:10001357-1675364400-1675364400@lcor.org
SUMMARY:Social Ministry Meeting
DESCRIPTION:
URL:https://lcor.org/events-calendar/social-ministry-meeting-2/
CATEGORIES:Social Ministry
END:VEVENT
BEGIN:VEVENT
DTSTART;TZID=UTC:20230205T083000
DTEND;TZID=UTC:20230205T083000
DTSTAMP:20260424T134210
CREATED:20220504T200730Z
LAST-MODIFIED:20230226T205450Z
UID:10001079-1675585800-1675585800@lcor.org
SUMMARY:Contemp. Worship
DESCRIPTION:
URL:https://lcor.org/events-calendar/contemporary-worship-service-with-holy-communion/2023-02-05/
CATEGORIES:Worship & Music
END:VEVENT
BEGIN:VEVENT
DTSTART;TZID=UTC:20230205T091500
DTEND;TZID=UTC:20230205T091500
DTSTAMP:20260424T134210
CREATED:20220829T013104Z
LAST-MODIFIED:20230226T205936Z
UID:10001394-1675588500-1675588500@lcor.org
SUMMARY:Fellowship at 9:15; Christian Ed. at 9:30
DESCRIPTION:
URL:https://lcor.org/events-calendar/fellowship-2022-09-18/2023-02-05/
END:VEVENT
BEGIN:VEVENT
DTSTART;TZID=UTC:20230205T103000
DTEND;TZID=UTC:20230205T103000
DTSTAMP:20260424T134210
CREATED:20220504T201337Z
LAST-MODIFIED:20230226T203125Z
UID:10001195-1675593000-1675593000@lcor.org
SUMMARY:Traditional Worship
DESCRIPTION:
URL:https://lcor.org/events-calendar/traditional-worship-service-with-holy-communion-2022-12-04/2023-02-05/
CATEGORIES:Worship & Music
END:VEVENT
BEGIN:VEVENT
DTSTART;TZID=UTC:20230206T071500
DTEND;TZID=UTC:20230206T084500
DTSTAMP:20260424T134210
CREATED:20220620T211210Z
LAST-MODIFIED:20230531T155924Z
UID:10001257-1675667700-1675673100@lcor.org
SUMMARY:Ladies Bible Study via Zoom
DESCRIPTION:
URL:https://lcor.org/events-calendar/ladies-bible-study/2023-02-06/
END:VEVENT
BEGIN:VEVENT
DTSTART;TZID=UTC:20230207T180000
DTEND;TZID=UTC:20230207T180000
DTSTAMP:20260424T134210
CREATED:20230202T143855Z
LAST-MODIFIED:20230202T143855Z
UID:10001359-1675792800-1675792800@lcor.org
SUMMARY:ORCCC BOD Meeting
DESCRIPTION:
URL:https://lcor.org/events-calendar/orccc-bod-meeting-7/
CATEGORIES:ORCCC
END:VEVENT
BEGIN:VEVENT
DTSTART;TZID=UTC:20230209T071500
DTEND;TZID=UTC:20230209T084500
DTSTAMP:20260424T134210
CREATED:20220620T211603Z
LAST-MODIFIED:20230531T160220Z
UID:10001316-1675926900-1675932300@lcor.org
SUMMARY:Ladies Bible Study via Zoom
DESCRIPTION:
URL:https://lcor.org/events-calendar/ladies-bible-study-via-zoom-4/2023-02-09/
END:VEVENT
BEGIN:VEVENT
DTSTART;TZID=UTC:20230212T083000
DTEND;TZID=UTC:20230212T083000
DTSTAMP:20260424T134210
CREATED:20220504T200730Z
LAST-MODIFIED:20230226T205450Z
UID:10001080-1676190600-1676190600@lcor.org
SUMMARY:Contemp. Worship
DESCRIPTION:
URL:https://lcor.org/events-calendar/contemporary-worship-service-with-holy-communion/2023-02-12/
CATEGORIES:Worship & Music
END:VEVENT
BEGIN:VEVENT
DTSTART;TZID=UTC:20230212T091500
DTEND;TZID=UTC:20230212T091500
DTSTAMP:20260424T134210
CREATED:20220829T013104Z
LAST-MODIFIED:20230226T205936Z
UID:10001395-1676193300-1676193300@lcor.org
SUMMARY:Fellowship at 9:15; Christian Ed. at 9:30
DESCRIPTION:
URL:https://lcor.org/events-calendar/fellowship-2022-09-18/2023-02-12/
END:VEVENT
BEGIN:VEVENT
DTSTART;TZID=UTC:20230212T103000
DTEND;TZID=UTC:20230212T103000
DTSTAMP:20260424T134210
CREATED:20220504T201337Z
LAST-MODIFIED:20230226T203125Z
UID:10001196-1676197800-1676197800@lcor.org
SUMMARY:Traditional Worship
DESCRIPTION:
URL:https://lcor.org/events-calendar/traditional-worship-service-with-holy-communion-2022-12-04/2023-02-12/
CATEGORIES:Worship & Music
END:VEVENT
BEGIN:VEVENT
DTSTART;TZID=UTC:20230213T071500
DTEND;TZID=UTC:20230213T084500
DTSTAMP:20260424T134210
CREATED:20220620T211210Z
LAST-MODIFIED:20230531T155924Z
UID:10001258-1676272500-1676277900@lcor.org
SUMMARY:Ladies Bible Study via Zoom
DESCRIPTION:
URL:https://lcor.org/events-calendar/ladies-bible-study/2023-02-13/
END:VEVENT
BEGIN:VEVENT
DTSTART;TZID=UTC:20230213T183000
DTEND;TZID=UTC:20230213T183000
DTSTAMP:20260424T134210
CREATED:20230202T144015Z
LAST-MODIFIED:20230202T144015Z
UID:10001361-1676313000-1676313000@lcor.org
SUMMARY:Worship & Music Meeting
DESCRIPTION:
URL:https://lcor.org/events-calendar/worship-music-meeting-5/
CATEGORIES:Worship & Music
END:VEVENT
BEGIN:VEVENT
DTSTART;TZID=UTC:20230214T190000
DTEND;TZID=UTC:20230214T190000
DTSTAMP:20260424T134210
CREATED:20230202T144123Z
LAST-MODIFIED:20230202T144123Z
UID:10001363-1676401200-1676401200@lcor.org
SUMMARY:Finance Meeting
DESCRIPTION:
URL:https://lcor.org/events-calendar/finance-meeting-7/
CATEGORIES:Finance Committee
END:VEVENT
BEGIN:VEVENT
DTSTART;TZID=UTC:20230215T093000
DTEND;TZID=UTC:20230215T093000
DTSTAMP:20260424T134210
CREATED:20230202T144235Z
LAST-MODIFIED:20230202T144235Z
UID:10001365-1676453400-1676453400@lcor.org
SUMMARY:Daycare Chapel Time
DESCRIPTION:
URL:https://lcor.org/events-calendar/daycare-chapel-time/
CATEGORIES:ORCCC
END:VEVENT
BEGIN:VEVENT
DTSTART;TZID=UTC:20230215T180000
DTEND;TZID=UTC:20230215T193000
DTSTAMP:20260424T134210
CREATED:20221223T193417Z
LAST-MODIFIED:20221223T193417Z
UID:10001477-1676484000-1676489400@lcor.org
SUMMARY:Girl Scout Troop 82350 - Narthex
DESCRIPTION:
URL:https://lcor.org/events-calendar/girl-scout-troop-82350-narthex-9/2023-02-15/
CATEGORIES:Girl Scout Meetings
END:VEVENT
BEGIN:VEVENT
DTSTART;TZID=UTC:20230216T071500
DTEND;TZID=UTC:20230216T084500
DTSTAMP:20260424T134210
CREATED:20220620T211603Z
LAST-MODIFIED:20230531T160220Z
UID:10001317-1676531700-1676537100@lcor.org
SUMMARY:Ladies Bible Study via Zoom
DESCRIPTION:
URL:https://lcor.org/events-calendar/ladies-bible-study-via-zoom-4/2023-02-16/
END:VEVENT
BEGIN:VEVENT
DTSTART;VALUE=DATE:20230218
DTEND;VALUE=DATE:20230219
DTSTAMP:20260424T134210
CREATED:20230202T144340Z
LAST-MODIFIED:20230202T144340Z
UID:10001367-1676678400-1676764799@lcor.org
SUMMARY:Deadline for March Newsletter Submissions
DESCRIPTION:
URL:https://lcor.org/events-calendar/deadline-for-march-newsletter-submissions/
END:VEVENT
BEGIN:VEVENT
DTSTART;TZID=UTC:20230219T083000
DTEND;TZID=UTC:20230219T083000
DTSTAMP:20260424T134210
CREATED:20220504T200730Z
LAST-MODIFIED:20230226T205450Z
UID:10001081-1676795400-1676795400@lcor.org
SUMMARY:Contemp. Worship
DESCRIPTION:
URL:https://lcor.org/events-calendar/contemporary-worship-service-with-holy-communion/2023-02-19/
CATEGORIES:Worship & Music
END:VEVENT
END:VCALENDAR