BEGIN:VCALENDAR
VERSION:2.0
PRODID:-//Lutheran Church of Our Redeemer - ECPv6.15.20//NONSGML v1.0//EN
CALSCALE:GREGORIAN
METHOD:PUBLISH
X-WR-CALNAME:Lutheran Church of Our Redeemer
X-ORIGINAL-URL:https://lcor.org
X-WR-CALDESC:Events for Lutheran Church of Our Redeemer
REFRESH-INTERVAL;VALUE=DURATION:PT1H
X-Robots-Tag:noindex
X-PUBLISHED-TTL:PT1H
BEGIN:VTIMEZONE
TZID:UTC
BEGIN:STANDARD
TZOFFSETFROM:+0000
TZOFFSETTO:+0000
TZNAME:UTC
DTSTART:20240101T000000
END:STANDARD
END:VTIMEZONE
BEGIN:VEVENT
DTSTART;TZID=UTC:20250727T083000
DTEND;TZID=UTC:20250727T083000
DTSTAMP:20260419T214806
CREATED:20250702T183812Z
LAST-MODIFIED:20250702T184003Z
UID:10004107-1753605000-1753605000@lcor.org
SUMMARY:Contemporary Worship
DESCRIPTION:
URL:https://lcor.org/events-calendar/contemporary-worship-6-2/2025-07-27/
CATEGORIES:Worship & Music
ATTACH;FMTTYPE=image/png:https://lcor.org/wp-content/uploads/2024/11/Screenshot-2024-11-13-141206.png
END:VEVENT
BEGIN:VEVENT
DTSTART;TZID=UTC:20250724T071500
DTEND;TZID=UTC:20250724T081500
DTSTAMP:20260419T214806
CREATED:20250326T161740Z
LAST-MODIFIED:20250326T161740Z
UID:10003583-1753341300-1753344900@lcor.org
SUMMARY:Ladies Bible Study
DESCRIPTION:Looking for a refreshing pause in the midst of your busy week? Join us for our Ladies Bible Study via Zoom\, where we not only delve into meaningful conversations about faith but also build a supportive and nurturing community. Whether you’re new to Bible study or a seasoned participant\, come as you are\, from the comfort of your home\, and let’s grow spiritually together! We can’t wait to see you there. ✨
URL:https://lcor.org/events-calendar/ladies-bible-study-5/2025-07-24/
CATEGORIES:Bible Study
ATTACH;FMTTYPE=image/png:https://lcor.org/wp-content/uploads/2025/01/Ladies-Bible-study.png
END:VEVENT
BEGIN:VEVENT
DTSTART;TZID=UTC:20250721T071500
DTEND;TZID=UTC:20250721T081500
DTSTAMP:20260419T214806
CREATED:20250326T161740Z
LAST-MODIFIED:20250326T161740Z
UID:10003582-1753082100-1753085700@lcor.org
SUMMARY:Ladies Bible Study
DESCRIPTION:Looking for a refreshing pause in the midst of your busy week? Join us for our Ladies Bible Study via Zoom\, where we not only delve into meaningful conversations about faith but also build a supportive and nurturing community. Whether you’re new to Bible study or a seasoned participant\, come as you are\, from the comfort of your home\, and let’s grow spiritually together! We can’t wait to see you there. ✨
URL:https://lcor.org/events-calendar/ladies-bible-study-5/2025-07-21/
CATEGORIES:Bible Study
ATTACH;FMTTYPE=image/png:https://lcor.org/wp-content/uploads/2025/01/Ladies-Bible-study.png
END:VEVENT
BEGIN:VEVENT
DTSTART;TZID=UTC:20250720T123000
DTEND;TZID=UTC:20250720T150000
DTSTAMP:20260419T214806
CREATED:20250702T183417Z
LAST-MODIFIED:20250702T183450Z
UID:10004102-1753014600-1753023600@lcor.org
SUMMARY:Maples Ice Cream Social
DESCRIPTION:Ice Cream Social at Maples\, Wrentham from 1:00-3:00pm. Setup begins at 12:30. Help Serve Up Smiles at Our Sundae Social!
URL:https://lcor.org/events-calendar/maples-ice-cream-social/
CATEGORIES:Social Ministry
ATTACH;FMTTYPE=image/png:https://lcor.org/wp-content/uploads/2025/07/Maples-Sundae-2.png
END:VEVENT
BEGIN:VEVENT
DTSTART;TZID=UTC:20250720T100000
DTEND;TZID=UTC:20250720T100000
DTSTAMP:20260419T214806
CREATED:20250602T185549Z
LAST-MODIFIED:20250602T185705Z
UID:10004095-1753005600-1753005600@lcor.org
SUMMARY:Traditional Worship
DESCRIPTION:Join us for our traditional worship service at 10:00am every Sunday.
URL:https://lcor.org/events-calendar/traditional-worship-1000/2025-07-20/
CATEGORIES:Worship & Music
END:VEVENT
BEGIN:VEVENT
DTSTART;TZID=UTC:20250720T083000
DTEND;TZID=UTC:20250720T083000
DTSTAMP:20260419T214806
CREATED:20250702T183812Z
LAST-MODIFIED:20250702T184003Z
UID:10004106-1753000200-1753000200@lcor.org
SUMMARY:Contemporary Worship
DESCRIPTION:
URL:https://lcor.org/events-calendar/contemporary-worship-6-2/2025-07-20/
CATEGORIES:Worship & Music
ATTACH;FMTTYPE=image/png:https://lcor.org/wp-content/uploads/2024/11/Screenshot-2024-11-13-141206.png
END:VEVENT
BEGIN:VEVENT
DTSTART;TZID=UTC:20250717T071500
DTEND;TZID=UTC:20250717T081500
DTSTAMP:20260419T214806
CREATED:20250326T161740Z
LAST-MODIFIED:20250326T161740Z
UID:10003581-1752736500-1752740100@lcor.org
SUMMARY:Ladies Bible Study
DESCRIPTION:Looking for a refreshing pause in the midst of your busy week? Join us for our Ladies Bible Study via Zoom\, where we not only delve into meaningful conversations about faith but also build a supportive and nurturing community. Whether you’re new to Bible study or a seasoned participant\, come as you are\, from the comfort of your home\, and let’s grow spiritually together! We can’t wait to see you there. ✨
URL:https://lcor.org/events-calendar/ladies-bible-study-5/2025-07-17/
CATEGORIES:Bible Study
ATTACH;FMTTYPE=image/png:https://lcor.org/wp-content/uploads/2025/01/Ladies-Bible-study.png
END:VEVENT
BEGIN:VEVENT
DTSTART;TZID=UTC:20250714T071500
DTEND;TZID=UTC:20250714T081500
DTSTAMP:20260419T214806
CREATED:20250326T161740Z
LAST-MODIFIED:20250326T161740Z
UID:10003580-1752477300-1752480900@lcor.org
SUMMARY:Ladies Bible Study
DESCRIPTION:Looking for a refreshing pause in the midst of your busy week? Join us for our Ladies Bible Study via Zoom\, where we not only delve into meaningful conversations about faith but also build a supportive and nurturing community. Whether you’re new to Bible study or a seasoned participant\, come as you are\, from the comfort of your home\, and let’s grow spiritually together! We can’t wait to see you there. ✨
URL:https://lcor.org/events-calendar/ladies-bible-study-5/2025-07-14/
CATEGORIES:Bible Study
ATTACH;FMTTYPE=image/png:https://lcor.org/wp-content/uploads/2025/01/Ladies-Bible-study.png
END:VEVENT
BEGIN:VEVENT
DTSTART;TZID=UTC:20250713T111500
DTEND;TZID=UTC:20250713T111500
DTSTAMP:20260419T214806
CREATED:20250702T183158Z
LAST-MODIFIED:20250702T183232Z
UID:10004101-1752405300-1752405300@lcor.org
SUMMARY:Eat Out After Church
DESCRIPTION:Join us at 11:15 am: Tavolino\, Patriot Place.
URL:https://lcor.org/events-calendar/eat-out-after-church-3/
CATEGORIES:Community Life
ATTACH;FMTTYPE=image/png:https://lcor.org/wp-content/uploads/2025/07/Eat-Out-After-Church-1115AM-1.png
END:VEVENT
BEGIN:VEVENT
DTSTART;TZID=UTC:20250713T100000
DTEND;TZID=UTC:20250713T100000
DTSTAMP:20260419T214806
CREATED:20250602T185549Z
LAST-MODIFIED:20250602T185705Z
UID:10004094-1752400800-1752400800@lcor.org
SUMMARY:Traditional Worship
DESCRIPTION:Join us for our traditional worship service at 10:00am every Sunday.
URL:https://lcor.org/events-calendar/traditional-worship-1000/2025-07-13/
CATEGORIES:Worship & Music
END:VEVENT
BEGIN:VEVENT
DTSTART;TZID=UTC:20250713T083000
DTEND;TZID=UTC:20250713T083000
DTSTAMP:20260419T214806
CREATED:20250702T183812Z
LAST-MODIFIED:20250702T184003Z
UID:10004105-1752395400-1752395400@lcor.org
SUMMARY:Contemporary Worship
DESCRIPTION:
URL:https://lcor.org/events-calendar/contemporary-worship-6-2/2025-07-13/
CATEGORIES:Worship & Music
ATTACH;FMTTYPE=image/png:https://lcor.org/wp-content/uploads/2024/11/Screenshot-2024-11-13-141206.png
END:VEVENT
BEGIN:VEVENT
DTSTART;TZID=UTC:20250710T071500
DTEND;TZID=UTC:20250710T081500
DTSTAMP:20260419T214806
CREATED:20250326T161740Z
LAST-MODIFIED:20250326T161740Z
UID:10003579-1752131700-1752135300@lcor.org
SUMMARY:Ladies Bible Study
DESCRIPTION:Looking for a refreshing pause in the midst of your busy week? Join us for our Ladies Bible Study via Zoom\, where we not only delve into meaningful conversations about faith but also build a supportive and nurturing community. Whether you’re new to Bible study or a seasoned participant\, come as you are\, from the comfort of your home\, and let’s grow spiritually together! We can’t wait to see you there. ✨
URL:https://lcor.org/events-calendar/ladies-bible-study-5/2025-07-10/
CATEGORIES:Bible Study
ATTACH;FMTTYPE=image/png:https://lcor.org/wp-content/uploads/2025/01/Ladies-Bible-study.png
END:VEVENT
BEGIN:VEVENT
DTSTART;TZID=UTC:20250707T071500
DTEND;TZID=UTC:20250707T081500
DTSTAMP:20260419T214806
CREATED:20250326T161740Z
LAST-MODIFIED:20250326T161740Z
UID:10003578-1751872500-1751876100@lcor.org
SUMMARY:Ladies Bible Study
DESCRIPTION:Looking for a refreshing pause in the midst of your busy week? Join us for our Ladies Bible Study via Zoom\, where we not only delve into meaningful conversations about faith but also build a supportive and nurturing community. Whether you’re new to Bible study or a seasoned participant\, come as you are\, from the comfort of your home\, and let’s grow spiritually together! We can’t wait to see you there. ✨
URL:https://lcor.org/events-calendar/ladies-bible-study-5/2025-07-07/
CATEGORIES:Bible Study
ATTACH;FMTTYPE=image/png:https://lcor.org/wp-content/uploads/2025/01/Ladies-Bible-study.png
END:VEVENT
BEGIN:VEVENT
DTSTART;TZID=UTC:20250706T100000
DTEND;TZID=UTC:20250706T100000
DTSTAMP:20260419T214806
CREATED:20250602T185549Z
LAST-MODIFIED:20250602T185705Z
UID:10004093-1751796000-1751796000@lcor.org
SUMMARY:Traditional Worship
DESCRIPTION:Join us for our traditional worship service at 10:00am every Sunday.
URL:https://lcor.org/events-calendar/traditional-worship-1000/2025-07-06/
CATEGORIES:Worship & Music
END:VEVENT
BEGIN:VEVENT
DTSTART;TZID=UTC:20250706T083000
DTEND;TZID=UTC:20250706T083000
DTSTAMP:20260419T214806
CREATED:20250702T183812Z
LAST-MODIFIED:20250702T184003Z
UID:10004104-1751790600-1751790600@lcor.org
SUMMARY:Contemporary Worship
DESCRIPTION:
URL:https://lcor.org/events-calendar/contemporary-worship-6-2/2025-07-06/
CATEGORIES:Worship & Music
ATTACH;FMTTYPE=image/png:https://lcor.org/wp-content/uploads/2024/11/Screenshot-2024-11-13-141206.png
END:VEVENT
BEGIN:VEVENT
DTSTART;TZID=UTC:20250703T071500
DTEND;TZID=UTC:20250703T081500
DTSTAMP:20260419T214806
CREATED:20250326T161740Z
LAST-MODIFIED:20250326T161740Z
UID:10003577-1751526900-1751530500@lcor.org
SUMMARY:Ladies Bible Study
DESCRIPTION:Looking for a refreshing pause in the midst of your busy week? Join us for our Ladies Bible Study via Zoom\, where we not only delve into meaningful conversations about faith but also build a supportive and nurturing community. Whether you’re new to Bible study or a seasoned participant\, come as you are\, from the comfort of your home\, and let’s grow spiritually together! We can’t wait to see you there. ✨
URL:https://lcor.org/events-calendar/ladies-bible-study-5/2025-07-03/
CATEGORIES:Bible Study
ATTACH;FMTTYPE=image/png:https://lcor.org/wp-content/uploads/2025/01/Ladies-Bible-study.png
END:VEVENT
BEGIN:VEVENT
DTSTART;VALUE=DATE:20250703
DTEND;VALUE=DATE:20250704
DTSTAMP:20260419T214806
CREATED:20250501T124714Z
LAST-MODIFIED:20250702T182843Z
UID:10004088-1751500800-1751587199@lcor.org
SUMMARY:Church Office Closed
DESCRIPTION:
URL:https://lcor.org/events-calendar/church-office-closed-6/
END:VEVENT
BEGIN:VEVENT
DTSTART;TZID=UTC:20250630T071500
DTEND;TZID=UTC:20250630T081500
DTSTAMP:20260419T214806
CREATED:20250326T161740Z
LAST-MODIFIED:20250326T161740Z
UID:10003576-1751267700-1751271300@lcor.org
SUMMARY:Ladies Bible Study
DESCRIPTION:Looking for a refreshing pause in the midst of your busy week? Join us for our Ladies Bible Study via Zoom\, where we not only delve into meaningful conversations about faith but also build a supportive and nurturing community. Whether you’re new to Bible study or a seasoned participant\, come as you are\, from the comfort of your home\, and let’s grow spiritually together! We can’t wait to see you there. ✨
URL:https://lcor.org/events-calendar/ladies-bible-study-5/2025-06-30/
CATEGORIES:Bible Study
ATTACH;FMTTYPE=image/png:https://lcor.org/wp-content/uploads/2025/01/Ladies-Bible-study.png
END:VEVENT
BEGIN:VEVENT
DTSTART;TZID=UTC:20250629T100000
DTEND;TZID=UTC:20250629T100000
DTSTAMP:20260419T214806
CREATED:20250602T185549Z
LAST-MODIFIED:20250602T185705Z
UID:10004092-1751191200-1751191200@lcor.org
SUMMARY:Traditional Worship
DESCRIPTION:Join us for our traditional worship service at 10:00am every Sunday.
URL:https://lcor.org/events-calendar/traditional-worship-1000/2025-06-29/
CATEGORIES:Worship & Music
END:VEVENT
BEGIN:VEVENT
DTSTART;TZID=UTC:20250629T083000
DTEND;TZID=UTC:20250629T083000
DTSTAMP:20260419T214806
CREATED:20250702T183812Z
LAST-MODIFIED:20250702T184003Z
UID:10004081-1751185800-1751185800@lcor.org
SUMMARY:Contemporary Worship
DESCRIPTION:
URL:https://lcor.org/events-calendar/contemporary-worship-6-2/2025-06-29/
CATEGORIES:Worship & Music
ATTACH;FMTTYPE=image/png:https://lcor.org/wp-content/uploads/2024/11/Screenshot-2024-11-13-141206.png
END:VEVENT
BEGIN:VEVENT
DTSTART;TZID=UTC:20250626T071500
DTEND;TZID=UTC:20250626T081500
DTSTAMP:20260419T214806
CREATED:20250326T161740Z
LAST-MODIFIED:20250326T161740Z
UID:10003575-1750922100-1750925700@lcor.org
SUMMARY:Ladies Bible Study
DESCRIPTION:Looking for a refreshing pause in the midst of your busy week? Join us for our Ladies Bible Study via Zoom\, where we not only delve into meaningful conversations about faith but also build a supportive and nurturing community. Whether you’re new to Bible study or a seasoned participant\, come as you are\, from the comfort of your home\, and let’s grow spiritually together! We can’t wait to see you there. ✨
URL:https://lcor.org/events-calendar/ladies-bible-study-5/2025-06-26/
CATEGORIES:Bible Study
ATTACH;FMTTYPE=image/png:https://lcor.org/wp-content/uploads/2025/01/Ladies-Bible-study.png
END:VEVENT
BEGIN:VEVENT
DTSTART;TZID=UTC:20250623T071500
DTEND;TZID=UTC:20250623T081500
DTSTAMP:20260419T214806
CREATED:20250326T161740Z
LAST-MODIFIED:20250326T161740Z
UID:10003574-1750662900-1750666500@lcor.org
SUMMARY:Ladies Bible Study
DESCRIPTION:Looking for a refreshing pause in the midst of your busy week? Join us for our Ladies Bible Study via Zoom\, where we not only delve into meaningful conversations about faith but also build a supportive and nurturing community. Whether you’re new to Bible study or a seasoned participant\, come as you are\, from the comfort of your home\, and let’s grow spiritually together! We can’t wait to see you there. ✨
URL:https://lcor.org/events-calendar/ladies-bible-study-5/2025-06-23/
CATEGORIES:Bible Study
ATTACH;FMTTYPE=image/png:https://lcor.org/wp-content/uploads/2025/01/Ladies-Bible-study.png
END:VEVENT
BEGIN:VEVENT
DTSTART;TZID=UTC:20250622T100000
DTEND;TZID=UTC:20250622T100000
DTSTAMP:20260419T214806
CREATED:20250602T185549Z
LAST-MODIFIED:20250602T185705Z
UID:10004091-1750586400-1750586400@lcor.org
SUMMARY:Traditional Worship
DESCRIPTION:Join us for our traditional worship service at 10:00am every Sunday.
URL:https://lcor.org/events-calendar/traditional-worship-1000/2025-06-22/
CATEGORIES:Worship & Music
END:VEVENT
BEGIN:VEVENT
DTSTART;TZID=UTC:20250622T083000
DTEND;TZID=UTC:20250622T083000
DTSTAMP:20260419T214806
CREATED:20250501T123435Z
LAST-MODIFIED:20250501T123435Z
UID:10004080-1750581000-1750581000@lcor.org
SUMMARY:Contemporary Worship
DESCRIPTION:
URL:https://lcor.org/events-calendar/contemporary-worship-6/2025-06-22/
ATTACH;FMTTYPE=image/png:https://lcor.org/wp-content/uploads/2024/11/Screenshot-2024-11-13-141206.png
END:VEVENT
BEGIN:VEVENT
DTSTART;TZID=UTC:20250619T071500
DTEND;TZID=UTC:20250619T081500
DTSTAMP:20260419T214806
CREATED:20250326T161740Z
LAST-MODIFIED:20250326T161740Z
UID:10003573-1750317300-1750320900@lcor.org
SUMMARY:Ladies Bible Study
DESCRIPTION:Looking for a refreshing pause in the midst of your busy week? Join us for our Ladies Bible Study via Zoom\, where we not only delve into meaningful conversations about faith but also build a supportive and nurturing community. Whether you’re new to Bible study or a seasoned participant\, come as you are\, from the comfort of your home\, and let’s grow spiritually together! We can’t wait to see you there. ✨
URL:https://lcor.org/events-calendar/ladies-bible-study-5/2025-06-19/
CATEGORIES:Bible Study
ATTACH;FMTTYPE=image/png:https://lcor.org/wp-content/uploads/2025/01/Ladies-Bible-study.png
END:VEVENT
BEGIN:VEVENT
DTSTART;TZID=UTC:20250616T071500
DTEND;TZID=UTC:20250616T081500
DTSTAMP:20260419T214807
CREATED:20250326T161740Z
LAST-MODIFIED:20250326T161740Z
UID:10003572-1750058100-1750061700@lcor.org
SUMMARY:Ladies Bible Study
DESCRIPTION:Looking for a refreshing pause in the midst of your busy week? Join us for our Ladies Bible Study via Zoom\, where we not only delve into meaningful conversations about faith but also build a supportive and nurturing community. Whether you’re new to Bible study or a seasoned participant\, come as you are\, from the comfort of your home\, and let’s grow spiritually together! We can’t wait to see you there. ✨
URL:https://lcor.org/events-calendar/ladies-bible-study-5/2025-06-16/
CATEGORIES:Bible Study
ATTACH;FMTTYPE=image/png:https://lcor.org/wp-content/uploads/2025/01/Ladies-Bible-study.png
END:VEVENT
BEGIN:VEVENT
DTSTART;TZID=UTC:20250615T100000
DTEND;TZID=UTC:20250615T100000
DTSTAMP:20260419T214807
CREATED:20250602T185549Z
LAST-MODIFIED:20250602T185705Z
UID:10004090-1749981600-1749981600@lcor.org
SUMMARY:Traditional Worship
DESCRIPTION:Join us for our traditional worship service at 10:00am every Sunday.
URL:https://lcor.org/events-calendar/traditional-worship-1000/2025-06-15/
CATEGORIES:Worship & Music
END:VEVENT
BEGIN:VEVENT
DTSTART;TZID=UTC:20250615T083000
DTEND;TZID=UTC:20250615T083000
DTSTAMP:20260419T214807
CREATED:20250501T123435Z
LAST-MODIFIED:20250501T123435Z
UID:10004079-1749976200-1749976200@lcor.org
SUMMARY:Contemporary Worship
DESCRIPTION:
URL:https://lcor.org/events-calendar/contemporary-worship-6/2025-06-15/
ATTACH;FMTTYPE=image/png:https://lcor.org/wp-content/uploads/2024/11/Screenshot-2024-11-13-141206.png
END:VEVENT
BEGIN:VEVENT
DTSTART;TZID=UTC:20250612T071500
DTEND;TZID=UTC:20250612T081500
DTSTAMP:20260419T214807
CREATED:20250326T161740Z
LAST-MODIFIED:20250326T161740Z
UID:10003571-1749712500-1749716100@lcor.org
SUMMARY:Ladies Bible Study
DESCRIPTION:Looking for a refreshing pause in the midst of your busy week? Join us for our Ladies Bible Study via Zoom\, where we not only delve into meaningful conversations about faith but also build a supportive and nurturing community. Whether you’re new to Bible study or a seasoned participant\, come as you are\, from the comfort of your home\, and let’s grow spiritually together! We can’t wait to see you there. ✨
URL:https://lcor.org/events-calendar/ladies-bible-study-5/2025-06-12/
CATEGORIES:Bible Study
ATTACH;FMTTYPE=image/png:https://lcor.org/wp-content/uploads/2025/01/Ladies-Bible-study.png
END:VEVENT
BEGIN:VEVENT
DTSTART;TZID=UTC:20250609T071500
DTEND;TZID=UTC:20250609T081500
DTSTAMP:20260419T214807
CREATED:20250326T161740Z
LAST-MODIFIED:20250326T161740Z
UID:10003570-1749453300-1749456900@lcor.org
SUMMARY:Ladies Bible Study
DESCRIPTION:Looking for a refreshing pause in the midst of your busy week? Join us for our Ladies Bible Study via Zoom\, where we not only delve into meaningful conversations about faith but also build a supportive and nurturing community. Whether you’re new to Bible study or a seasoned participant\, come as you are\, from the comfort of your home\, and let’s grow spiritually together! We can’t wait to see you there. ✨
URL:https://lcor.org/events-calendar/ladies-bible-study-5/2025-06-09/
CATEGORIES:Bible Study
ATTACH;FMTTYPE=image/png:https://lcor.org/wp-content/uploads/2025/01/Ladies-Bible-study.png
END:VEVENT
END:VCALENDAR