BEGIN:VCALENDAR
VERSION:2.0
PRODID:-//Lutheran Church of Our Redeemer - ECPv6.15.20//NONSGML v1.0//EN
CALSCALE:GREGORIAN
METHOD:PUBLISH
X-ORIGINAL-URL:https://lcor.org
X-WR-CALDESC:Events for Lutheran Church of Our Redeemer
REFRESH-INTERVAL;VALUE=DURATION:PT1H
X-Robots-Tag:noindex
X-PUBLISHED-TTL:PT1H
BEGIN:VTIMEZONE
TZID:UTC
BEGIN:STANDARD
TZOFFSETFROM:+0000
TZOFFSETTO:+0000
TZNAME:UTC
DTSTART:20230101T000000
END:STANDARD
END:VTIMEZONE
BEGIN:VEVENT
DTSTART;TZID=UTC:20240212T073000
DTEND;TZID=UTC:20240212T073000
DTSTAMP:20260423T052049
CREATED:20230807T163442Z
LAST-MODIFIED:20230807T163442Z
UID:10001663-1707723000-1707723000@lcor.org
SUMMARY:Ladies Bible Study via Zoom
DESCRIPTION:Join us every Monday and Thursday! \nFor more information\, email us at office@lcor.org.
URL:https://lcor.org/events-calendar/ladies-bible-study-via-zoom-5/2024-02-12/
END:VEVENT
BEGIN:VEVENT
DTSTART;TZID=UTC:20240212T183000
DTEND;TZID=UTC:20240212T183000
DTSTAMP:20260423T052049
CREATED:20240131T165851Z
LAST-MODIFIED:20240131T165851Z
UID:10001815-1707762600-1707762600@lcor.org
SUMMARY:Worship and Music Meeting
DESCRIPTION:For more details\, email us at office@lcor.org.
URL:https://lcor.org/events-calendar/worship-and-music-meeting-3/
CATEGORIES:Worship & Music
END:VEVENT
BEGIN:VEVENT
DTSTART;TZID=UTC:20240213T183000
DTEND;TZID=UTC:20240213T183000
DTSTAMP:20260423T052049
CREATED:20240131T170057Z
LAST-MODIFIED:20240131T170057Z
UID:10001816-1707849000-1707849000@lcor.org
SUMMARY:Finance Ministry Meeting
DESCRIPTION:For more details\, email us at office@lcor.org.
URL:https://lcor.org/events-calendar/finance-ministry-meeting-2/
CATEGORIES:Finance Committee
END:VEVENT
BEGIN:VEVENT
DTSTART;TZID=UTC:20240214T190000
DTEND;TZID=UTC:20240214T190000
DTSTAMP:20260423T052049
CREATED:20240131T170259Z
LAST-MODIFIED:20240131T170259Z
UID:10001817-1707937200-1707937200@lcor.org
SUMMARY:Ash Wednesday Traditional Service
DESCRIPTION:Join us on Wednesday\, February 14th for our Traditional Ash Wednesday Service at 7:00 pm. For more details email us at office@lcor.org.
URL:https://lcor.org/events-calendar/ash-wednesday-traditional-service/
CATEGORIES:Worship & Music
END:VEVENT
BEGIN:VEVENT
DTSTART;TZID=UTC:20240215T073000
DTEND;TZID=UTC:20240215T073000
DTSTAMP:20260423T052049
CREATED:20230807T163627Z
LAST-MODIFIED:20230907T161914Z
UID:10001701-1707982200-1707982200@lcor.org
SUMMARY:Ladies Bible Study via Zoom
DESCRIPTION:Join us every Monday and Thursday! \nFor more information\, email us at office@lcor.org.
URL:https://lcor.org/events-calendar/ladies-bible-stude-via-zoom/2024-02-15/
END:VEVENT
BEGIN:VEVENT
DTSTART;TZID=UTC:20240215T190000
DTEND;TZID=UTC:20240215T190000
DTSTAMP:20260423T052049
CREATED:20240131T170742Z
LAST-MODIFIED:20240131T170742Z
UID:10001818-1708023600-1708023600@lcor.org
SUMMARY:Church Council Meeting
DESCRIPTION:For more details\, email us at office@lcor.org.
URL:https://lcor.org/events-calendar/church-council-meeting-5/
CATEGORIES:Council Meetings
END:VEVENT
BEGIN:VEVENT
DTSTART;TZID=UTC:20240217T080000
DTEND;TZID=UTC:20240217T080000
DTSTAMP:20260423T052049
CREATED:20240131T171450Z
LAST-MODIFIED:20240131T171450Z
UID:10001819-1708156800-1708156800@lcor.org
SUMMARY:Newsletter Deadline
DESCRIPTION:For more details email us at office@lcor.org
URL:https://lcor.org/events-calendar/newsletter-deadline-5/
CATEGORIES:Administration
END:VEVENT
BEGIN:VEVENT
DTSTART;TZID=UTC:20240218T083000
DTEND;TZID=UTC:20240218T083000
DTSTAMP:20260423T052049
CREATED:20230802T172019Z
LAST-MODIFIED:20230802T173611Z
UID:10001587-1708245000-1708245000@lcor.org
SUMMARY:Contemporary Worship
DESCRIPTION:Join us Sundays at 8:30 am for our Contemporary Worship Service. \nFor questions or to inquire more information\, please contact office@lcor.org.
URL:https://lcor.org/events-calendar/contemporary-worship-2/2024-02-18/
CATEGORIES:Worship & Music
END:VEVENT
BEGIN:VEVENT
DTSTART;TZID=UTC:20240218T093000
DTEND;TZID=UTC:20240218T093000
DTSTAMP:20260423T052049
CREATED:20230802T172728Z
LAST-MODIFIED:20230907T154748Z
UID:10001749-1708248600-1708248600@lcor.org
SUMMARY:Fellowship
DESCRIPTION:Join us for an opportunity to connect\, chat\, and socialize between our Sunday Worship Services. No Christian Ed.
URL:https://lcor.org/events-calendar/coffee-and-fellowship-2024-02-18/
CATEGORIES:Social Event
END:VEVENT
BEGIN:VEVENT
DTSTART;TZID=UTC:20240218T103000
DTEND;TZID=UTC:20240218T103000
DTSTAMP:20260423T052049
CREATED:20230802T173432Z
LAST-MODIFIED:20230807T162503Z
UID:10001626-1708252200-1708252200@lcor.org
SUMMARY:Traditional Worship
DESCRIPTION:Join us Sundays at 10:30 am for our Traditional Worship Service. \nFor questions or to inquire more information\, please contact office@lcor.org.
URL:https://lcor.org/events-calendar/traditional-worship-service/2024-02-18/
CATEGORIES:Worship & Music
END:VEVENT
BEGIN:VEVENT
DTSTART;TZID=UTC:20240219T073000
DTEND;TZID=UTC:20240219T073000
DTSTAMP:20260423T052049
CREATED:20230807T163442Z
LAST-MODIFIED:20230807T163442Z
UID:10001664-1708327800-1708327800@lcor.org
SUMMARY:Ladies Bible Study via Zoom
DESCRIPTION:Join us every Monday and Thursday! \nFor more information\, email us at office@lcor.org.
URL:https://lcor.org/events-calendar/ladies-bible-study-via-zoom-5/2024-02-19/
END:VEVENT
BEGIN:VEVENT
DTSTART;TZID=UTC:20240219T080000
DTEND;TZID=UTC:20240219T080000
DTSTAMP:20260423T052049
CREATED:20240131T171731Z
LAST-MODIFIED:20240131T171806Z
UID:10001820-1708329600-1708329600@lcor.org
SUMMARY:Office Closed
DESCRIPTION:LCOR Office hours will resume on Tuesday\, February 20th from 9:00 am – 2:00 pm.
URL:https://lcor.org/events-calendar/office-closed-7/
CATEGORIES:Administration
END:VEVENT
BEGIN:VEVENT
DTSTART;TZID=UTC:20240222T073000
DTEND;TZID=UTC:20240222T073000
DTSTAMP:20260423T052049
CREATED:20230807T163627Z
LAST-MODIFIED:20230907T161914Z
UID:10001702-1708587000-1708587000@lcor.org
SUMMARY:Ladies Bible Study via Zoom
DESCRIPTION:Join us every Monday and Thursday! \nFor more information\, email us at office@lcor.org.
URL:https://lcor.org/events-calendar/ladies-bible-stude-via-zoom/2024-02-22/
END:VEVENT
BEGIN:VEVENT
DTSTART;TZID=UTC:20240225T083000
DTEND;TZID=UTC:20240225T083000
DTSTAMP:20260423T052049
CREATED:20230802T172019Z
LAST-MODIFIED:20230802T173611Z
UID:10001588-1708849800-1708849800@lcor.org
SUMMARY:Contemporary Worship
DESCRIPTION:Join us Sundays at 8:30 am for our Contemporary Worship Service. \nFor questions or to inquire more information\, please contact office@lcor.org.
URL:https://lcor.org/events-calendar/contemporary-worship-2/2024-02-25/
CATEGORIES:Worship & Music
END:VEVENT
BEGIN:VEVENT
DTSTART;TZID=UTC:20240225T093000
DTEND;TZID=UTC:20240225T093000
DTSTAMP:20260423T052049
CREATED:20230802T172728Z
LAST-MODIFIED:20230907T154814Z
UID:10001751-1708853400-1708853400@lcor.org
SUMMARY:Fellowship
DESCRIPTION:Join us for an opportunity to connect\, chat\, and socialize between our Sunday Worship Services. No Christian Ed.
URL:https://lcor.org/events-calendar/coffee-and-fellowship-2024-02-25/
CATEGORIES:Social Event
END:VEVENT
BEGIN:VEVENT
DTSTART;TZID=UTC:20240225T103000
DTEND;TZID=UTC:20240225T103000
DTSTAMP:20260423T052049
CREATED:20230802T173432Z
LAST-MODIFIED:20230807T162503Z
UID:10001627-1708857000-1708857000@lcor.org
SUMMARY:Traditional Worship
DESCRIPTION:Join us Sundays at 10:30 am for our Traditional Worship Service. \nFor questions or to inquire more information\, please contact office@lcor.org.
URL:https://lcor.org/events-calendar/traditional-worship-service/2024-02-25/
CATEGORIES:Worship & Music
END:VEVENT
BEGIN:VEVENT
DTSTART;TZID=UTC:20240226T073000
DTEND;TZID=UTC:20240226T073000
DTSTAMP:20260423T052049
CREATED:20230807T163442Z
LAST-MODIFIED:20230807T163442Z
UID:10001665-1708932600-1708932600@lcor.org
SUMMARY:Ladies Bible Study via Zoom
DESCRIPTION:Join us every Monday and Thursday! \nFor more information\, email us at office@lcor.org.
URL:https://lcor.org/events-calendar/ladies-bible-study-via-zoom-5/2024-02-26/
END:VEVENT
BEGIN:VEVENT
DTSTART;TZID=UTC:20240229T073000
DTEND;TZID=UTC:20240229T073000
DTSTAMP:20260423T052049
CREATED:20230807T163627Z
LAST-MODIFIED:20230907T161914Z
UID:10001703-1709191800-1709191800@lcor.org
SUMMARY:Ladies Bible Study via Zoom
DESCRIPTION:Join us every Monday and Thursday! \nFor more information\, email us at office@lcor.org.
URL:https://lcor.org/events-calendar/ladies-bible-stude-via-zoom/2024-02-29/
END:VEVENT
BEGIN:VEVENT
DTSTART;TZID=UTC:20240229T190000
DTEND;TZID=UTC:20240229T190000
DTSTAMP:20260423T052049
CREATED:20240131T172858Z
LAST-MODIFIED:20240131T172858Z
UID:10001826-1709233200-1709233200@lcor.org
SUMMARY:Book Club
DESCRIPTION:February’s choice is Lessons in Chemistry by Bonnie Grams. \nFor more information email us at office@lcor.org.
URL:https://lcor.org/events-calendar/book-club-3/
CATEGORIES:Community Life
END:VEVENT
BEGIN:VEVENT
DTSTART;TZID=UTC:20240303T083000
DTEND;TZID=UTC:20240303T083000
DTSTAMP:20260423T052049
CREATED:20230802T172019Z
LAST-MODIFIED:20230802T173611Z
UID:10001589-1709454600-1709454600@lcor.org
SUMMARY:Contemporary Worship
DESCRIPTION:Join us Sundays at 8:30 am for our Contemporary Worship Service. \nFor questions or to inquire more information\, please contact office@lcor.org.
URL:https://lcor.org/events-calendar/contemporary-worship-2/2024-03-03/
CATEGORIES:Worship & Music
END:VEVENT
BEGIN:VEVENT
DTSTART;TZID=UTC:20240303T093000
DTEND;TZID=UTC:20240303T093000
DTSTAMP:20260423T052049
CREATED:20230802T172728Z
LAST-MODIFIED:20230907T152204Z
UID:10001736-1709458200-1709458200@lcor.org
SUMMARY:Fellowship; Christian Ed.
DESCRIPTION:Join us for an opportunity to connect\, chat\, socialize and learn between our Sunday Worship Services. Visit our Adult Sunday School Page to see the upcoming schedule.
URL:https://lcor.org/events-calendar/coffee-and-fellowship-2023-09-24/2024-03-03/
CATEGORIES:Social Event
END:VEVENT
BEGIN:VEVENT
DTSTART;TZID=UTC:20240303T103000
DTEND;TZID=UTC:20240303T103000
DTSTAMP:20260423T052049
CREATED:20230802T173432Z
LAST-MODIFIED:20230807T162503Z
UID:10001628-1709461800-1709461800@lcor.org
SUMMARY:Traditional Worship
DESCRIPTION:Join us Sundays at 10:30 am for our Traditional Worship Service. \nFor questions or to inquire more information\, please contact office@lcor.org.
URL:https://lcor.org/events-calendar/traditional-worship-service/2024-03-03/
CATEGORIES:Worship & Music
END:VEVENT
BEGIN:VEVENT
DTSTART;TZID=UTC:20240303T120000
DTEND;TZID=UTC:20240303T120000
DTSTAMP:20260423T052049
CREATED:20240229T222541Z
LAST-MODIFIED:20240229T222541Z
UID:10001827-1709467200-1709467200@lcor.org
SUMMARY:Community Life Lunch
DESCRIPTION:Join us every 1st Sunday of the month for lunch after church. This is an opportunity for good food\, fun and fellowship. For more information\, contact us at office@lcor.org.
URL:https://lcor.org/events-calendar/community-life-lunch-2/
CATEGORIES:Community Life
END:VEVENT
BEGIN:VEVENT
DTSTART;TZID=UTC:20240304T073000
DTEND;TZID=UTC:20240304T073000
DTSTAMP:20260423T052049
CREATED:20230807T163442Z
LAST-MODIFIED:20230807T163442Z
UID:10001666-1709537400-1709537400@lcor.org
SUMMARY:Ladies Bible Study via Zoom
DESCRIPTION:Join us every Monday and Thursday! \nFor more information\, email us at office@lcor.org.
URL:https://lcor.org/events-calendar/ladies-bible-study-via-zoom-5/2024-03-04/
END:VEVENT
BEGIN:VEVENT
DTSTART;TZID=UTC:20240305T180000
DTEND;TZID=UTC:20240305T180000
DTSTAMP:20260423T052049
CREATED:20240229T223140Z
LAST-MODIFIED:20240229T223140Z
UID:10001832-1709661600-1709661600@lcor.org
SUMMARY:ORCCC Board Meeting
DESCRIPTION:For more details contact us at office@lcor.org.
URL:https://lcor.org/events-calendar/orccc-board-meeting-7/
CATEGORIES:ORCCC
END:VEVENT
BEGIN:VEVENT
DTSTART;TZID=UTC:20240306T183000
DTEND;TZID=UTC:20240306T183000
DTSTAMP:20260423T052049
CREATED:20240229T222802Z
LAST-MODIFIED:20240229T223004Z
UID:10001829-1709749800-1709749800@lcor.org
SUMMARY:Lenten Soup and Scripture
DESCRIPTION:Please join us on Wednesday evenings\, March 6th\, March 13th\, and March 20th.  We’ll cover a passage in John and discuss how the lesson applies to us in 2024. \nSoup is served at 6:30 pm – feel free to bring your own salad or sandwich. Our study will begin at 7:00 pm. \nFor more information\, please contact us at office@lcor.org.
URL:https://lcor.org/events-calendar/orccc-board-meeting-6/2024-03-06/
CATEGORIES:ORCCC,Worship & Music
END:VEVENT
BEGIN:VEVENT
DTSTART;TZID=UTC:20240307T073000
DTEND;TZID=UTC:20240307T073000
DTSTAMP:20260423T052049
CREATED:20230807T163627Z
LAST-MODIFIED:20230907T161914Z
UID:10001704-1709796600-1709796600@lcor.org
SUMMARY:Ladies Bible Study via Zoom
DESCRIPTION:Join us every Monday and Thursday! \nFor more information\, email us at office@lcor.org.
URL:https://lcor.org/events-calendar/ladies-bible-stude-via-zoom/2024-03-07/
END:VEVENT
BEGIN:VEVENT
DTSTART;TZID=UTC:20240310T083000
DTEND;TZID=UTC:20240310T083000
DTSTAMP:20260423T052049
CREATED:20230802T172019Z
LAST-MODIFIED:20230802T173611Z
UID:10001590-1710059400-1710059400@lcor.org
SUMMARY:Contemporary Worship
DESCRIPTION:Join us Sundays at 8:30 am for our Contemporary Worship Service. \nFor questions or to inquire more information\, please contact office@lcor.org.
URL:https://lcor.org/events-calendar/contemporary-worship-2/2024-03-10/
CATEGORIES:Worship & Music
END:VEVENT
BEGIN:VEVENT
DTSTART;TZID=UTC:20240310T093000
DTEND;TZID=UTC:20240310T093000
DTSTAMP:20260423T052049
CREATED:20230802T172728Z
LAST-MODIFIED:20230907T152204Z
UID:10001737-1710063000-1710063000@lcor.org
SUMMARY:Fellowship; Christian Ed.
DESCRIPTION:Join us for an opportunity to connect\, chat\, socialize and learn between our Sunday Worship Services. Visit our Adult Sunday School Page to see the upcoming schedule.
URL:https://lcor.org/events-calendar/coffee-and-fellowship-2023-09-24/2024-03-10/
CATEGORIES:Social Event
END:VEVENT
BEGIN:VEVENT
DTSTART;TZID=UTC:20240310T103000
DTEND;TZID=UTC:20240310T103000
DTSTAMP:20260423T052049
CREATED:20230802T173432Z
LAST-MODIFIED:20230807T162503Z
UID:10001629-1710066600-1710066600@lcor.org
SUMMARY:Traditional Worship
DESCRIPTION:Join us Sundays at 10:30 am for our Traditional Worship Service. \nFor questions or to inquire more information\, please contact office@lcor.org.
URL:https://lcor.org/events-calendar/traditional-worship-service/2024-03-10/
CATEGORIES:Worship & Music
END:VEVENT
END:VCALENDAR