BEGIN:VCALENDAR
VERSION:2.0
PRODID:-//Lutheran Church of Our Redeemer - ECPv6.15.20//NONSGML v1.0//EN
CALSCALE:GREGORIAN
METHOD:PUBLISH
X-ORIGINAL-URL:https://lcor.org
X-WR-CALDESC:Events for Lutheran Church of Our Redeemer
REFRESH-INTERVAL;VALUE=DURATION:PT1H
X-Robots-Tag:noindex
X-PUBLISHED-TTL:PT1H
BEGIN:VTIMEZONE
TZID:UTC
BEGIN:STANDARD
TZOFFSETFROM:+0000
TZOFFSETTO:+0000
TZNAME:UTC
DTSTART:20220101T000000
END:STANDARD
END:VTIMEZONE
BEGIN:VEVENT
DTSTART;TZID=UTC:20231112T083000
DTEND;TZID=UTC:20231112T083000
DTSTAMP:20260423T113455
CREATED:20230802T172019Z
LAST-MODIFIED:20230802T173611Z
UID:10001573-1699777800-1699777800@lcor.org
SUMMARY:Contemporary Worship
DESCRIPTION:Join us Sundays at 8:30 am for our Contemporary Worship Service. \nFor questions or to inquire more information\, please contact office@lcor.org.
URL:https://lcor.org/events-calendar/contemporary-worship-2/2023-11-12/
CATEGORIES:Worship & Music
END:VEVENT
BEGIN:VEVENT
DTSTART;TZID=UTC:20231112T093000
DTEND;TZID=UTC:20231112T093000
DTSTAMP:20260423T113455
CREATED:20230802T172728Z
LAST-MODIFIED:20230907T152204Z
UID:10001726-1699781400-1699781400@lcor.org
SUMMARY:Fellowship; Christian Ed.
DESCRIPTION:Join us for an opportunity to connect\, chat\, socialize and learn between our Sunday Worship Services. Visit our Adult Sunday School Page to see the upcoming schedule.
URL:https://lcor.org/events-calendar/coffee-and-fellowship-2023-09-24/2023-11-12/
CATEGORIES:Social Event
END:VEVENT
BEGIN:VEVENT
DTSTART;TZID=UTC:20231112T103000
DTEND;TZID=UTC:20231112T103000
DTSTAMP:20260423T113455
CREATED:20230802T173432Z
LAST-MODIFIED:20230807T162503Z
UID:10001612-1699785000-1699785000@lcor.org
SUMMARY:Traditional Worship
DESCRIPTION:Join us Sundays at 10:30 am for our Traditional Worship Service. \nFor questions or to inquire more information\, please contact office@lcor.org.
URL:https://lcor.org/events-calendar/traditional-worship-service/2023-11-12/
CATEGORIES:Worship & Music
END:VEVENT
BEGIN:VEVENT
DTSTART;TZID=UTC:20231112T183000
DTEND;TZID=UTC:20231112T183000
DTSTAMP:20260423T113455
CREATED:20230831T144245Z
LAST-MODIFIED:20230831T144245Z
UID:10001766-1699813800-1699813800@lcor.org
SUMMARY:Confirmation Class
DESCRIPTION:For more information email us at office@lcor.org
URL:https://lcor.org/events-calendar/confirmation-class-3/2023-11-12/
CATEGORIES:Christian Education
END:VEVENT
BEGIN:VEVENT
DTSTART;TZID=UTC:20231113T073000
DTEND;TZID=UTC:20231113T073000
DTSTAMP:20260423T113455
CREATED:20230807T163442Z
LAST-MODIFIED:20230807T163442Z
UID:10001650-1699860600-1699860600@lcor.org
SUMMARY:Ladies Bible Study via Zoom
DESCRIPTION:Join us every Monday and Thursday! \nFor more information\, email us at office@lcor.org.
URL:https://lcor.org/events-calendar/ladies-bible-study-via-zoom-5/2023-11-13/
END:VEVENT
BEGIN:VEVENT
DTSTART;TZID=UTC:20231114T183000
DTEND;TZID=UTC:20231114T183000
DTSTAMP:20260423T113455
CREATED:20231026T191914Z
LAST-MODIFIED:20231026T191914Z
UID:10001788-1699986600-1699986600@lcor.org
SUMMARY:Finance Ministry Meeting
DESCRIPTION:For more details contact us at office@lcor.org.
URL:https://lcor.org/events-calendar/finance-ministry-meeting/
CATEGORIES:Finance Committee
END:VEVENT
BEGIN:VEVENT
DTSTART;TZID=UTC:20231115T183000
DTEND;TZID=UTC:20231115T183000
DTSTAMP:20260423T113455
CREATED:20231026T191958Z
LAST-MODIFIED:20231026T191958Z
UID:10001789-1700073000-1700073000@lcor.org
SUMMARY:Worship and Music Ministry Meeting
DESCRIPTION:For more details contact us at office@lcor.org.
URL:https://lcor.org/events-calendar/worship-and-music-ministry-meeting-2/
CATEGORIES:Worship & Music
END:VEVENT
BEGIN:VEVENT
DTSTART;TZID=UTC:20231116T073000
DTEND;TZID=UTC:20231116T073000
DTSTAMP:20260423T113455
CREATED:20230807T163627Z
LAST-MODIFIED:20230907T161914Z
UID:10001688-1700119800-1700119800@lcor.org
SUMMARY:Ladies Bible Study via Zoom
DESCRIPTION:Join us every Monday and Thursday! \nFor more information\, email us at office@lcor.org.
URL:https://lcor.org/events-calendar/ladies-bible-stude-via-zoom/2023-11-16/
END:VEVENT
BEGIN:VEVENT
DTSTART;VALUE=DATE:20231118
DTEND;VALUE=DATE:20231119
DTSTAMP:20260423T113455
CREATED:20231026T192040Z
LAST-MODIFIED:20231026T192040Z
UID:10001790-1700265600-1700351999@lcor.org
SUMMARY:Newsletter Deadline
DESCRIPTION:For more details contact us at office@lcor.org.
URL:https://lcor.org/events-calendar/newsletter-deadline-3/
CATEGORIES:Administration
END:VEVENT
BEGIN:VEVENT
DTSTART;TZID=UTC:20231118T080000
DTEND;TZID=UTC:20231118T120000
DTSTAMP:20260423T113455
CREATED:20231102T142209Z
LAST-MODIFIED:20231102T142209Z
UID:10001794-1700294400-1700308800@lcor.org
SUMMARY:Food 'n' Friends
DESCRIPTION:Join us at the Centenary United Methodist Church in Attleboro to help with time and preparations for the Food’n’Friends Soup Kitchen. For more details contact us at office@lcor.org.
URL:https://lcor.org/events-calendar/food-n-friends-2/
CATEGORIES:Social Ministry
END:VEVENT
BEGIN:VEVENT
DTSTART;TZID=UTC:20231119T083000
DTEND;TZID=UTC:20231119T083000
DTSTAMP:20260423T113455
CREATED:20230802T172019Z
LAST-MODIFIED:20230802T173611Z
UID:10001574-1700382600-1700382600@lcor.org
SUMMARY:Contemporary Worship
DESCRIPTION:Join us Sundays at 8:30 am for our Contemporary Worship Service. \nFor questions or to inquire more information\, please contact office@lcor.org.
URL:https://lcor.org/events-calendar/contemporary-worship-2/2023-11-19/
CATEGORIES:Worship & Music
END:VEVENT
BEGIN:VEVENT
DTSTART;TZID=UTC:20231119T093000
DTEND;TZID=UTC:20231119T093000
DTSTAMP:20260423T113455
CREATED:20230802T172728Z
LAST-MODIFIED:20230907T152204Z
UID:10001727-1700386200-1700386200@lcor.org
SUMMARY:Fellowship; Christian Ed.
DESCRIPTION:Join us for an opportunity to connect\, chat\, socialize and learn between our Sunday Worship Services. Visit our Adult Sunday School Page to see the upcoming schedule.
URL:https://lcor.org/events-calendar/coffee-and-fellowship-2023-09-24/2023-11-19/
CATEGORIES:Social Event
END:VEVENT
BEGIN:VEVENT
DTSTART;TZID=UTC:20231119T103000
DTEND;TZID=UTC:20231119T103000
DTSTAMP:20260423T113455
CREATED:20230802T173432Z
LAST-MODIFIED:20230807T162503Z
UID:10001613-1700389800-1700389800@lcor.org
SUMMARY:Traditional Worship
DESCRIPTION:Join us Sundays at 10:30 am for our Traditional Worship Service. \nFor questions or to inquire more information\, please contact office@lcor.org.
URL:https://lcor.org/events-calendar/traditional-worship-service/2023-11-19/
CATEGORIES:Worship & Music
END:VEVENT
BEGIN:VEVENT
DTSTART;TZID=UTC:20231119T183000
DTEND;TZID=UTC:20231119T183000
DTSTAMP:20260423T113455
CREATED:20230831T144245Z
LAST-MODIFIED:20230831T144245Z
UID:10001767-1700418600-1700418600@lcor.org
SUMMARY:Confirmation Class
DESCRIPTION:For more information email us at office@lcor.org
URL:https://lcor.org/events-calendar/confirmation-class-3/2023-11-19/
CATEGORIES:Christian Education
END:VEVENT
BEGIN:VEVENT
DTSTART;TZID=UTC:20231120T073000
DTEND;TZID=UTC:20231120T073000
DTSTAMP:20260423T113455
CREATED:20230807T163442Z
LAST-MODIFIED:20230807T163442Z
UID:10001651-1700465400-1700465400@lcor.org
SUMMARY:Ladies Bible Study via Zoom
DESCRIPTION:Join us every Monday and Thursday! \nFor more information\, email us at office@lcor.org.
URL:https://lcor.org/events-calendar/ladies-bible-study-via-zoom-5/2023-11-20/
END:VEVENT
BEGIN:VEVENT
DTSTART;VALUE=DATE:20231123
DTEND;VALUE=DATE:20231124
DTSTAMP:20260423T113455
CREATED:20231026T192204Z
LAST-MODIFIED:20231026T192204Z
UID:10001791-1700697600-1700783999@lcor.org
SUMMARY:Office Closed
DESCRIPTION:Church office hours will resume on Monday November 27th at 9am.
URL:https://lcor.org/events-calendar/office-closed-3/
CATEGORIES:Administration
END:VEVENT
BEGIN:VEVENT
DTSTART;TZID=UTC:20231123T073000
DTEND;TZID=UTC:20231123T073000
DTSTAMP:20260423T113455
CREATED:20230807T163627Z
LAST-MODIFIED:20230907T161914Z
UID:10001689-1700724600-1700724600@lcor.org
SUMMARY:Ladies Bible Study via Zoom
DESCRIPTION:Join us every Monday and Thursday! \nFor more information\, email us at office@lcor.org.
URL:https://lcor.org/events-calendar/ladies-bible-stude-via-zoom/2023-11-23/
END:VEVENT
BEGIN:VEVENT
DTSTART;TZID=UTC:20231126T083000
DTEND;TZID=UTC:20231126T083000
DTSTAMP:20260423T113455
CREATED:20230802T172019Z
LAST-MODIFIED:20230802T173611Z
UID:10001575-1700987400-1700987400@lcor.org
SUMMARY:Contemporary Worship
DESCRIPTION:Join us Sundays at 8:30 am for our Contemporary Worship Service. \nFor questions or to inquire more information\, please contact office@lcor.org.
URL:https://lcor.org/events-calendar/contemporary-worship-2/2023-11-26/
CATEGORIES:Worship & Music
END:VEVENT
BEGIN:VEVENT
DTSTART;TZID=UTC:20231126T093000
DTEND;TZID=UTC:20231126T093000
DTSTAMP:20260423T113455
CREATED:20230802T172728Z
LAST-MODIFIED:20230907T154231Z
UID:10001746-1700991000-1700991000@lcor.org
SUMMARY:Fellowship; Adult Sunday School Only
DESCRIPTION:Join us for an opportunity to connect\, chat\, socialize and learn between our Sunday Worship Services. Visit our Adult Sunday School Page to see the upcoming schedule.
URL:https://lcor.org/events-calendar/coffee-and-fellowship-2023-11-26/
CATEGORIES:Social Event
END:VEVENT
BEGIN:VEVENT
DTSTART;TZID=UTC:20231126T103000
DTEND;TZID=UTC:20231126T103000
DTSTAMP:20260423T113455
CREATED:20230802T173432Z
LAST-MODIFIED:20230807T162503Z
UID:10001614-1700994600-1700994600@lcor.org
SUMMARY:Traditional Worship
DESCRIPTION:Join us Sundays at 10:30 am for our Traditional Worship Service. \nFor questions or to inquire more information\, please contact office@lcor.org.
URL:https://lcor.org/events-calendar/traditional-worship-service/2023-11-26/
CATEGORIES:Worship & Music
END:VEVENT
BEGIN:VEVENT
DTSTART;TZID=UTC:20231127T073000
DTEND;TZID=UTC:20231127T073000
DTSTAMP:20260423T113455
CREATED:20230807T163442Z
LAST-MODIFIED:20230807T163442Z
UID:10001652-1701070200-1701070200@lcor.org
SUMMARY:Ladies Bible Study via Zoom
DESCRIPTION:Join us every Monday and Thursday! \nFor more information\, email us at office@lcor.org.
URL:https://lcor.org/events-calendar/ladies-bible-study-via-zoom-5/2023-11-27/
END:VEVENT
BEGIN:VEVENT
DTSTART;TZID=UTC:20231128T190000
DTEND;TZID=UTC:20231128T190000
DTSTAMP:20260423T113455
CREATED:20231026T192245Z
LAST-MODIFIED:20231026T192245Z
UID:10001792-1701198000-1701198000@lcor.org
SUMMARY:Church Council Meeting
DESCRIPTION:For more details contact us at office@lcor.org.
URL:https://lcor.org/events-calendar/church-council-meeting-3/
CATEGORIES:Council Meetings
END:VEVENT
BEGIN:VEVENT
DTSTART;TZID=UTC:20231130T073000
DTEND;TZID=UTC:20231130T073000
DTSTAMP:20260423T113455
CREATED:20230807T163627Z
LAST-MODIFIED:20230907T161914Z
UID:10001690-1701329400-1701329400@lcor.org
SUMMARY:Ladies Bible Study via Zoom
DESCRIPTION:Join us every Monday and Thursday! \nFor more information\, email us at office@lcor.org.
URL:https://lcor.org/events-calendar/ladies-bible-stude-via-zoom/2023-11-30/
END:VEVENT
BEGIN:VEVENT
DTSTART;TZID=UTC:20231130T190000
DTEND;TZID=UTC:20231130T190000
DTSTAMP:20260423T113455
CREATED:20231026T192353Z
LAST-MODIFIED:20231026T192353Z
UID:10001793-1701370800-1701370800@lcor.org
SUMMARY:Book Club
DESCRIPTION:For more details contact us at office@lcor.org.
URL:https://lcor.org/events-calendar/book-club-2/
CATEGORIES:Community Life
END:VEVENT
BEGIN:VEVENT
DTSTART;TZID=UTC:20231203T083000
DTEND;TZID=UTC:20231203T083000
DTSTAMP:20260423T113455
CREATED:20230802T172019Z
LAST-MODIFIED:20230802T173611Z
UID:10001576-1701592200-1701592200@lcor.org
SUMMARY:Contemporary Worship
DESCRIPTION:Join us Sundays at 8:30 am for our Contemporary Worship Service. \nFor questions or to inquire more information\, please contact office@lcor.org.
URL:https://lcor.org/events-calendar/contemporary-worship-2/2023-12-03/
CATEGORIES:Worship & Music
END:VEVENT
BEGIN:VEVENT
DTSTART;TZID=UTC:20231203T093000
DTEND;TZID=UTC:20231203T093000
DTSTAMP:20260423T113455
CREATED:20230802T172728Z
LAST-MODIFIED:20230907T152204Z
UID:10001728-1701595800-1701595800@lcor.org
SUMMARY:Fellowship; Christian Ed.
DESCRIPTION:Join us for an opportunity to connect\, chat\, socialize and learn between our Sunday Worship Services. Visit our Adult Sunday School Page to see the upcoming schedule.
URL:https://lcor.org/events-calendar/coffee-and-fellowship-2023-09-24/2023-12-03/
CATEGORIES:Social Event
END:VEVENT
BEGIN:VEVENT
DTSTART;TZID=UTC:20231203T103000
DTEND;TZID=UTC:20231203T103000
DTSTAMP:20260423T113455
CREATED:20230802T173432Z
LAST-MODIFIED:20230807T162503Z
UID:10001615-1701599400-1701599400@lcor.org
SUMMARY:Traditional Worship
DESCRIPTION:Join us Sundays at 10:30 am for our Traditional Worship Service. \nFor questions or to inquire more information\, please contact office@lcor.org.
URL:https://lcor.org/events-calendar/traditional-worship-service/2023-12-03/
CATEGORIES:Worship & Music
END:VEVENT
BEGIN:VEVENT
DTSTART;TZID=UTC:20231203T183000
DTEND;TZID=UTC:20231203T183000
DTSTAMP:20260423T113455
CREATED:20230831T144416Z
LAST-MODIFIED:20230831T144416Z
UID:10001768-1701628200-1701628200@lcor.org
SUMMARY:Confirmation Class
DESCRIPTION:For more information email us at office@lcor.org
URL:https://lcor.org/events-calendar/confirmation-class-4/2023-12-03/
CATEGORIES:Christian Education
END:VEVENT
BEGIN:VEVENT
DTSTART;TZID=UTC:20231204T073000
DTEND;TZID=UTC:20231204T073000
DTSTAMP:20260423T113455
CREATED:20230807T163442Z
LAST-MODIFIED:20230807T163442Z
UID:10001653-1701675000-1701675000@lcor.org
SUMMARY:Ladies Bible Study via Zoom
DESCRIPTION:Join us every Monday and Thursday! \nFor more information\, email us at office@lcor.org.
URL:https://lcor.org/events-calendar/ladies-bible-study-via-zoom-5/2023-12-04/
END:VEVENT
BEGIN:VEVENT
DTSTART;TZID=UTC:20231204T090000
DTEND;TZID=UTC:20231204T090000
DTSTAMP:20260423T113455
CREATED:20231130T164125Z
LAST-MODIFIED:20231130T164125Z
UID:10001798-1701680400-1701680400@lcor.org
SUMMARY:Community Life Meeting
DESCRIPTION:
URL:https://lcor.org/events-calendar/community-life-meeting/
CATEGORIES:Community Life
END:VEVENT
END:VCALENDAR