BEGIN:VCALENDAR
VERSION:2.0
PRODID:-//Lutheran Church of Our Redeemer - ECPv6.15.20//NONSGML v1.0//EN
CALSCALE:GREGORIAN
METHOD:PUBLISH
X-ORIGINAL-URL:https://lcor.org
X-WR-CALDESC:Events for Lutheran Church of Our Redeemer
REFRESH-INTERVAL;VALUE=DURATION:PT1H
X-Robots-Tag:noindex
X-PUBLISHED-TTL:PT1H
BEGIN:VTIMEZONE
TZID:UTC
BEGIN:STANDARD
TZOFFSETFROM:+0000
TZOFFSETTO:+0000
TZNAME:UTC
DTSTART:20220101T000000
END:STANDARD
END:VTIMEZONE
BEGIN:VEVENT
DTSTART;TZID=UTC:20230716T083000
DTEND;TZID=UTC:20230716T083000
DTSTAMP:20260423T213414
CREATED:20230226T212701Z
LAST-MODIFIED:20230430T224359Z
UID:10001511-1689496200-1689496200@lcor.org
SUMMARY:Contemp. Worship
DESCRIPTION:
URL:https://lcor.org/events-calendar/contemporary-worship-2023-06-04/2023-07-16/
CATEGORIES:Worship & Music
END:VEVENT
BEGIN:VEVENT
DTSTART;TZID=UTC:20230716T091500
DTEND;TZID=UTC:20230716T091500
DTSTAMP:20260423T213414
CREATED:20230226T213007Z
LAST-MODIFIED:20230226T213007Z
UID:10001525-1689498900-1689498900@lcor.org
SUMMARY:Coffee & Fellowship
DESCRIPTION:
URL:https://lcor.org/events-calendar/coffee-fellowship/2023-07-16/
CATEGORIES:Social Event
END:VEVENT
BEGIN:VEVENT
DTSTART;TZID=UTC:20230716T100000
DTEND;TZID=UTC:20230716T100000
DTSTAMP:20260423T213414
CREATED:20230226T213131Z
LAST-MODIFIED:20230226T213131Z
UID:10001541-1689501600-1689501600@lcor.org
SUMMARY:Traditional Worship
DESCRIPTION:
URL:https://lcor.org/events-calendar/traditional-worship/2023-07-16/
CATEGORIES:Worship & Music
END:VEVENT
BEGIN:VEVENT
DTSTART;TZID=UTC:20230717T071500
DTEND;TZID=UTC:20230717T084500
DTSTAMP:20260423T213414
CREATED:20220620T211210Z
LAST-MODIFIED:20230531T155924Z
UID:10001280-1689578100-1689583500@lcor.org
SUMMARY:Ladies Bible Study via Zoom
DESCRIPTION:
URL:https://lcor.org/events-calendar/ladies-bible-study/2023-07-17/
END:VEVENT
BEGIN:VEVENT
DTSTART;TZID=UTC:20230720T071500
DTEND;TZID=UTC:20230720T084500
DTSTAMP:20260423T213414
CREATED:20220620T211603Z
LAST-MODIFIED:20230531T160220Z
UID:10001339-1689837300-1689842700@lcor.org
SUMMARY:Ladies Bible Study via Zoom
DESCRIPTION:
URL:https://lcor.org/events-calendar/ladies-bible-study-via-zoom-4/2023-07-20/
END:VEVENT
BEGIN:VEVENT
DTSTART;TZID=UTC:20230720T180000
DTEND;TZID=UTC:20230720T193000
DTSTAMP:20260423T213414
CREATED:20230622T175819Z
LAST-MODIFIED:20230622T175819Z
UID:10001413-1689876000-1689881400@lcor.org
SUMMARY:VBS
DESCRIPTION:
URL:https://lcor.org/events-calendar/vbs-2/
END:VEVENT
BEGIN:VEVENT
DTSTART;VALUE=DATE:20230722
DTEND;VALUE=DATE:20230723
DTSTAMP:20260423T213414
CREATED:20230622T175909Z
LAST-MODIFIED:20230622T175909Z
UID:10001414-1689984000-1690070399@lcor.org
SUMMARY:August Newsletter Deadline
DESCRIPTION:
URL:https://lcor.org/events-calendar/august-newsletter-deadline/
END:VEVENT
BEGIN:VEVENT
DTSTART;TZID=UTC:20230723T083000
DTEND;TZID=UTC:20230723T083000
DTSTAMP:20260423T213414
CREATED:20230226T212701Z
LAST-MODIFIED:20230430T224359Z
UID:10001512-1690101000-1690101000@lcor.org
SUMMARY:Contemp. Worship
DESCRIPTION:
URL:https://lcor.org/events-calendar/contemporary-worship-2023-06-04/2023-07-23/
CATEGORIES:Worship & Music
END:VEVENT
BEGIN:VEVENT
DTSTART;TZID=UTC:20230723T091500
DTEND;TZID=UTC:20230723T091500
DTSTAMP:20260423T213414
CREATED:20230226T213007Z
LAST-MODIFIED:20230226T213007Z
UID:10001526-1690103700-1690103700@lcor.org
SUMMARY:Coffee & Fellowship
DESCRIPTION:
URL:https://lcor.org/events-calendar/coffee-fellowship/2023-07-23/
CATEGORIES:Social Event
END:VEVENT
BEGIN:VEVENT
DTSTART;TZID=UTC:20230723T100000
DTEND;TZID=UTC:20230723T100000
DTSTAMP:20260423T213414
CREATED:20230226T213131Z
LAST-MODIFIED:20230226T213131Z
UID:10001542-1690106400-1690106400@lcor.org
SUMMARY:Traditional Worship
DESCRIPTION:
URL:https://lcor.org/events-calendar/traditional-worship/2023-07-23/
CATEGORIES:Worship & Music
END:VEVENT
BEGIN:VEVENT
DTSTART;TZID=UTC:20230724T071500
DTEND;TZID=UTC:20230724T084500
DTSTAMP:20260423T213414
CREATED:20220620T211210Z
LAST-MODIFIED:20230531T155924Z
UID:10001281-1690182900-1690188300@lcor.org
SUMMARY:Ladies Bible Study via Zoom
DESCRIPTION:
URL:https://lcor.org/events-calendar/ladies-bible-study/2023-07-24/
END:VEVENT
BEGIN:VEVENT
DTSTART;TZID=UTC:20230727T071500
DTEND;TZID=UTC:20230727T084500
DTSTAMP:20260423T213414
CREATED:20220620T211603Z
LAST-MODIFIED:20230531T160220Z
UID:10001340-1690442100-1690447500@lcor.org
SUMMARY:Ladies Bible Study via Zoom
DESCRIPTION:
URL:https://lcor.org/events-calendar/ladies-bible-study-via-zoom-4/2023-07-27/
END:VEVENT
BEGIN:VEVENT
DTSTART;TZID=UTC:20230730T083000
DTEND;TZID=UTC:20230730T083000
DTSTAMP:20260423T213414
CREATED:20230226T212701Z
LAST-MODIFIED:20230430T224359Z
UID:10001513-1690705800-1690705800@lcor.org
SUMMARY:Contemp. Worship
DESCRIPTION:
URL:https://lcor.org/events-calendar/contemporary-worship-2023-06-04/2023-07-30/
CATEGORIES:Worship & Music
END:VEVENT
BEGIN:VEVENT
DTSTART;TZID=UTC:20230730T091500
DTEND;TZID=UTC:20230730T091500
DTSTAMP:20260423T213414
CREATED:20230226T213007Z
LAST-MODIFIED:20230226T213007Z
UID:10001527-1690708500-1690708500@lcor.org
SUMMARY:Coffee & Fellowship
DESCRIPTION:
URL:https://lcor.org/events-calendar/coffee-fellowship/2023-07-30/
CATEGORIES:Social Event
END:VEVENT
BEGIN:VEVENT
DTSTART;TZID=UTC:20230730T100000
DTEND;TZID=UTC:20230730T100000
DTSTAMP:20260423T213414
CREATED:20230226T213131Z
LAST-MODIFIED:20230226T213131Z
UID:10001543-1690711200-1690711200@lcor.org
SUMMARY:Traditional Worship
DESCRIPTION:
URL:https://lcor.org/events-calendar/traditional-worship/2023-07-30/
CATEGORIES:Worship & Music
END:VEVENT
BEGIN:VEVENT
DTSTART;TZID=UTC:20230731T071500
DTEND;TZID=UTC:20230731T084500
DTSTAMP:20260423T213414
CREATED:20220620T211210Z
LAST-MODIFIED:20230531T155924Z
UID:10001282-1690787700-1690793100@lcor.org
SUMMARY:Ladies Bible Study via Zoom
DESCRIPTION:
URL:https://lcor.org/events-calendar/ladies-bible-study/2023-07-31/
END:VEVENT
BEGIN:VEVENT
DTSTART;VALUE=DATE:20230801
DTEND;VALUE=DATE:20230802
DTSTAMP:20260423T213414
CREATED:20230726T160605Z
LAST-MODIFIED:20230726T160605Z
UID:10001562-1690848000-1690934399@lcor.org
SUMMARY:Sunday School Registration Begins!
DESCRIPTION:
URL:https://lcor.org/events-calendar/sunday-school-registration-begins/
END:VEVENT
BEGIN:VEVENT
DTSTART;TZID=UTC:20230803T071500
DTEND;TZID=UTC:20230803T084500
DTSTAMP:20260423T213414
CREATED:20220620T211603Z
LAST-MODIFIED:20230531T160220Z
UID:10001341-1691046900-1691052300@lcor.org
SUMMARY:Ladies Bible Study via Zoom
DESCRIPTION:
URL:https://lcor.org/events-calendar/ladies-bible-study-via-zoom-4/2023-08-03/
END:VEVENT
BEGIN:VEVENT
DTSTART;TZID=UTC:20230806T083000
DTEND;TZID=UTC:20230806T083000
DTSTAMP:20260423T213414
CREATED:20230226T212701Z
LAST-MODIFIED:20230430T224359Z
UID:10001514-1691310600-1691310600@lcor.org
SUMMARY:Contemp. Worship
DESCRIPTION:
URL:https://lcor.org/events-calendar/contemporary-worship-2023-06-04/2023-08-06/
CATEGORIES:Worship & Music
END:VEVENT
BEGIN:VEVENT
DTSTART;TZID=UTC:20230806T091500
DTEND;TZID=UTC:20230806T091500
DTSTAMP:20260423T213414
CREATED:20230226T213007Z
LAST-MODIFIED:20230226T213007Z
UID:10001528-1691313300-1691313300@lcor.org
SUMMARY:Coffee & Fellowship
DESCRIPTION:
URL:https://lcor.org/events-calendar/coffee-fellowship/2023-08-06/
CATEGORIES:Social Event
END:VEVENT
BEGIN:VEVENT
DTSTART;TZID=UTC:20230806T100000
DTEND;TZID=UTC:20230806T100000
DTSTAMP:20260423T213414
CREATED:20230226T213131Z
LAST-MODIFIED:20230226T213131Z
UID:10001544-1691316000-1691316000@lcor.org
SUMMARY:Traditional Worship
DESCRIPTION:
URL:https://lcor.org/events-calendar/traditional-worship/2023-08-06/
CATEGORIES:Worship & Music
END:VEVENT
BEGIN:VEVENT
DTSTART;TZID=UTC:20230807T071500
DTEND;TZID=UTC:20230807T084500
DTSTAMP:20260423T213414
CREATED:20220620T211210Z
LAST-MODIFIED:20230531T155924Z
UID:10001283-1691392500-1691397900@lcor.org
SUMMARY:Ladies Bible Study via Zoom
DESCRIPTION:
URL:https://lcor.org/events-calendar/ladies-bible-study/2023-08-07/
END:VEVENT
BEGIN:VEVENT
DTSTART;TZID=UTC:20230810T071500
DTEND;TZID=UTC:20230810T084500
DTSTAMP:20260423T213414
CREATED:20220620T211603Z
LAST-MODIFIED:20230531T160220Z
UID:10001342-1691651700-1691657100@lcor.org
SUMMARY:Ladies Bible Study via Zoom
DESCRIPTION:
URL:https://lcor.org/events-calendar/ladies-bible-study-via-zoom-4/2023-08-10/
END:VEVENT
BEGIN:VEVENT
DTSTART;TZID=UTC:20230813T083000
DTEND;TZID=UTC:20230813T083000
DTSTAMP:20260423T213414
CREATED:20230226T212701Z
LAST-MODIFIED:20230430T224359Z
UID:10001515-1691915400-1691915400@lcor.org
SUMMARY:Contemp. Worship
DESCRIPTION:
URL:https://lcor.org/events-calendar/contemporary-worship-2023-06-04/2023-08-13/
CATEGORIES:Worship & Music
END:VEVENT
BEGIN:VEVENT
DTSTART;TZID=UTC:20230813T091500
DTEND;TZID=UTC:20230813T091500
DTSTAMP:20260423T213414
CREATED:20230226T213007Z
LAST-MODIFIED:20230226T213007Z
UID:10001529-1691918100-1691918100@lcor.org
SUMMARY:Coffee & Fellowship
DESCRIPTION:
URL:https://lcor.org/events-calendar/coffee-fellowship/2023-08-13/
CATEGORIES:Social Event
END:VEVENT
BEGIN:VEVENT
DTSTART;TZID=UTC:20230813T100000
DTEND;TZID=UTC:20230813T100000
DTSTAMP:20260423T213414
CREATED:20230226T213131Z
LAST-MODIFIED:20230226T213131Z
UID:10001545-1691920800-1691920800@lcor.org
SUMMARY:Traditional Worship
DESCRIPTION:
URL:https://lcor.org/events-calendar/traditional-worship/2023-08-13/
CATEGORIES:Worship & Music
END:VEVENT
BEGIN:VEVENT
DTSTART;TZID=UTC:20230814T071500
DTEND;TZID=UTC:20230814T084500
DTSTAMP:20260423T213414
CREATED:20220620T211210Z
LAST-MODIFIED:20230531T155924Z
UID:10001284-1691997300-1692002700@lcor.org
SUMMARY:Ladies Bible Study via Zoom
DESCRIPTION:
URL:https://lcor.org/events-calendar/ladies-bible-study/2023-08-14/
END:VEVENT
BEGIN:VEVENT
DTSTART;TZID=UTC:20230817T071500
DTEND;TZID=UTC:20230817T084500
DTSTAMP:20260423T213414
CREATED:20220620T211603Z
LAST-MODIFIED:20230531T160220Z
UID:10001343-1692256500-1692261900@lcor.org
SUMMARY:Ladies Bible Study via Zoom
DESCRIPTION:
URL:https://lcor.org/events-calendar/ladies-bible-study-via-zoom-4/2023-08-17/
END:VEVENT
BEGIN:VEVENT
DTSTART;VALUE=DATE:20230819
DTEND;VALUE=DATE:20230820
DTSTAMP:20260423T213414
CREATED:20230727T133331Z
LAST-MODIFIED:20230727T133331Z
UID:10001563-1692403200-1692489599@lcor.org
SUMMARY:Newsletter Deadline
DESCRIPTION:
URL:https://lcor.org/events-calendar/newsletter-deadline/
END:VEVENT
BEGIN:VEVENT
DTSTART;TZID=UTC:20230820T083000
DTEND;TZID=UTC:20230820T083000
DTSTAMP:20260423T213414
CREATED:20230226T212701Z
LAST-MODIFIED:20230430T224359Z
UID:10001516-1692520200-1692520200@lcor.org
SUMMARY:Contemp. Worship
DESCRIPTION:
URL:https://lcor.org/events-calendar/contemporary-worship-2023-06-04/2023-08-20/
CATEGORIES:Worship & Music
END:VEVENT
END:VCALENDAR