BEGIN:VCALENDAR
VERSION:2.0
PRODID:-//Lutheran Church of Our Redeemer - ECPv6.15.20//NONSGML v1.0//EN
CALSCALE:GREGORIAN
METHOD:PUBLISH
X-ORIGINAL-URL:https://lcor.org
X-WR-CALDESC:Events for Lutheran Church of Our Redeemer
REFRESH-INTERVAL;VALUE=DURATION:PT1H
X-Robots-Tag:noindex
X-PUBLISHED-TTL:PT1H
BEGIN:VTIMEZONE
TZID:UTC
BEGIN:STANDARD
TZOFFSETFROM:+0000
TZOFFSETTO:+0000
TZNAME:UTC
DTSTART:20220101T000000
END:STANDARD
END:VTIMEZONE
BEGIN:VEVENT
DTSTART;TZID=UTC:20230614T170000
DTEND;TZID=UTC:20230614T200000
DTSTAMP:20260423T230151
CREATED:20230611T015550Z
LAST-MODIFIED:20230611T015608Z
UID:10001412-1686762000-1686772800@lcor.org
SUMMARY:ORCCC Graduation Ceremony
DESCRIPTION:
URL:https://lcor.org/events-calendar/orccc-graduation-ceremony/
CATEGORIES:ORCCC
END:VEVENT
BEGIN:VEVENT
DTSTART;TZID=UTC:20230615T071500
DTEND;TZID=UTC:20230615T084500
DTSTAMP:20260423T230151
CREATED:20220620T211603Z
LAST-MODIFIED:20230531T160220Z
UID:10001334-1686813300-1686818700@lcor.org
SUMMARY:Ladies Bible Study via Zoom
DESCRIPTION:
URL:https://lcor.org/events-calendar/ladies-bible-study-via-zoom-4/2023-06-15/
END:VEVENT
BEGIN:VEVENT
DTSTART;TZID=UTC:20230618T083000
DTEND;TZID=UTC:20230618T083000
DTSTAMP:20260423T230151
CREATED:20230226T212701Z
LAST-MODIFIED:20230430T224359Z
UID:10001507-1687077000-1687077000@lcor.org
SUMMARY:Contemp. Worship
DESCRIPTION:
URL:https://lcor.org/events-calendar/contemporary-worship-2023-06-04/2023-06-18/
CATEGORIES:Worship & Music
END:VEVENT
BEGIN:VEVENT
DTSTART;TZID=UTC:20230618T091500
DTEND;TZID=UTC:20230618T091500
DTSTAMP:20260423T230151
CREATED:20230226T213007Z
LAST-MODIFIED:20230226T213007Z
UID:10001521-1687079700-1687079700@lcor.org
SUMMARY:Coffee & Fellowship
DESCRIPTION:
URL:https://lcor.org/events-calendar/coffee-fellowship/2023-06-18/
CATEGORIES:Social Event
END:VEVENT
BEGIN:VEVENT
DTSTART;TZID=UTC:20230618T100000
DTEND;TZID=UTC:20230618T100000
DTSTAMP:20260423T230151
CREATED:20230226T213131Z
LAST-MODIFIED:20230226T213131Z
UID:10001537-1687082400-1687082400@lcor.org
SUMMARY:Traditional Worship
DESCRIPTION:
URL:https://lcor.org/events-calendar/traditional-worship/2023-06-18/
CATEGORIES:Worship & Music
END:VEVENT
BEGIN:VEVENT
DTSTART;TZID=UTC:20230619T071500
DTEND;TZID=UTC:20230619T084500
DTSTAMP:20260423T230151
CREATED:20220620T211210Z
LAST-MODIFIED:20230531T155924Z
UID:10001276-1687158900-1687164300@lcor.org
SUMMARY:Ladies Bible Study via Zoom
DESCRIPTION:
URL:https://lcor.org/events-calendar/ladies-bible-study/2023-06-19/
END:VEVENT
BEGIN:VEVENT
DTSTART;TZID=UTC:20230620T190000
DTEND;TZID=UTC:20230620T210000
DTSTAMP:20260423T230151
CREATED:20221223T192902Z
LAST-MODIFIED:20221223T192902Z
UID:10001471-1687287600-1687294800@lcor.org
SUMMARY:LCOR Council Meeting
DESCRIPTION:
URL:https://lcor.org/events-calendar/lcor-council-meeting/2023-06-20/
CATEGORIES:Council Meetings
END:VEVENT
BEGIN:VEVENT
DTSTART;TZID=UTC:20230622T071500
DTEND;TZID=UTC:20230622T084500
DTSTAMP:20260423T230151
CREATED:20220620T211603Z
LAST-MODIFIED:20230531T160220Z
UID:10001335-1687418100-1687423500@lcor.org
SUMMARY:Ladies Bible Study via Zoom
DESCRIPTION:
URL:https://lcor.org/events-calendar/ladies-bible-study-via-zoom-4/2023-06-22/
END:VEVENT
BEGIN:VEVENT
DTSTART;VALUE=DATE:20230624
DTEND;VALUE=DATE:20230625
DTSTAMP:20260423T230151
CREATED:20230531T154927Z
LAST-MODIFIED:20230531T154927Z
UID:10001407-1687564800-1687651199@lcor.org
SUMMARY:Deadline for submissions for July newsletter
DESCRIPTION:
URL:https://lcor.org/events-calendar/deadline-for-submissions-for-july-newsletter/
CATEGORIES:Administration
END:VEVENT
BEGIN:VEVENT
DTSTART;TZID=UTC:20230625T083000
DTEND;TZID=UTC:20230625T083000
DTSTAMP:20260423T230151
CREATED:20230226T212701Z
LAST-MODIFIED:20230430T224359Z
UID:10001508-1687681800-1687681800@lcor.org
SUMMARY:Contemp. Worship
DESCRIPTION:
URL:https://lcor.org/events-calendar/contemporary-worship-2023-06-04/2023-06-25/
CATEGORIES:Worship & Music
END:VEVENT
BEGIN:VEVENT
DTSTART;TZID=UTC:20230625T091500
DTEND;TZID=UTC:20230625T091500
DTSTAMP:20260423T230151
CREATED:20230226T213007Z
LAST-MODIFIED:20230226T213007Z
UID:10001522-1687684500-1687684500@lcor.org
SUMMARY:Coffee & Fellowship
DESCRIPTION:
URL:https://lcor.org/events-calendar/coffee-fellowship/2023-06-25/
CATEGORIES:Social Event
END:VEVENT
BEGIN:VEVENT
DTSTART;TZID=UTC:20230625T100000
DTEND;TZID=UTC:20230625T100000
DTSTAMP:20260423T230151
CREATED:20230226T213131Z
LAST-MODIFIED:20230226T213131Z
UID:10001538-1687687200-1687687200@lcor.org
SUMMARY:Traditional Worship
DESCRIPTION:
URL:https://lcor.org/events-calendar/traditional-worship/2023-06-25/
CATEGORIES:Worship & Music
END:VEVENT
BEGIN:VEVENT
DTSTART;TZID=UTC:20230626T071500
DTEND;TZID=UTC:20230626T084500
DTSTAMP:20260423T230151
CREATED:20220620T211210Z
LAST-MODIFIED:20230531T155924Z
UID:10001277-1687763700-1687769100@lcor.org
SUMMARY:Ladies Bible Study via Zoom
DESCRIPTION:
URL:https://lcor.org/events-calendar/ladies-bible-study/2023-06-26/
END:VEVENT
BEGIN:VEVENT
DTSTART;TZID=UTC:20230629T071500
DTEND;TZID=UTC:20230629T084500
DTSTAMP:20260423T230151
CREATED:20220620T211603Z
LAST-MODIFIED:20230531T160220Z
UID:10001336-1688022900-1688028300@lcor.org
SUMMARY:Ladies Bible Study via Zoom
DESCRIPTION:
URL:https://lcor.org/events-calendar/ladies-bible-study-via-zoom-4/2023-06-29/
END:VEVENT
BEGIN:VEVENT
DTSTART;TZID=UTC:20230629T180000
DTEND;TZID=UTC:20230629T193000
DTSTAMP:20260423T230151
CREATED:20230531T155059Z
LAST-MODIFIED:20230531T155059Z
UID:10001408-1688061600-1688067000@lcor.org
SUMMARY:VBS
DESCRIPTION:
URL:https://lcor.org/events-calendar/vbs/
END:VEVENT
BEGIN:VEVENT
DTSTART;TZID=UTC:20230702T083000
DTEND;TZID=UTC:20230702T083000
DTSTAMP:20260423T230151
CREATED:20230226T212701Z
LAST-MODIFIED:20230430T224359Z
UID:10001509-1688286600-1688286600@lcor.org
SUMMARY:Contemp. Worship
DESCRIPTION:
URL:https://lcor.org/events-calendar/contemporary-worship-2023-06-04/2023-07-02/
CATEGORIES:Worship & Music
END:VEVENT
BEGIN:VEVENT
DTSTART;TZID=UTC:20230702T091500
DTEND;TZID=UTC:20230702T091500
DTSTAMP:20260423T230151
CREATED:20230226T213007Z
LAST-MODIFIED:20230226T213007Z
UID:10001523-1688289300-1688289300@lcor.org
SUMMARY:Coffee & Fellowship
DESCRIPTION:
URL:https://lcor.org/events-calendar/coffee-fellowship/2023-07-02/
CATEGORIES:Social Event
END:VEVENT
BEGIN:VEVENT
DTSTART;TZID=UTC:20230702T100000
DTEND;TZID=UTC:20230702T100000
DTSTAMP:20260423T230151
CREATED:20230226T213131Z
LAST-MODIFIED:20230226T213131Z
UID:10001539-1688292000-1688292000@lcor.org
SUMMARY:Traditional Worship
DESCRIPTION:
URL:https://lcor.org/events-calendar/traditional-worship/2023-07-02/
CATEGORIES:Worship & Music
END:VEVENT
BEGIN:VEVENT
DTSTART;TZID=UTC:20230703T071500
DTEND;TZID=UTC:20230703T084500
DTSTAMP:20260423T230151
CREATED:20220620T211210Z
LAST-MODIFIED:20230531T155924Z
UID:10001278-1688368500-1688373900@lcor.org
SUMMARY:Ladies Bible Study via Zoom
DESCRIPTION:
URL:https://lcor.org/events-calendar/ladies-bible-study/2023-07-03/
END:VEVENT
BEGIN:VEVENT
DTSTART;TZID=UTC:20230706T071500
DTEND;TZID=UTC:20230706T084500
DTSTAMP:20260423T230151
CREATED:20220620T211603Z
LAST-MODIFIED:20230531T160220Z
UID:10001337-1688627700-1688633100@lcor.org
SUMMARY:Ladies Bible Study via Zoom
DESCRIPTION:
URL:https://lcor.org/events-calendar/ladies-bible-study-via-zoom-4/2023-07-06/
END:VEVENT
BEGIN:VEVENT
DTSTART;TZID=UTC:20230709T083000
DTEND;TZID=UTC:20230709T083000
DTSTAMP:20260423T230151
CREATED:20230226T212701Z
LAST-MODIFIED:20230430T224359Z
UID:10001510-1688891400-1688891400@lcor.org
SUMMARY:Contemp. Worship
DESCRIPTION:
URL:https://lcor.org/events-calendar/contemporary-worship-2023-06-04/2023-07-09/
CATEGORIES:Worship & Music
END:VEVENT
BEGIN:VEVENT
DTSTART;TZID=UTC:20230709T091500
DTEND;TZID=UTC:20230709T091500
DTSTAMP:20260423T230151
CREATED:20230226T213007Z
LAST-MODIFIED:20230226T213007Z
UID:10001524-1688894100-1688894100@lcor.org
SUMMARY:Coffee & Fellowship
DESCRIPTION:
URL:https://lcor.org/events-calendar/coffee-fellowship/2023-07-09/
CATEGORIES:Social Event
END:VEVENT
BEGIN:VEVENT
DTSTART;TZID=UTC:20230709T100000
DTEND;TZID=UTC:20230709T100000
DTSTAMP:20260423T230151
CREATED:20230226T213131Z
LAST-MODIFIED:20230226T213131Z
UID:10001540-1688896800-1688896800@lcor.org
SUMMARY:Traditional Worship
DESCRIPTION:
URL:https://lcor.org/events-calendar/traditional-worship/2023-07-09/
CATEGORIES:Worship & Music
END:VEVENT
BEGIN:VEVENT
DTSTART;TZID=UTC:20230710T071500
DTEND;TZID=UTC:20230710T084500
DTSTAMP:20260423T230151
CREATED:20220620T211210Z
LAST-MODIFIED:20230531T155924Z
UID:10001279-1688973300-1688978700@lcor.org
SUMMARY:Ladies Bible Study via Zoom
DESCRIPTION:
URL:https://lcor.org/events-calendar/ladies-bible-study/2023-07-10/
END:VEVENT
BEGIN:VEVENT
DTSTART;TZID=UTC:20230713T071500
DTEND;TZID=UTC:20230713T084500
DTSTAMP:20260423T230151
CREATED:20220620T211603Z
LAST-MODIFIED:20230531T160220Z
UID:10001338-1689232500-1689237900@lcor.org
SUMMARY:Ladies Bible Study via Zoom
DESCRIPTION:
URL:https://lcor.org/events-calendar/ladies-bible-study-via-zoom-4/2023-07-13/
END:VEVENT
BEGIN:VEVENT
DTSTART;TZID=UTC:20230716T083000
DTEND;TZID=UTC:20230716T083000
DTSTAMP:20260423T230151
CREATED:20230226T212701Z
LAST-MODIFIED:20230430T224359Z
UID:10001511-1689496200-1689496200@lcor.org
SUMMARY:Contemp. Worship
DESCRIPTION:
URL:https://lcor.org/events-calendar/contemporary-worship-2023-06-04/2023-07-16/
CATEGORIES:Worship & Music
END:VEVENT
BEGIN:VEVENT
DTSTART;TZID=UTC:20230716T091500
DTEND;TZID=UTC:20230716T091500
DTSTAMP:20260423T230151
CREATED:20230226T213007Z
LAST-MODIFIED:20230226T213007Z
UID:10001525-1689498900-1689498900@lcor.org
SUMMARY:Coffee & Fellowship
DESCRIPTION:
URL:https://lcor.org/events-calendar/coffee-fellowship/2023-07-16/
CATEGORIES:Social Event
END:VEVENT
BEGIN:VEVENT
DTSTART;TZID=UTC:20230716T100000
DTEND;TZID=UTC:20230716T100000
DTSTAMP:20260423T230151
CREATED:20230226T213131Z
LAST-MODIFIED:20230226T213131Z
UID:10001541-1689501600-1689501600@lcor.org
SUMMARY:Traditional Worship
DESCRIPTION:
URL:https://lcor.org/events-calendar/traditional-worship/2023-07-16/
CATEGORIES:Worship & Music
END:VEVENT
BEGIN:VEVENT
DTSTART;TZID=UTC:20230717T071500
DTEND;TZID=UTC:20230717T084500
DTSTAMP:20260423T230151
CREATED:20220620T211210Z
LAST-MODIFIED:20230531T155924Z
UID:10001280-1689578100-1689583500@lcor.org
SUMMARY:Ladies Bible Study via Zoom
DESCRIPTION:
URL:https://lcor.org/events-calendar/ladies-bible-study/2023-07-17/
END:VEVENT
BEGIN:VEVENT
DTSTART;TZID=UTC:20230720T071500
DTEND;TZID=UTC:20230720T084500
DTSTAMP:20260423T230151
CREATED:20220620T211603Z
LAST-MODIFIED:20230531T160220Z
UID:10001339-1689837300-1689842700@lcor.org
SUMMARY:Ladies Bible Study via Zoom
DESCRIPTION:
URL:https://lcor.org/events-calendar/ladies-bible-study-via-zoom-4/2023-07-20/
END:VEVENT
END:VCALENDAR