BEGIN:VCALENDAR
VERSION:2.0
PRODID:-//Lutheran Church of Our Redeemer - ECPv6.15.20//NONSGML v1.0//EN
CALSCALE:GREGORIAN
METHOD:PUBLISH
X-ORIGINAL-URL:https://lcor.org
X-WR-CALDESC:Events for Lutheran Church of Our Redeemer
REFRESH-INTERVAL;VALUE=DURATION:PT1H
X-Robots-Tag:noindex
X-PUBLISHED-TTL:PT1H
BEGIN:VTIMEZONE
TZID:UTC
BEGIN:STANDARD
TZOFFSETFROM:+0000
TZOFFSETTO:+0000
TZNAME:UTC
DTSTART:20220101T000000
END:STANDARD
END:VTIMEZONE
BEGIN:VEVENT
DTSTART;TZID=UTC:20230409T083000
DTEND;TZID=UTC:20230409T083000
DTSTAMP:20260423T213409
CREATED:20220504T200730Z
LAST-MODIFIED:20230226T205450Z
UID:10001087-1681029000-1681029000@lcor.org
SUMMARY:Contemp. Worship
DESCRIPTION:
URL:https://lcor.org/events-calendar/contemporary-worship-service-with-holy-communion/2023-04-09/
CATEGORIES:Worship & Music
END:VEVENT
BEGIN:VEVENT
DTSTART;TZID=UTC:20230409T091500
DTEND;TZID=UTC:20230409T091500
DTSTAMP:20260423T213409
CREATED:20220829T013104Z
LAST-MODIFIED:20230329T021503Z
UID:10001436-1681031700-1681031700@lcor.org
SUMMARY:Fellowship at 9:15; No Christian Ed.
DESCRIPTION:
URL:https://lcor.org/events-calendar/fellowship-2022-09-18-2023-04-09/
END:VEVENT
BEGIN:VEVENT
DTSTART;TZID=UTC:20230409T103000
DTEND;TZID=UTC:20230409T103000
DTSTAMP:20260423T213409
CREATED:20220504T201337Z
LAST-MODIFIED:20230226T203125Z
UID:10001203-1681036200-1681036200@lcor.org
SUMMARY:Traditional Worship
DESCRIPTION:
URL:https://lcor.org/events-calendar/traditional-worship-service-with-holy-communion-2022-12-04/2023-04-09/
CATEGORIES:Worship & Music
END:VEVENT
BEGIN:VEVENT
DTSTART;TZID=UTC:20230410T071500
DTEND;TZID=UTC:20230410T084500
DTSTAMP:20260423T213409
CREATED:20220620T211210Z
LAST-MODIFIED:20230531T155924Z
UID:10001266-1681110900-1681116300@lcor.org
SUMMARY:Ladies Bible Study via Zoom
DESCRIPTION:
URL:https://lcor.org/events-calendar/ladies-bible-study/2023-04-10/
END:VEVENT
BEGIN:VEVENT
DTSTART;TZID=UTC:20230411T190000
DTEND;TZID=UTC:20230411T190000
DTSTAMP:20260423T213409
CREATED:20230329T015134Z
LAST-MODIFIED:20230329T015134Z
UID:10001551-1681239600-1681239600@lcor.org
SUMMARY:Finance Committee Meeting
DESCRIPTION:
URL:https://lcor.org/events-calendar/finance-committee-meeting-4/
CATEGORIES:Finance Committee
END:VEVENT
BEGIN:VEVENT
DTSTART;TZID=UTC:20230413T071500
DTEND;TZID=UTC:20230413T084500
DTSTAMP:20260423T213409
CREATED:20220620T211603Z
LAST-MODIFIED:20230531T160220Z
UID:10001325-1681370100-1681375500@lcor.org
SUMMARY:Ladies Bible Study via Zoom
DESCRIPTION:
URL:https://lcor.org/events-calendar/ladies-bible-study-via-zoom-4/2023-04-13/
END:VEVENT
BEGIN:VEVENT
DTSTART;TZID=UTC:20230413T183000
DTEND;TZID=UTC:20230413T203000
DTSTAMP:20260423T213409
CREATED:20230406T011004Z
LAST-MODIFIED:20230406T011004Z
UID:10001555-1681410600-1681417800@lcor.org
SUMMARY:Social Ministry Meeting
DESCRIPTION:
URL:https://lcor.org/events-calendar/social-ministry-meeting-3/
END:VEVENT
BEGIN:VEVENT
DTSTART;TZID=UTC:20230416T083000
DTEND;TZID=UTC:20230416T083000
DTSTAMP:20260423T213409
CREATED:20220504T200730Z
LAST-MODIFIED:20230226T205450Z
UID:10001088-1681633800-1681633800@lcor.org
SUMMARY:Contemp. Worship
DESCRIPTION:
URL:https://lcor.org/events-calendar/contemporary-worship-service-with-holy-communion/2023-04-16/
CATEGORIES:Worship & Music
END:VEVENT
BEGIN:VEVENT
DTSTART;TZID=UTC:20230416T091500
DTEND;TZID=UTC:20230416T091500
DTSTAMP:20260423T213409
CREATED:20220829T013104Z
LAST-MODIFIED:20230329T021737Z
UID:10001437-1681636500-1681636500@lcor.org
SUMMARY:Fellowship at 9:15; Christian Ed. at 9:30; No Sunday School
DESCRIPTION:
URL:https://lcor.org/events-calendar/fellowship-2022-09-18-2023-04-16/
END:VEVENT
BEGIN:VEVENT
DTSTART;TZID=UTC:20230416T103000
DTEND;TZID=UTC:20230416T103000
DTSTAMP:20260423T213409
CREATED:20220504T201337Z
LAST-MODIFIED:20230226T203125Z
UID:10001204-1681641000-1681641000@lcor.org
SUMMARY:Traditional Worship
DESCRIPTION:
URL:https://lcor.org/events-calendar/traditional-worship-service-with-holy-communion-2022-12-04/2023-04-16/
CATEGORIES:Worship & Music
END:VEVENT
BEGIN:VEVENT
DTSTART;TZID=UTC:20230417T071500
DTEND;TZID=UTC:20230417T084500
DTSTAMP:20260423T213409
CREATED:20220620T211210Z
LAST-MODIFIED:20230531T155924Z
UID:10001267-1681715700-1681721100@lcor.org
SUMMARY:Ladies Bible Study via Zoom
DESCRIPTION:
URL:https://lcor.org/events-calendar/ladies-bible-study/2023-04-17/
END:VEVENT
BEGIN:VEVENT
DTSTART;TZID=UTC:20230420T071500
DTEND;TZID=UTC:20230420T084500
DTSTAMP:20260423T213409
CREATED:20220620T211603Z
LAST-MODIFIED:20230531T160220Z
UID:10001326-1681974900-1681980300@lcor.org
SUMMARY:Ladies Bible Study via Zoom
DESCRIPTION:
URL:https://lcor.org/events-calendar/ladies-bible-study-via-zoom-4/2023-04-20/
END:VEVENT
BEGIN:VEVENT
DTSTART;VALUE=DATE:20230422
DTEND;VALUE=DATE:20230423
DTSTAMP:20260423T213409
CREATED:20230329T015633Z
LAST-MODIFIED:20230329T015633Z
UID:10001553-1682121600-1682207999@lcor.org
SUMMARY:Deadline for May Newsletter Submissions
DESCRIPTION:
URL:https://lcor.org/events-calendar/deadline-for-may-newsletter-submissions-2/
CATEGORIES:Administration
END:VEVENT
BEGIN:VEVENT
DTSTART;TZID=UTC:20230422T090000
DTEND;TZID=UTC:20230422T120000
DTSTAMP:20260423T213409
CREATED:20230329T015440Z
LAST-MODIFIED:20230329T015440Z
UID:10001552-1682154000-1682164800@lcor.org
SUMMARY:LCOR Spring Clean-up
DESCRIPTION:
URL:https://lcor.org/events-calendar/lcor-spring-clean-up/
CATEGORIES:Buildings & Grounds
END:VEVENT
BEGIN:VEVENT
DTSTART;TZID=UTC:20230423T083000
DTEND;TZID=UTC:20230423T083000
DTSTAMP:20260423T213409
CREATED:20220504T200730Z
LAST-MODIFIED:20230226T205450Z
UID:10001089-1682238600-1682238600@lcor.org
SUMMARY:Contemp. Worship
DESCRIPTION:
URL:https://lcor.org/events-calendar/contemporary-worship-service-with-holy-communion/2023-04-23/
CATEGORIES:Worship & Music
END:VEVENT
BEGIN:VEVENT
DTSTART;TZID=UTC:20230423T091500
DTEND;TZID=UTC:20230423T091500
DTSTAMP:20260423T213409
CREATED:20220829T013104Z
LAST-MODIFIED:20230329T021156Z
UID:10001438-1682241300-1682241300@lcor.org
SUMMARY:Fellowship at 9:15; Christian Ed. at 9:30; No Sunday School
DESCRIPTION:
URL:https://lcor.org/events-calendar/fellowship-2022-09-18-2023-04-23/
END:VEVENT
BEGIN:VEVENT
DTSTART;TZID=UTC:20230423T103000
DTEND;TZID=UTC:20230423T103000
DTSTAMP:20260423T213409
CREATED:20220504T201337Z
LAST-MODIFIED:20230226T203125Z
UID:10001205-1682245800-1682245800@lcor.org
SUMMARY:Traditional Worship
DESCRIPTION:
URL:https://lcor.org/events-calendar/traditional-worship-service-with-holy-communion-2022-12-04/2023-04-23/
CATEGORIES:Worship & Music
END:VEVENT
BEGIN:VEVENT
DTSTART;TZID=UTC:20230424T071500
DTEND;TZID=UTC:20230424T084500
DTSTAMP:20260423T213409
CREATED:20220620T211210Z
LAST-MODIFIED:20230531T155924Z
UID:10001268-1682320500-1682325900@lcor.org
SUMMARY:Ladies Bible Study via Zoom
DESCRIPTION:
URL:https://lcor.org/events-calendar/ladies-bible-study/2023-04-24/
END:VEVENT
BEGIN:VEVENT
DTSTART;TZID=UTC:20230425T190000
DTEND;TZID=UTC:20230425T210000
DTSTAMP:20260423T213409
CREATED:20221223T192902Z
LAST-MODIFIED:20230329T020814Z
UID:10001472-1682449200-1682456400@lcor.org
SUMMARY:LCOR Council Meeting
DESCRIPTION:
URL:https://lcor.org/events-calendar/lcor-council-meeting-2023-04-18/
CATEGORIES:Council Meetings
END:VEVENT
BEGIN:VEVENT
DTSTART;TZID=UTC:20230427T071500
DTEND;TZID=UTC:20230427T084500
DTSTAMP:20260423T213409
CREATED:20220620T211603Z
LAST-MODIFIED:20230531T160220Z
UID:10001327-1682579700-1682585100@lcor.org
SUMMARY:Ladies Bible Study via Zoom
DESCRIPTION:
URL:https://lcor.org/events-calendar/ladies-bible-study-via-zoom-4/2023-04-27/
END:VEVENT
BEGIN:VEVENT
DTSTART;TZID=UTC:20230430T083000
DTEND;TZID=UTC:20230430T083000
DTSTAMP:20260423T213409
CREATED:20220504T200730Z
LAST-MODIFIED:20230226T205450Z
UID:10001090-1682843400-1682843400@lcor.org
SUMMARY:Contemp. Worship
DESCRIPTION:
URL:https://lcor.org/events-calendar/contemporary-worship-service-with-holy-communion/2023-04-30/
CATEGORIES:Worship & Music
END:VEVENT
BEGIN:VEVENT
DTSTART;TZID=UTC:20230430T091500
DTEND;TZID=UTC:20230430T091500
DTSTAMP:20260423T213409
CREATED:20220829T013104Z
LAST-MODIFIED:20230226T205936Z
UID:10001401-1682846100-1682846100@lcor.org
SUMMARY:Fellowship at 9:15; Christian Ed. at 9:30
DESCRIPTION:
URL:https://lcor.org/events-calendar/fellowship-2022-09-18/2023-04-30/
END:VEVENT
BEGIN:VEVENT
DTSTART;TZID=UTC:20230430T103000
DTEND;TZID=UTC:20230430T103000
DTSTAMP:20260423T213409
CREATED:20220504T201337Z
LAST-MODIFIED:20230226T203125Z
UID:10001206-1682850600-1682850600@lcor.org
SUMMARY:Traditional Worship
DESCRIPTION:
URL:https://lcor.org/events-calendar/traditional-worship-service-with-holy-communion-2022-12-04/2023-04-30/
CATEGORIES:Worship & Music
END:VEVENT
BEGIN:VEVENT
DTSTART;TZID=UTC:20230501T071500
DTEND;TZID=UTC:20230501T084500
DTSTAMP:20260423T213409
CREATED:20220620T211210Z
LAST-MODIFIED:20230531T155924Z
UID:10001269-1682925300-1682930700@lcor.org
SUMMARY:Ladies Bible Study via Zoom
DESCRIPTION:
URL:https://lcor.org/events-calendar/ladies-bible-study/2023-05-01/
END:VEVENT
BEGIN:VEVENT
DTSTART;TZID=UTC:20230502T180000
DTEND;TZID=UTC:20230502T180000
DTSTAMP:20260423T213409
CREATED:20230430T220426Z
LAST-MODIFIED:20230430T220426Z
UID:10001556-1683050400-1683050400@lcor.org
SUMMARY:ORCCC BOD Meeting
DESCRIPTION:
URL:https://lcor.org/events-calendar/orccc-bod-meeting-9/
CATEGORIES:ORCCC
END:VEVENT
BEGIN:VEVENT
DTSTART;TZID=UTC:20230503T190000
DTEND;TZID=UTC:20230503T190000
DTSTAMP:20260423T213409
CREATED:20230430T220523Z
LAST-MODIFIED:20230430T220523Z
UID:10001557-1683140400-1683140400@lcor.org
SUMMARY:Mutual Ministry Meeting
DESCRIPTION:
URL:https://lcor.org/events-calendar/mutual-ministry-meeting-3/
CATEGORIES:Mutual Ministry
END:VEVENT
BEGIN:VEVENT
DTSTART;TZID=UTC:20230504T071500
DTEND;TZID=UTC:20230504T084500
DTSTAMP:20260423T213409
CREATED:20220620T211603Z
LAST-MODIFIED:20230531T160220Z
UID:10001328-1683184500-1683189900@lcor.org
SUMMARY:Ladies Bible Study via Zoom
DESCRIPTION:
URL:https://lcor.org/events-calendar/ladies-bible-study-via-zoom-4/2023-05-04/
END:VEVENT
BEGIN:VEVENT
DTSTART;TZID=UTC:20230507T083000
DTEND;TZID=UTC:20230507T083000
DTSTAMP:20260423T213409
CREATED:20220504T200730Z
LAST-MODIFIED:20230226T205450Z
UID:10001091-1683448200-1683448200@lcor.org
SUMMARY:Contemp. Worship
DESCRIPTION:
URL:https://lcor.org/events-calendar/contemporary-worship-service-with-holy-communion/2023-05-07/
CATEGORIES:Worship & Music
END:VEVENT
BEGIN:VEVENT
DTSTART;TZID=UTC:20230507T091500
DTEND;TZID=UTC:20230507T091500
DTSTAMP:20260423T213409
CREATED:20220829T013104Z
LAST-MODIFIED:20230226T205936Z
UID:10001402-1683450900-1683450900@lcor.org
SUMMARY:Fellowship at 9:15; Christian Ed. at 9:30
DESCRIPTION:
URL:https://lcor.org/events-calendar/fellowship-2022-09-18/2023-05-07/
END:VEVENT
BEGIN:VEVENT
DTSTART;TZID=UTC:20230507T103000
DTEND;TZID=UTC:20230507T103000
DTSTAMP:20260423T213409
CREATED:20220504T201337Z
LAST-MODIFIED:20230226T203125Z
UID:10001207-1683455400-1683455400@lcor.org
SUMMARY:Traditional Worship
DESCRIPTION:
URL:https://lcor.org/events-calendar/traditional-worship-service-with-holy-communion-2022-12-04/2023-05-07/
CATEGORIES:Worship & Music
END:VEVENT
END:VCALENDAR