BEGIN:VCALENDAR
VERSION:2.0
PRODID:-//Lutheran Church of Our Redeemer - ECPv6.15.20//NONSGML v1.0//EN
CALSCALE:GREGORIAN
METHOD:PUBLISH
X-ORIGINAL-URL:https://lcor.org
X-WR-CALDESC:Events for Lutheran Church of Our Redeemer
REFRESH-INTERVAL;VALUE=DURATION:PT1H
X-Robots-Tag:noindex
X-PUBLISHED-TTL:PT1H
BEGIN:VTIMEZONE
TZID:UTC
BEGIN:STANDARD
TZOFFSETFROM:+0000
TZOFFSETTO:+0000
TZNAME:UTC
DTSTART:20210101T000000
END:STANDARD
END:VTIMEZONE
BEGIN:VEVENT
DTSTART;TZID=UTC:20220801T071500
DTEND;TZID=UTC:20220801T084500
DTSTAMP:20260425T032241
CREATED:20220620T211210Z
LAST-MODIFIED:20230531T155924Z
UID:10001230-1659338100-1659343500@lcor.org
SUMMARY:Ladies Bible Study via Zoom
DESCRIPTION:
URL:https://lcor.org/events-calendar/ladies-bible-study/2022-08-01/
END:VEVENT
BEGIN:VEVENT
DTSTART;TZID=UTC:20220801T190000
DTEND;TZID=UTC:20220801T210000
DTSTAMP:20260425T032241
CREATED:20220727T190309Z
LAST-MODIFIED:20220727T190309Z
UID:10001347-1659380400-1659387600@lcor.org
SUMMARY:Mutual Ministry Meeting
DESCRIPTION:
URL:https://lcor.org/events-calendar/mutual-ministry-meeting/
END:VEVENT
BEGIN:VEVENT
DTSTART;TZID=UTC:20220804T071500
DTEND;TZID=UTC:20220804T084500
DTSTAMP:20260425T032241
CREATED:20220620T211603Z
LAST-MODIFIED:20230531T160220Z
UID:10001291-1659597300-1659602700@lcor.org
SUMMARY:Ladies Bible Study via Zoom
DESCRIPTION:
URL:https://lcor.org/events-calendar/ladies-bible-study-via-zoom-4/2022-08-04/
END:VEVENT
BEGIN:VEVENT
DTSTART;TZID=UTC:20220805T190000
DTEND;TZID=UTC:20220805T210000
DTSTAMP:20260425T032241
CREATED:20220727T190457Z
LAST-MODIFIED:20220727T190457Z
UID:10001348-1659726000-1659733200@lcor.org
SUMMARY:Social Ministry Meeting - Narthex
DESCRIPTION:
URL:https://lcor.org/events-calendar/social-ministry-meeting-narthex/
END:VEVENT
BEGIN:VEVENT
DTSTART;TZID=UTC:20220807T083000
DTEND;TZID=UTC:20220807T093000
DTSTAMP:20260425T032241
CREATED:20220429T184748Z
LAST-MODIFIED:20220511T182549Z
UID:10001150-1659861000-1659864600@lcor.org
SUMMARY:Contemporary Worship with Holy Communion
DESCRIPTION:
URL:https://lcor.org/events-calendar/contemporary-worship-with-holy-communion/2022-08-07/
END:VEVENT
BEGIN:VEVENT
DTSTART;TZID=UTC:20220807T093000
DTEND;TZID=UTC:20220807T100000
DTSTAMP:20260425T032241
CREATED:20220429T185304Z
LAST-MODIFIED:20220511T182730Z
UID:10001055-1659864600-1659866400@lcor.org
SUMMARY:Coffee and Fellowship Time
DESCRIPTION:
URL:https://lcor.org/events-calendar/coffee-and-fellowship-time-2022-06-12/2022-08-07/
END:VEVENT
BEGIN:VEVENT
DTSTART;TZID=UTC:20220807T100000
DTEND;TZID=UTC:20220807T110000
DTSTAMP:20260425T032241
CREATED:20220429T185358Z
LAST-MODIFIED:20220526T160921Z
UID:10001175-1659866400-1659870000@lcor.org
SUMMARY:Traditional Worship with Holy Communion
DESCRIPTION:
URL:https://lcor.org/events-calendar/traditional-worship-with-holy-communion-2022-06-12-2022-06-19/2022-08-07/
END:VEVENT
BEGIN:VEVENT
DTSTART;TZID=UTC:20220808T071500
DTEND;TZID=UTC:20220808T084500
DTSTAMP:20260425T032241
CREATED:20220620T211210Z
LAST-MODIFIED:20230531T155924Z
UID:10001231-1659942900-1659948300@lcor.org
SUMMARY:Ladies Bible Study via Zoom
DESCRIPTION:
URL:https://lcor.org/events-calendar/ladies-bible-study/2022-08-08/
END:VEVENT
BEGIN:VEVENT
DTSTART;TZID=UTC:20220808T183000
DTEND;TZID=UTC:20220808T203000
DTSTAMP:20260425T032241
CREATED:20220727T190711Z
LAST-MODIFIED:20220727T190711Z
UID:10001349-1659983400-1659990600@lcor.org
SUMMARY:Worship & Music Meeting
DESCRIPTION:
URL:https://lcor.org/events-calendar/worship-music-meeting-4/
END:VEVENT
BEGIN:VEVENT
DTSTART;TZID=UTC:20220811T071500
DTEND;TZID=UTC:20220811T084500
DTSTAMP:20260425T032241
CREATED:20220620T211603Z
LAST-MODIFIED:20230531T160220Z
UID:10001292-1660202100-1660207500@lcor.org
SUMMARY:Ladies Bible Study via Zoom
DESCRIPTION:
URL:https://lcor.org/events-calendar/ladies-bible-study-via-zoom-4/2022-08-11/
END:VEVENT
BEGIN:VEVENT
DTSTART;TZID=UTC:20220814T083000
DTEND;TZID=UTC:20220814T093000
DTSTAMP:20260425T032241
CREATED:20220429T184748Z
LAST-MODIFIED:20220511T182549Z
UID:10001151-1660465800-1660469400@lcor.org
SUMMARY:Contemporary Worship with Holy Communion
DESCRIPTION:
URL:https://lcor.org/events-calendar/contemporary-worship-with-holy-communion/2022-08-14/
END:VEVENT
BEGIN:VEVENT
DTSTART;TZID=UTC:20220814T093000
DTEND;TZID=UTC:20220814T100000
DTSTAMP:20260425T032241
CREATED:20220429T185304Z
LAST-MODIFIED:20220511T182730Z
UID:10001056-1660469400-1660471200@lcor.org
SUMMARY:Coffee and Fellowship Time
DESCRIPTION:
URL:https://lcor.org/events-calendar/coffee-and-fellowship-time-2022-06-12/2022-08-14/
END:VEVENT
BEGIN:VEVENT
DTSTART;TZID=UTC:20220814T100000
DTEND;TZID=UTC:20220814T110000
DTSTAMP:20260425T032241
CREATED:20220429T185358Z
LAST-MODIFIED:20220526T160921Z
UID:10001176-1660471200-1660474800@lcor.org
SUMMARY:Traditional Worship with Holy Communion
DESCRIPTION:
URL:https://lcor.org/events-calendar/traditional-worship-with-holy-communion-2022-06-12-2022-06-19/2022-08-14/
END:VEVENT
BEGIN:VEVENT
DTSTART;TZID=UTC:20220815T071500
DTEND;TZID=UTC:20220815T084500
DTSTAMP:20260425T032241
CREATED:20220620T211210Z
LAST-MODIFIED:20230531T155924Z
UID:10001232-1660547700-1660553100@lcor.org
SUMMARY:Ladies Bible Study via Zoom
DESCRIPTION:
URL:https://lcor.org/events-calendar/ladies-bible-study/2022-08-15/
END:VEVENT
BEGIN:VEVENT
DTSTART;TZID=UTC:20220816T190000
DTEND;TZID=UTC:20220816T210000
DTSTAMP:20260425T032241
CREATED:20220727T190843Z
LAST-MODIFIED:20220727T190843Z
UID:10001352-1660676400-1660683600@lcor.org
SUMMARY:Council Meeting
DESCRIPTION:
URL:https://lcor.org/events-calendar/council-meeting-8/
END:VEVENT
BEGIN:VEVENT
DTSTART;TZID=UTC:20220817T170000
DTEND;TZID=UTC:20220817T190000
DTSTAMP:20260425T032241
CREATED:20220727T191049Z
LAST-MODIFIED:20220727T191049Z
UID:10001354-1660755600-1660762800@lcor.org
SUMMARY:LCOR Youth Meeting
DESCRIPTION:
URL:https://lcor.org/events-calendar/lcor-youth-meeting/
END:VEVENT
BEGIN:VEVENT
DTSTART;TZID=UTC:20220818T071500
DTEND;TZID=UTC:20220818T084500
DTSTAMP:20260425T032241
CREATED:20220620T211603Z
LAST-MODIFIED:20230531T160220Z
UID:10001293-1660806900-1660812300@lcor.org
SUMMARY:Ladies Bible Study via Zoom
DESCRIPTION:
URL:https://lcor.org/events-calendar/ladies-bible-study-via-zoom-4/2022-08-18/
END:VEVENT
BEGIN:VEVENT
DTSTART;VALUE=DATE:20220820
DTEND;VALUE=DATE:20220821
DTSTAMP:20260425T032241
CREATED:20220727T191147Z
LAST-MODIFIED:20220727T191147Z
UID:10001356-1660953600-1661039999@lcor.org
SUMMARY:Deadline for all September Newsletter Submissions
DESCRIPTION:
URL:https://lcor.org/events-calendar/deadline-for-all-september-newsletter-submissions/
END:VEVENT
BEGIN:VEVENT
DTSTART;TZID=UTC:20220821T083000
DTEND;TZID=UTC:20220821T093000
DTSTAMP:20260425T032241
CREATED:20220429T184748Z
LAST-MODIFIED:20220511T182549Z
UID:10001152-1661070600-1661074200@lcor.org
SUMMARY:Contemporary Worship with Holy Communion
DESCRIPTION:
URL:https://lcor.org/events-calendar/contemporary-worship-with-holy-communion/2022-08-21/
END:VEVENT
BEGIN:VEVENT
DTSTART;TZID=UTC:20220821T093000
DTEND;TZID=UTC:20220821T100000
DTSTAMP:20260425T032241
CREATED:20220429T185304Z
LAST-MODIFIED:20220511T182730Z
UID:10001057-1661074200-1661076000@lcor.org
SUMMARY:Coffee and Fellowship Time
DESCRIPTION:
URL:https://lcor.org/events-calendar/coffee-and-fellowship-time-2022-06-12/2022-08-21/
END:VEVENT
BEGIN:VEVENT
DTSTART;TZID=UTC:20220821T100000
DTEND;TZID=UTC:20220821T110000
DTSTAMP:20260425T032241
CREATED:20220429T185358Z
LAST-MODIFIED:20220526T160921Z
UID:10001177-1661076000-1661079600@lcor.org
SUMMARY:Traditional Worship with Holy Communion
DESCRIPTION:
URL:https://lcor.org/events-calendar/traditional-worship-with-holy-communion-2022-06-12-2022-06-19/2022-08-21/
END:VEVENT
BEGIN:VEVENT
DTSTART;TZID=UTC:20220822T071500
DTEND;TZID=UTC:20220822T084500
DTSTAMP:20260425T032241
CREATED:20220620T211210Z
LAST-MODIFIED:20230531T155924Z
UID:10001233-1661152500-1661157900@lcor.org
SUMMARY:Ladies Bible Study via Zoom
DESCRIPTION:
URL:https://lcor.org/events-calendar/ladies-bible-study/2022-08-22/
END:VEVENT
BEGIN:VEVENT
DTSTART;TZID=UTC:20220825T071500
DTEND;TZID=UTC:20220825T084500
DTSTAMP:20260425T032241
CREATED:20220620T211603Z
LAST-MODIFIED:20230531T160220Z
UID:10001294-1661411700-1661417100@lcor.org
SUMMARY:Ladies Bible Study via Zoom
DESCRIPTION:
URL:https://lcor.org/events-calendar/ladies-bible-study-via-zoom-4/2022-08-25/
END:VEVENT
BEGIN:VEVENT
DTSTART;TZID=UTC:20220828T083000
DTEND;TZID=UTC:20220828T093000
DTSTAMP:20260425T032241
CREATED:20220429T184748Z
LAST-MODIFIED:20220511T182549Z
UID:10001153-1661675400-1661679000@lcor.org
SUMMARY:Contemporary Worship with Holy Communion
DESCRIPTION:
URL:https://lcor.org/events-calendar/contemporary-worship-with-holy-communion/2022-08-28/
END:VEVENT
BEGIN:VEVENT
DTSTART;TZID=UTC:20220828T093000
DTEND;TZID=UTC:20220828T100000
DTSTAMP:20260425T032242
CREATED:20220429T185304Z
LAST-MODIFIED:20220511T182730Z
UID:10001058-1661679000-1661680800@lcor.org
SUMMARY:Coffee and Fellowship Time
DESCRIPTION:
URL:https://lcor.org/events-calendar/coffee-and-fellowship-time-2022-06-12/2022-08-28/
END:VEVENT
BEGIN:VEVENT
DTSTART;TZID=UTC:20220828T100000
DTEND;TZID=UTC:20220828T110000
DTSTAMP:20260425T032242
CREATED:20220429T185358Z
LAST-MODIFIED:20220627T201736Z
UID:10001043-1661680800-1661684400@lcor.org
SUMMARY:Traditional Worship with Holy Communion
DESCRIPTION:
URL:https://lcor.org/events-calendar/traditional-worship-with-holy-communion-2022-06-12-2022-08-28/
END:VEVENT
BEGIN:VEVENT
DTSTART;TZID=UTC:20220829T071500
DTEND;TZID=UTC:20220829T084500
DTSTAMP:20260425T032242
CREATED:20220620T211210Z
LAST-MODIFIED:20230531T155924Z
UID:10001234-1661757300-1661762700@lcor.org
SUMMARY:Ladies Bible Study via Zoom
DESCRIPTION:
URL:https://lcor.org/events-calendar/ladies-bible-study/2022-08-29/
END:VEVENT
BEGIN:VEVENT
DTSTART;TZID=UTC:20220901T071500
DTEND;TZID=UTC:20220901T084500
DTSTAMP:20260425T032242
CREATED:20220620T211603Z
LAST-MODIFIED:20230531T160220Z
UID:10001295-1662016500-1662021900@lcor.org
SUMMARY:Ladies Bible Study via Zoom
DESCRIPTION:
URL:https://lcor.org/events-calendar/ladies-bible-study-via-zoom-4/2022-09-01/
END:VEVENT
BEGIN:VEVENT
DTSTART;TZID=UTC:20220904T083000
DTEND;TZID=UTC:20220904T093000
DTSTAMP:20260425T032242
CREATED:20220429T184748Z
LAST-MODIFIED:20220511T182549Z
UID:10001154-1662280200-1662283800@lcor.org
SUMMARY:Contemporary Worship with Holy Communion
DESCRIPTION:
URL:https://lcor.org/events-calendar/contemporary-worship-with-holy-communion/2022-09-04/
END:VEVENT
BEGIN:VEVENT
DTSTART;TZID=UTC:20220904T093000
DTEND;TZID=UTC:20220904T100000
DTSTAMP:20260425T032242
CREATED:20220429T185304Z
LAST-MODIFIED:20220511T182730Z
UID:10001059-1662283800-1662285600@lcor.org
SUMMARY:Coffee and Fellowship Time
DESCRIPTION:
URL:https://lcor.org/events-calendar/coffee-and-fellowship-time-2022-06-12/2022-09-04/
END:VEVENT
END:VCALENDAR