BEGIN:VCALENDAR
VERSION:2.0
PRODID:-//Lutheran Church of Our Redeemer - ECPv6.15.20//NONSGML v1.0//EN
CALSCALE:GREGORIAN
METHOD:PUBLISH
X-WR-CALNAME:Lutheran Church of Our Redeemer
X-ORIGINAL-URL:https://lcor.org
X-WR-CALDESC:Events for Lutheran Church of Our Redeemer
REFRESH-INTERVAL;VALUE=DURATION:PT1H
X-Robots-Tag:noindex
X-PUBLISHED-TTL:PT1H
BEGIN:VTIMEZONE
TZID:UTC
BEGIN:STANDARD
TZOFFSETFROM:+0000
TZOFFSETTO:+0000
TZNAME:UTC
DTSTART:20230101T000000
END:STANDARD
END:VTIMEZONE
BEGIN:VEVENT
DTSTART;TZID=UTC:20240620T071500
DTEND;TZID=UTC:20240620T081500
DTSTAMP:20260422T223244
CREATED:20240616T004658Z
LAST-MODIFIED:20240616T004659Z
UID:10001914-1718867700-1718871300@lcor.org
SUMMARY:Ladies Bible Study via Zoom
DESCRIPTION:
URL:https://lcor.org/events-calendar/ladies-bible-study-via-zoom-6-2/2024-06-20/
CATEGORIES:Bible Study
END:VEVENT
BEGIN:VEVENT
DTSTART;VALUE=DATE:20240622
DTEND;VALUE=DATE:20240623
DTSTAMP:20260422T223244
CREATED:20240616T001655Z
LAST-MODIFIED:20240616T001655Z
UID:10001919-1719014400-1719100799@lcor.org
SUMMARY:Newsletter Deadline
DESCRIPTION:
URL:https://lcor.org/events-calendar/newsletter-deadline-9/
END:VEVENT
BEGIN:VEVENT
DTSTART;TZID=UTC:20240623T083000
DTEND;TZID=UTC:20240623T083000
DTSTAMP:20260422T223244
CREATED:20240509T210803Z
LAST-MODIFIED:20240509T211056Z
UID:10001869-1719131400-1719131400@lcor.org
SUMMARY:Contemporary Worship Service
DESCRIPTION:Join us Sundays at 8:30 am for our Contemporary Worship Service with Holy Communion. \nFor questions or to inquire more information\, please contact office@lcor.org.
URL:https://lcor.org/events-calendar/contemporary-worship-service-2/2024-06-23/
CATEGORIES:Worship & Music
END:VEVENT
BEGIN:VEVENT
DTSTART;TZID=UTC:20240623T093000
DTEND;TZID=UTC:20240623T093000
DTSTAMP:20260422T223244
CREATED:20240509T211433Z
LAST-MODIFIED:20240509T211433Z
UID:10001897-1719135000-1719135000@lcor.org
SUMMARY:Fellowship
DESCRIPTION:Join us on Sundays between worship services for an opportunity of fellowship\, coffee and conversation! \nFor more information\, you can reach us at office@lcor.org.
URL:https://lcor.org/events-calendar/fellowship-2/2024-06-23/
END:VEVENT
BEGIN:VEVENT
DTSTART;TZID=UTC:20240623T100000
DTEND;TZID=UTC:20240623T100000
DTSTAMP:20260422T223244
CREATED:20240509T211033Z
LAST-MODIFIED:20240509T211033Z
UID:10001883-1719136800-1719136800@lcor.org
SUMMARY:Traditional Worship Service
DESCRIPTION:Join us Sundays at 10:00 am for our Traditional Worship Service with Holy Communion. \nFor questions or to inquire more information\, please contact office@lcor.org.
URL:https://lcor.org/events-calendar/traditional-worship-service-4/2024-06-23/
CATEGORIES:Worship & Music
END:VEVENT
BEGIN:VEVENT
DTSTART;TZID=UTC:20240624T071500
DTEND;TZID=UTC:20240624T081500
DTSTAMP:20260422T223244
CREATED:20240616T004658Z
LAST-MODIFIED:20240616T004659Z
UID:10001915-1719213300-1719216900@lcor.org
SUMMARY:Ladies Bible Study via Zoom
DESCRIPTION:
URL:https://lcor.org/events-calendar/ladies-bible-study-via-zoom-6-2/2024-06-24/
CATEGORIES:Bible Study
END:VEVENT
BEGIN:VEVENT
DTSTART;TZID=UTC:20240626T190000
DTEND;TZID=UTC:20240626T190000
DTSTAMP:20260422T223244
CREATED:20240616T001939Z
LAST-MODIFIED:20240616T003054Z
UID:10001920-1719428400-1719428400@lcor.org
SUMMARY:Mutual Ministry Committee Meeting
DESCRIPTION:
URL:https://lcor.org/events-calendar/mutual-ministry-committee-meeting/
CATEGORIES:Mutual Ministry
END:VEVENT
BEGIN:VEVENT
DTSTART;TZID=UTC:20240627T071500
DTEND;TZID=UTC:20240627T081500
DTSTAMP:20260422T223244
CREATED:20240616T004658Z
LAST-MODIFIED:20240616T004659Z
UID:10001916-1719472500-1719476100@lcor.org
SUMMARY:Ladies Bible Study via Zoom
DESCRIPTION:
URL:https://lcor.org/events-calendar/ladies-bible-study-via-zoom-6-2/2024-06-27/
CATEGORIES:Bible Study
END:VEVENT
BEGIN:VEVENT
DTSTART;TZID=UTC:20240630T083000
DTEND;TZID=UTC:20240630T083000
DTSTAMP:20260422T223244
CREATED:20240509T210803Z
LAST-MODIFIED:20240509T211056Z
UID:10001870-1719736200-1719736200@lcor.org
SUMMARY:Contemporary Worship Service
DESCRIPTION:Join us Sundays at 8:30 am for our Contemporary Worship Service with Holy Communion. \nFor questions or to inquire more information\, please contact office@lcor.org.
URL:https://lcor.org/events-calendar/contemporary-worship-service-2/2024-06-30/
CATEGORIES:Worship & Music
END:VEVENT
BEGIN:VEVENT
DTSTART;TZID=UTC:20240630T093000
DTEND;TZID=UTC:20240630T093000
DTSTAMP:20260422T223244
CREATED:20240509T211433Z
LAST-MODIFIED:20240509T211433Z
UID:10001898-1719739800-1719739800@lcor.org
SUMMARY:Fellowship
DESCRIPTION:Join us on Sundays between worship services for an opportunity of fellowship\, coffee and conversation! \nFor more information\, you can reach us at office@lcor.org.
URL:https://lcor.org/events-calendar/fellowship-2/2024-06-30/
END:VEVENT
BEGIN:VEVENT
DTSTART;TZID=UTC:20240630T100000
DTEND;TZID=UTC:20240630T100000
DTSTAMP:20260422T223244
CREATED:20240509T211033Z
LAST-MODIFIED:20240509T211033Z
UID:10001884-1719741600-1719741600@lcor.org
SUMMARY:Traditional Worship Service
DESCRIPTION:Join us Sundays at 10:00 am for our Traditional Worship Service with Holy Communion. \nFor questions or to inquire more information\, please contact office@lcor.org.
URL:https://lcor.org/events-calendar/traditional-worship-service-4/2024-06-30/
CATEGORIES:Worship & Music
END:VEVENT
BEGIN:VEVENT
DTSTART;TZID=UTC:20240701T071500
DTEND;TZID=UTC:20240701T081500
DTSTAMP:20260422T223244
CREATED:20240711T120050Z
LAST-MODIFIED:20240711T130159Z
UID:10002200-1719818100-1719821700@lcor.org
SUMMARY:Ladies Bible Study via Zoom
DESCRIPTION:
URL:https://lcor.org/events-calendar/ladies-bible-study-via-zoom-8/2024-07-01/
CATEGORIES:Christian Education
END:VEVENT
BEGIN:VEVENT
DTSTART;VALUE=DATE:20240704
DTEND;VALUE=DATE:20240705
DTSTAMP:20260422T223244
CREATED:20240710T021026Z
LAST-MODIFIED:20240710T021026Z
UID:10001925-1720051200-1720137599@lcor.org
SUMMARY:Office Closed ... Happy July 4th!
DESCRIPTION:
URL:https://lcor.org/events-calendar/office-closed-happy-july-4th/
CATEGORIES:Administration
END:VEVENT
BEGIN:VEVENT
DTSTART;TZID=UTC:20240707T083000
DTEND;TZID=UTC:20240707T083000
DTSTAMP:20260422T223244
CREATED:20240509T210803Z
LAST-MODIFIED:20240509T211056Z
UID:10001871-1720341000-1720341000@lcor.org
SUMMARY:Contemporary Worship Service
DESCRIPTION:Join us Sundays at 8:30 am for our Contemporary Worship Service with Holy Communion. \nFor questions or to inquire more information\, please contact office@lcor.org.
URL:https://lcor.org/events-calendar/contemporary-worship-service-2/2024-07-07/
CATEGORIES:Worship & Music
END:VEVENT
BEGIN:VEVENT
DTSTART;TZID=UTC:20240707T093000
DTEND;TZID=UTC:20240707T093000
DTSTAMP:20260422T223244
CREATED:20240509T211433Z
LAST-MODIFIED:20240509T211433Z
UID:10001899-1720344600-1720344600@lcor.org
SUMMARY:Fellowship
DESCRIPTION:Join us on Sundays between worship services for an opportunity of fellowship\, coffee and conversation! \nFor more information\, you can reach us at office@lcor.org.
URL:https://lcor.org/events-calendar/fellowship-2/2024-07-07/
END:VEVENT
BEGIN:VEVENT
DTSTART;TZID=UTC:20240707T100000
DTEND;TZID=UTC:20240707T100000
DTSTAMP:20260422T223244
CREATED:20240509T211033Z
LAST-MODIFIED:20240509T211033Z
UID:10001885-1720346400-1720346400@lcor.org
SUMMARY:Traditional Worship Service
DESCRIPTION:Join us Sundays at 10:00 am for our Traditional Worship Service with Holy Communion. \nFor questions or to inquire more information\, please contact office@lcor.org.
URL:https://lcor.org/events-calendar/traditional-worship-service-4/2024-07-07/
CATEGORIES:Worship & Music
END:VEVENT
BEGIN:VEVENT
DTSTART;TZID=UTC:20240707T113000
DTEND;TZID=UTC:20240707T140000
DTSTAMP:20260422T223244
CREATED:20240710T021334Z
LAST-MODIFIED:20240710T021334Z
UID:10001926-1720351800-1720360800@lcor.org
SUMMARY:Eat out after church at Red Robin\, Patriot Place
DESCRIPTION:
URL:https://lcor.org/events-calendar/eat-out-after-church-at-red-robin-patriot-place/
CATEGORIES:Community Life
END:VEVENT
BEGIN:VEVENT
DTSTART;TZID=UTC:20240708T071500
DTEND;TZID=UTC:20240708T081500
DTSTAMP:20260422T223244
CREATED:20240711T120050Z
LAST-MODIFIED:20240711T130159Z
UID:10002261-1720422900-1720426500@lcor.org
SUMMARY:Ladies Bible Study via Zoom
DESCRIPTION:
URL:https://lcor.org/events-calendar/ladies-bible-study-via-zoom-8/2024-07-08/
CATEGORIES:Christian Education
END:VEVENT
BEGIN:VEVENT
DTSTART;TZID=UTC:20240711T071500
DTEND;TZID=UTC:20240711T081500
DTSTAMP:20260422T223244
CREATED:20240711T123022Z
LAST-MODIFIED:20240711T124950Z
UID:10002201-1720682100-1720685700@lcor.org
SUMMARY:Ladies Bible Study via Zoom
DESCRIPTION:
URL:https://lcor.org/events-calendar/ladies-bible-study-2/2024-07-11/
END:VEVENT
BEGIN:VEVENT
DTSTART;TZID=UTC:20240714T083000
DTEND;TZID=UTC:20240714T083000
DTSTAMP:20260422T223244
CREATED:20240509T210803Z
LAST-MODIFIED:20240509T211056Z
UID:10001872-1720945800-1720945800@lcor.org
SUMMARY:Contemporary Worship Service
DESCRIPTION:Join us Sundays at 8:30 am for our Contemporary Worship Service with Holy Communion. \nFor questions or to inquire more information\, please contact office@lcor.org.
URL:https://lcor.org/events-calendar/contemporary-worship-service-2/2024-07-14/
CATEGORIES:Worship & Music
END:VEVENT
BEGIN:VEVENT
DTSTART;TZID=UTC:20240714T093000
DTEND;TZID=UTC:20240714T093000
DTSTAMP:20260422T223244
CREATED:20240509T211433Z
LAST-MODIFIED:20240509T211433Z
UID:10001900-1720949400-1720949400@lcor.org
SUMMARY:Fellowship
DESCRIPTION:Join us on Sundays between worship services for an opportunity of fellowship\, coffee and conversation! \nFor more information\, you can reach us at office@lcor.org.
URL:https://lcor.org/events-calendar/fellowship-2/2024-07-14/
END:VEVENT
BEGIN:VEVENT
DTSTART;TZID=UTC:20240714T100000
DTEND;TZID=UTC:20240714T100000
DTSTAMP:20260422T223244
CREATED:20240509T211033Z
LAST-MODIFIED:20240509T211033Z
UID:10001886-1720951200-1720951200@lcor.org
SUMMARY:Traditional Worship Service
DESCRIPTION:Join us Sundays at 10:00 am for our Traditional Worship Service with Holy Communion. \nFor questions or to inquire more information\, please contact office@lcor.org.
URL:https://lcor.org/events-calendar/traditional-worship-service-4/2024-07-14/
CATEGORIES:Worship & Music
END:VEVENT
BEGIN:VEVENT
DTSTART;TZID=UTC:20240714T140000
DTEND;TZID=UTC:20240714T140000
DTSTAMP:20260422T223244
CREATED:20240710T021537Z
LAST-MODIFIED:20240710T021537Z
UID:10001927-1720965600-1720965600@lcor.org
SUMMARY:Ice Cream at Maples Nursing Home
DESCRIPTION:
URL:https://lcor.org/events-calendar/ice-cream-at-maples-nursing-home/
CATEGORIES:Social Ministry
END:VEVENT
BEGIN:VEVENT
DTSTART;TZID=UTC:20240715T071500
DTEND;TZID=UTC:20240715T081500
DTSTAMP:20260422T223244
CREATED:20240711T120050Z
LAST-MODIFIED:20240711T130159Z
UID:10002262-1721027700-1721031300@lcor.org
SUMMARY:Ladies Bible Study via Zoom
DESCRIPTION:
URL:https://lcor.org/events-calendar/ladies-bible-study-via-zoom-8/2024-07-15/
CATEGORIES:Christian Education
END:VEVENT
BEGIN:VEVENT
DTSTART;TZID=UTC:20240718T071500
DTEND;TZID=UTC:20240718T081500
DTSTAMP:20260422T223244
CREATED:20240711T123022Z
LAST-MODIFIED:20240711T124950Z
UID:10002202-1721286900-1721290500@lcor.org
SUMMARY:Ladies Bible Study via Zoom
DESCRIPTION:
URL:https://lcor.org/events-calendar/ladies-bible-study-2/2024-07-18/
END:VEVENT
BEGIN:VEVENT
DTSTART;VALUE=DATE:20240720
DTEND;VALUE=DATE:20240721
DTSTAMP:20260422T223244
CREATED:20240710T021630Z
LAST-MODIFIED:20240710T021630Z
UID:10001928-1721433600-1721519999@lcor.org
SUMMARY:Newsletter Deadline
DESCRIPTION:
URL:https://lcor.org/events-calendar/newsletter-deadline-10/
CATEGORIES:Administration
END:VEVENT
BEGIN:VEVENT
DTSTART;TZID=UTC:20240721T083000
DTEND;TZID=UTC:20240721T083000
DTSTAMP:20260422T223244
CREATED:20240509T210803Z
LAST-MODIFIED:20240509T211056Z
UID:10001873-1721550600-1721550600@lcor.org
SUMMARY:Contemporary Worship Service
DESCRIPTION:Join us Sundays at 8:30 am for our Contemporary Worship Service with Holy Communion. \nFor questions or to inquire more information\, please contact office@lcor.org.
URL:https://lcor.org/events-calendar/contemporary-worship-service-2/2024-07-21/
CATEGORIES:Worship & Music
END:VEVENT
BEGIN:VEVENT
DTSTART;TZID=UTC:20240721T093000
DTEND;TZID=UTC:20240721T093000
DTSTAMP:20260422T223244
CREATED:20240509T211433Z
LAST-MODIFIED:20240509T211433Z
UID:10001901-1721554200-1721554200@lcor.org
SUMMARY:Fellowship
DESCRIPTION:Join us on Sundays between worship services for an opportunity of fellowship\, coffee and conversation! \nFor more information\, you can reach us at office@lcor.org.
URL:https://lcor.org/events-calendar/fellowship-2/2024-07-21/
END:VEVENT
BEGIN:VEVENT
DTSTART;TZID=UTC:20240721T100000
DTEND;TZID=UTC:20240721T100000
DTSTAMP:20260422T223244
CREATED:20240509T211033Z
LAST-MODIFIED:20240509T211033Z
UID:10001887-1721556000-1721556000@lcor.org
SUMMARY:Traditional Worship Service
DESCRIPTION:Join us Sundays at 10:00 am for our Traditional Worship Service with Holy Communion. \nFor questions or to inquire more information\, please contact office@lcor.org.
URL:https://lcor.org/events-calendar/traditional-worship-service-4/2024-07-21/
CATEGORIES:Worship & Music
END:VEVENT
BEGIN:VEVENT
DTSTART;TZID=UTC:20240722T071500
DTEND;TZID=UTC:20240722T081500
DTSTAMP:20260422T223244
CREATED:20240711T120050Z
LAST-MODIFIED:20240711T130159Z
UID:10002263-1721632500-1721636100@lcor.org
SUMMARY:Ladies Bible Study via Zoom
DESCRIPTION:
URL:https://lcor.org/events-calendar/ladies-bible-study-via-zoom-8/2024-07-22/
CATEGORIES:Christian Education
END:VEVENT
END:VCALENDAR