BEGIN:VCALENDAR
VERSION:2.0
PRODID:-//Lutheran Church of Our Redeemer - ECPv6.15.20//NONSGML v1.0//EN
CALSCALE:GREGORIAN
METHOD:PUBLISH
X-WR-CALNAME:Lutheran Church of Our Redeemer
X-ORIGINAL-URL:https://lcor.org
X-WR-CALDESC:Events for Lutheran Church of Our Redeemer
REFRESH-INTERVAL;VALUE=DURATION:PT1H
X-Robots-Tag:noindex
X-PUBLISHED-TTL:PT1H
BEGIN:VTIMEZONE
TZID:UTC
BEGIN:STANDARD
TZOFFSETFROM:+0000
TZOFFSETTO:+0000
TZNAME:UTC
DTSTART:20220101T000000
END:STANDARD
END:VTIMEZONE
BEGIN:VEVENT
DTSTART;TZID=UTC:20230507T083000
DTEND;TZID=UTC:20230507T083000
DTSTAMP:20260424T002600
CREATED:20220504T200730Z
LAST-MODIFIED:20230226T205450Z
UID:10001091-1683448200-1683448200@lcor.org
SUMMARY:Contemp. Worship
DESCRIPTION:
URL:https://lcor.org/events-calendar/contemporary-worship-service-with-holy-communion/2023-05-07/
CATEGORIES:Worship & Music
END:VEVENT
BEGIN:VEVENT
DTSTART;TZID=UTC:20230507T091500
DTEND;TZID=UTC:20230507T091500
DTSTAMP:20260424T002600
CREATED:20220829T013104Z
LAST-MODIFIED:20230226T205936Z
UID:10001402-1683450900-1683450900@lcor.org
SUMMARY:Fellowship at 9:15; Christian Ed. at 9:30
DESCRIPTION:
URL:https://lcor.org/events-calendar/fellowship-2022-09-18/2023-05-07/
END:VEVENT
BEGIN:VEVENT
DTSTART;TZID=UTC:20230507T103000
DTEND;TZID=UTC:20230507T103000
DTSTAMP:20260424T002600
CREATED:20220504T201337Z
LAST-MODIFIED:20230226T203125Z
UID:10001207-1683455400-1683455400@lcor.org
SUMMARY:Traditional Worship
DESCRIPTION:
URL:https://lcor.org/events-calendar/traditional-worship-service-with-holy-communion-2022-12-04/2023-05-07/
CATEGORIES:Worship & Music
END:VEVENT
BEGIN:VEVENT
DTSTART;TZID=UTC:20230508T071500
DTEND;TZID=UTC:20230508T084500
DTSTAMP:20260424T002600
CREATED:20220620T211210Z
LAST-MODIFIED:20230531T155924Z
UID:10001270-1683530100-1683535500@lcor.org
SUMMARY:Ladies Bible Study via Zoom
DESCRIPTION:
URL:https://lcor.org/events-calendar/ladies-bible-study/2023-05-08/
END:VEVENT
BEGIN:VEVENT
DTSTART;TZID=UTC:20230508T183000
DTEND;TZID=UTC:20230508T183000
DTSTAMP:20260424T002600
CREATED:20230430T220701Z
LAST-MODIFIED:20230430T220701Z
UID:10001558-1683570600-1683570600@lcor.org
SUMMARY:Worship & Music Meeting
DESCRIPTION:
URL:https://lcor.org/events-calendar/worship-music-meeting-6/
CATEGORIES:Worship & Music
END:VEVENT
BEGIN:VEVENT
DTSTART;TZID=UTC:20230509T183000
DTEND;TZID=UTC:20230509T183000
DTSTAMP:20260424T002600
CREATED:20230430T220939Z
LAST-MODIFIED:20230430T220939Z
UID:10001559-1683657000-1683657000@lcor.org
SUMMARY:Finance Meeting
DESCRIPTION:
URL:https://lcor.org/events-calendar/finance-meeting-8/
CATEGORIES:Finance Committee
END:VEVENT
BEGIN:VEVENT
DTSTART;TZID=UTC:20230511T071500
DTEND;TZID=UTC:20230511T084500
DTSTAMP:20260424T002600
CREATED:20220620T211603Z
LAST-MODIFIED:20230531T160220Z
UID:10001329-1683789300-1683794700@lcor.org
SUMMARY:Ladies Bible Study via Zoom
DESCRIPTION:
URL:https://lcor.org/events-calendar/ladies-bible-study-via-zoom-4/2023-05-11/
END:VEVENT
BEGIN:VEVENT
DTSTART;TZID=UTC:20230513T090000
DTEND;TZID=UTC:20230513T090000
DTSTAMP:20260424T002600
CREATED:20230430T221438Z
LAST-MODIFIED:20230430T221438Z
UID:10001560-1683968400-1683968400@lcor.org
SUMMARY:New Life Furniture Bank Walk/Run
DESCRIPTION:
URL:https://lcor.org/events-calendar/new-life-furniture-bank-walk-run/
CATEGORIES:Social Ministry
END:VEVENT
BEGIN:VEVENT
DTSTART;TZID=UTC:20230514T083000
DTEND;TZID=UTC:20230514T083000
DTSTAMP:20260424T002600
CREATED:20220504T200730Z
LAST-MODIFIED:20230226T205450Z
UID:10001092-1684053000-1684053000@lcor.org
SUMMARY:Contemp. Worship
DESCRIPTION:
URL:https://lcor.org/events-calendar/contemporary-worship-service-with-holy-communion/2023-05-14/
CATEGORIES:Worship & Music
END:VEVENT
BEGIN:VEVENT
DTSTART;TZID=UTC:20230514T091500
DTEND;TZID=UTC:20230514T091500
DTSTAMP:20260424T002600
CREATED:20220829T013104Z
LAST-MODIFIED:20230226T205936Z
UID:10001403-1684055700-1684055700@lcor.org
SUMMARY:Fellowship at 9:15; Christian Ed. at 9:30
DESCRIPTION:
URL:https://lcor.org/events-calendar/fellowship-2022-09-18/2023-05-14/
END:VEVENT
BEGIN:VEVENT
DTSTART;TZID=UTC:20230514T103000
DTEND;TZID=UTC:20230514T103000
DTSTAMP:20260424T002600
CREATED:20220504T201337Z
LAST-MODIFIED:20230226T203125Z
UID:10001208-1684060200-1684060200@lcor.org
SUMMARY:Traditional Worship
DESCRIPTION:
URL:https://lcor.org/events-calendar/traditional-worship-service-with-holy-communion-2022-12-04/2023-05-14/
CATEGORIES:Worship & Music
END:VEVENT
BEGIN:VEVENT
DTSTART;TZID=UTC:20230515T071500
DTEND;TZID=UTC:20230515T084500
DTSTAMP:20260424T002600
CREATED:20220620T211210Z
LAST-MODIFIED:20230531T155924Z
UID:10001271-1684134900-1684140300@lcor.org
SUMMARY:Ladies Bible Study via Zoom
DESCRIPTION:
URL:https://lcor.org/events-calendar/ladies-bible-study/2023-05-15/
END:VEVENT
BEGIN:VEVENT
DTSTART;TZID=UTC:20230518T071500
DTEND;TZID=UTC:20230518T084500
DTSTAMP:20260424T002600
CREATED:20220620T211603Z
LAST-MODIFIED:20230531T160220Z
UID:10001330-1684394100-1684399500@lcor.org
SUMMARY:Ladies Bible Study via Zoom
DESCRIPTION:
URL:https://lcor.org/events-calendar/ladies-bible-study-via-zoom-4/2023-05-18/
END:VEVENT
BEGIN:VEVENT
DTSTART;VALUE=DATE:20230520
DTEND;VALUE=DATE:20230521
DTSTAMP:20260424T002600
CREATED:20230430T221952Z
LAST-MODIFIED:20230430T221952Z
UID:10001406-1684540800-1684627199@lcor.org
SUMMARY:Deadline for June Newsletter Submissions
DESCRIPTION:
URL:https://lcor.org/events-calendar/deadline-for-june-newsletter-submissions/
CATEGORIES:Administration
END:VEVENT
BEGIN:VEVENT
DTSTART;TZID=UTC:20230520T080000
DTEND;TZID=UTC:20230520T080000
DTSTAMP:20260424T002600
CREATED:20230430T221752Z
LAST-MODIFIED:20230430T221752Z
UID:10001561-1684569600-1684569600@lcor.org
SUMMARY:Food & Friends - see bulletin board
DESCRIPTION:
URL:https://lcor.org/events-calendar/food-friends-see-bulletin-board/
CATEGORIES:Social Ministry
END:VEVENT
BEGIN:VEVENT
DTSTART;TZID=UTC:20230521T083000
DTEND;TZID=UTC:20230521T083000
DTSTAMP:20260424T002600
CREATED:20220504T200730Z
LAST-MODIFIED:20230226T205450Z
UID:10001093-1684657800-1684657800@lcor.org
SUMMARY:Contemp. Worship
DESCRIPTION:
URL:https://lcor.org/events-calendar/contemporary-worship-service-with-holy-communion/2023-05-21/
CATEGORIES:Worship & Music
END:VEVENT
BEGIN:VEVENT
DTSTART;TZID=UTC:20230521T091500
DTEND;TZID=UTC:20230521T091500
DTSTAMP:20260424T002600
CREATED:20220829T013104Z
LAST-MODIFIED:20230430T224723Z
UID:10001445-1684660500-1684660500@lcor.org
SUMMARY:Fellowship at 9:15; Sundae Sunday at 9:30
DESCRIPTION:
URL:https://lcor.org/events-calendar/fellowship-2022-09-18-2023-05-21/
END:VEVENT
BEGIN:VEVENT
DTSTART;TZID=UTC:20230521T103000
DTEND;TZID=UTC:20230521T103000
DTSTAMP:20260424T002600
CREATED:20220504T201337Z
LAST-MODIFIED:20230226T203125Z
UID:10001209-1684665000-1684665000@lcor.org
SUMMARY:Traditional Worship
DESCRIPTION:
URL:https://lcor.org/events-calendar/traditional-worship-service-with-holy-communion-2022-12-04/2023-05-21/
CATEGORIES:Worship & Music
END:VEVENT
BEGIN:VEVENT
DTSTART;TZID=UTC:20230522T071500
DTEND;TZID=UTC:20230522T084500
DTSTAMP:20260424T002600
CREATED:20220620T211210Z
LAST-MODIFIED:20230531T155924Z
UID:10001272-1684739700-1684745100@lcor.org
SUMMARY:Ladies Bible Study via Zoom
DESCRIPTION:
URL:https://lcor.org/events-calendar/ladies-bible-study/2023-05-22/
END:VEVENT
BEGIN:VEVENT
DTSTART;TZID=UTC:20230523T190000
DTEND;TZID=UTC:20230523T190000
DTSTAMP:20260424T002600
CREATED:20221223T192902Z
LAST-MODIFIED:20230430T224105Z
UID:10001473-1684868400-1684868400@lcor.org
SUMMARY:LCOR Council Meeting
DESCRIPTION:
URL:https://lcor.org/events-calendar/lcor-council-meeting-2023-05-16/
CATEGORIES:Council Meetings
END:VEVENT
BEGIN:VEVENT
DTSTART;TZID=UTC:20230525T071500
DTEND;TZID=UTC:20230525T084500
DTSTAMP:20260424T002600
CREATED:20220620T211603Z
LAST-MODIFIED:20230531T160220Z
UID:10001331-1684998900-1685004300@lcor.org
SUMMARY:Ladies Bible Study via Zoom
DESCRIPTION:
URL:https://lcor.org/events-calendar/ladies-bible-study-via-zoom-4/2023-05-25/
END:VEVENT
BEGIN:VEVENT
DTSTART;TZID=UTC:20230528T083000
DTEND;TZID=UTC:20230528T083000
DTSTAMP:20260424T002600
CREATED:20230226T212701Z
LAST-MODIFIED:20230430T224436Z
UID:10001504-1685262600-1685262600@lcor.org
SUMMARY:Contemp. Worship - Confirmation
DESCRIPTION:
URL:https://lcor.org/events-calendar/contemporary-worship/
CATEGORIES:Worship & Music
END:VEVENT
BEGIN:VEVENT
DTSTART;TZID=UTC:20230528T091500
DTEND;TZID=UTC:20230528T091500
DTSTAMP:20260424T002600
CREATED:20230226T213007Z
LAST-MODIFIED:20230226T213007Z
UID:10001519-1685265300-1685265300@lcor.org
SUMMARY:Coffee & Fellowship
DESCRIPTION:
URL:https://lcor.org/events-calendar/coffee-fellowship/2023-05-28/
CATEGORIES:Social Event
END:VEVENT
BEGIN:VEVENT
DTSTART;TZID=UTC:20230528T100000
DTEND;TZID=UTC:20230528T100000
DTSTAMP:20260424T002600
CREATED:20230226T213131Z
LAST-MODIFIED:20230226T213131Z
UID:10001534-1685268000-1685268000@lcor.org
SUMMARY:Traditional Worship
DESCRIPTION:
URL:https://lcor.org/events-calendar/traditional-worship/2023-05-28/
CATEGORIES:Worship & Music
END:VEVENT
BEGIN:VEVENT
DTSTART;TZID=UTC:20230529T071500
DTEND;TZID=UTC:20230529T084500
DTSTAMP:20260424T002600
CREATED:20220620T211210Z
LAST-MODIFIED:20230531T155924Z
UID:10001273-1685344500-1685349900@lcor.org
SUMMARY:Ladies Bible Study via Zoom
DESCRIPTION:
URL:https://lcor.org/events-calendar/ladies-bible-study/2023-05-29/
END:VEVENT
BEGIN:VEVENT
DTSTART;TZID=UTC:20230601T071500
DTEND;TZID=UTC:20230601T084500
DTSTAMP:20260424T002600
CREATED:20220620T211603Z
LAST-MODIFIED:20230531T160220Z
UID:10001332-1685603700-1685609100@lcor.org
SUMMARY:Ladies Bible Study via Zoom
DESCRIPTION:
URL:https://lcor.org/events-calendar/ladies-bible-study-via-zoom-4/2023-06-01/
END:VEVENT
BEGIN:VEVENT
DTSTART;TZID=UTC:20230604T083000
DTEND;TZID=UTC:20230604T083000
DTSTAMP:20260424T002600
CREATED:20230226T212701Z
LAST-MODIFIED:20230430T224359Z
UID:10001505-1685867400-1685867400@lcor.org
SUMMARY:Contemp. Worship
DESCRIPTION:
URL:https://lcor.org/events-calendar/contemporary-worship-2023-06-04/2023-06-04/
CATEGORIES:Worship & Music
END:VEVENT
BEGIN:VEVENT
DTSTART;TZID=UTC:20230604T091500
DTEND;TZID=UTC:20230604T091500
DTSTAMP:20260424T002600
CREATED:20230226T213007Z
LAST-MODIFIED:20230509T225012Z
UID:10001533-1685870100-1685870100@lcor.org
SUMMARY:Fellowship at 9:15; Semi-Annual Congregation Mtg. at 9:30 am
DESCRIPTION:
URL:https://lcor.org/events-calendar/coffee-fellowship-2023-06-04/
CATEGORIES:Administration
END:VEVENT
BEGIN:VEVENT
DTSTART;TZID=UTC:20230604T100000
DTEND;TZID=UTC:20230604T100000
DTSTAMP:20260424T002600
CREATED:20230226T213131Z
LAST-MODIFIED:20230226T213131Z
UID:10001535-1685872800-1685872800@lcor.org
SUMMARY:Traditional Worship
DESCRIPTION:
URL:https://lcor.org/events-calendar/traditional-worship/2023-06-04/
CATEGORIES:Worship & Music
END:VEVENT
BEGIN:VEVENT
DTSTART;TZID=UTC:20230605T071500
DTEND;TZID=UTC:20230605T084500
DTSTAMP:20260424T002600
CREATED:20220620T211210Z
LAST-MODIFIED:20230531T155924Z
UID:10001274-1685949300-1685954700@lcor.org
SUMMARY:Ladies Bible Study via Zoom
DESCRIPTION:
URL:https://lcor.org/events-calendar/ladies-bible-study/2023-06-05/
END:VEVENT
END:VCALENDAR