BEGIN:VCALENDAR
VERSION:2.0
PRODID:-//Lutheran Church of Our Redeemer - ECPv6.15.20//NONSGML v1.0//EN
CALSCALE:GREGORIAN
METHOD:PUBLISH
X-WR-CALNAME:Lutheran Church of Our Redeemer
X-ORIGINAL-URL:https://lcor.org
X-WR-CALDESC:Events for Lutheran Church of Our Redeemer
REFRESH-INTERVAL;VALUE=DURATION:PT1H
X-Robots-Tag:noindex
X-PUBLISHED-TTL:PT1H
BEGIN:VTIMEZONE
TZID:UTC
BEGIN:STANDARD
TZOFFSETFROM:+0000
TZOFFSETTO:+0000
TZNAME:UTC
DTSTART:20220101T000000
END:STANDARD
END:VTIMEZONE
BEGIN:VEVENT
DTSTART;TZID=UTC:20230320T071500
DTEND;TZID=UTC:20230320T084500
DTSTAMP:20260423T225435
CREATED:20220620T211210Z
LAST-MODIFIED:20230531T155924Z
UID:10001263-1679296500-1679301900@lcor.org
SUMMARY:Ladies Bible Study via Zoom
DESCRIPTION:
URL:https://lcor.org/events-calendar/ladies-bible-study/2023-03-20/
END:VEVENT
BEGIN:VEVENT
DTSTART;TZID=UTC:20230321T190000
DTEND;TZID=UTC:20230321T190000
DTSTAMP:20260423T225435
CREATED:20230226T202105Z
LAST-MODIFIED:20230226T202105Z
UID:10001501-1679425200-1679425200@lcor.org
SUMMARY:Council Meeting
DESCRIPTION:
URL:https://lcor.org/events-calendar/council-meeting-12/
CATEGORIES:Council Meetings
END:VEVENT
BEGIN:VEVENT
DTSTART;TZID=UTC:20230322T180000
DTEND;TZID=UTC:20230322T193000
DTSTAMP:20260423T225435
CREATED:20221223T193417Z
LAST-MODIFIED:20230206T195358Z
UID:10001478-1679508000-1679513400@lcor.org
SUMMARY:Girl Scout Troop 82350
DESCRIPTION:
URL:https://lcor.org/events-calendar/girl-scout-troop-82350-narthex-9-2023-03-01/
CATEGORIES:Girl Scout Meetings
END:VEVENT
BEGIN:VEVENT
DTSTART;TZID=UTC:20230322T183000
DTEND;TZID=UTC:20230322T200000
DTSTAMP:20260423T225435
CREATED:20230226T200513Z
LAST-MODIFIED:20230226T200513Z
UID:10001494-1679509800-1679515200@lcor.org
SUMMARY:Lenten Series "Sharing Soup and Faith" - 6:30 pm Soup; 7:00 pm Faith Sharings
DESCRIPTION:
URL:https://lcor.org/events-calendar/lenten-series-sharing-soup-and-faith-630-pm-soup-700-pm-faith-sharings/2023-03-22/
CATEGORIES:Christian Education
END:VEVENT
BEGIN:VEVENT
DTSTART;TZID=UTC:20230323T071500
DTEND;TZID=UTC:20230323T084500
DTSTAMP:20260423T225435
CREATED:20220620T211603Z
LAST-MODIFIED:20230531T160220Z
UID:10001322-1679555700-1679561100@lcor.org
SUMMARY:Ladies Bible Study via Zoom
DESCRIPTION:
URL:https://lcor.org/events-calendar/ladies-bible-study-via-zoom-4/2023-03-23/
END:VEVENT
BEGIN:VEVENT
DTSTART;TZID=UTC:20230326T083000
DTEND;TZID=UTC:20230326T083000
DTSTAMP:20260423T225435
CREATED:20220504T200730Z
LAST-MODIFIED:20230226T205450Z
UID:10001085-1679819400-1679819400@lcor.org
SUMMARY:Contemp. Worship
DESCRIPTION:
URL:https://lcor.org/events-calendar/contemporary-worship-service-with-holy-communion/2023-03-26/
CATEGORIES:Worship & Music
END:VEVENT
BEGIN:VEVENT
DTSTART;TZID=UTC:20230326T091500
DTEND;TZID=UTC:20230326T091500
DTSTAMP:20260423T225435
CREATED:20220829T013104Z
LAST-MODIFIED:20230226T205936Z
UID:10001399-1679822100-1679822100@lcor.org
SUMMARY:Fellowship at 9:15; Christian Ed. at 9:30
DESCRIPTION:
URL:https://lcor.org/events-calendar/fellowship-2022-09-18/2023-03-26/
END:VEVENT
BEGIN:VEVENT
DTSTART;TZID=UTC:20230326T103000
DTEND;TZID=UTC:20230326T103000
DTSTAMP:20260423T225435
CREATED:20220504T201337Z
LAST-MODIFIED:20230226T203125Z
UID:10001201-1679826600-1679826600@lcor.org
SUMMARY:Traditional Worship
DESCRIPTION:
URL:https://lcor.org/events-calendar/traditional-worship-service-with-holy-communion-2022-12-04/2023-03-26/
CATEGORIES:Worship & Music
END:VEVENT
BEGIN:VEVENT
DTSTART;TZID=UTC:20230327T071500
DTEND;TZID=UTC:20230327T084500
DTSTAMP:20260423T225435
CREATED:20220620T211210Z
LAST-MODIFIED:20230531T155924Z
UID:10001264-1679901300-1679906700@lcor.org
SUMMARY:Ladies Bible Study via Zoom
DESCRIPTION:
URL:https://lcor.org/events-calendar/ladies-bible-study/2023-03-27/
END:VEVENT
BEGIN:VEVENT
DTSTART;TZID=UTC:20230329T183000
DTEND;TZID=UTC:20230329T200000
DTSTAMP:20260423T225435
CREATED:20230226T200513Z
LAST-MODIFIED:20230226T200513Z
UID:10001495-1680114600-1680120000@lcor.org
SUMMARY:Lenten Series "Sharing Soup and Faith" - 6:30 pm Soup; 7:00 pm Faith Sharings
DESCRIPTION:
URL:https://lcor.org/events-calendar/lenten-series-sharing-soup-and-faith-630-pm-soup-700-pm-faith-sharings/2023-03-29/
CATEGORIES:Christian Education
END:VEVENT
BEGIN:VEVENT
DTSTART;TZID=UTC:20230330T071500
DTEND;TZID=UTC:20230330T084500
DTSTAMP:20260423T225435
CREATED:20220620T211603Z
LAST-MODIFIED:20230531T160220Z
UID:10001323-1680160500-1680165900@lcor.org
SUMMARY:Ladies Bible Study via Zoom
DESCRIPTION:
URL:https://lcor.org/events-calendar/ladies-bible-study-via-zoom-4/2023-03-30/
END:VEVENT
BEGIN:VEVENT
DTSTART;TZID=UTC:20230402T083000
DTEND;TZID=UTC:20230402T083000
DTSTAMP:20260423T225435
CREATED:20220504T200730Z
LAST-MODIFIED:20230226T205450Z
UID:10001086-1680424200-1680424200@lcor.org
SUMMARY:Contemp. Worship
DESCRIPTION:
URL:https://lcor.org/events-calendar/contemporary-worship-service-with-holy-communion/2023-04-02/
CATEGORIES:Worship & Music
END:VEVENT
BEGIN:VEVENT
DTSTART;TZID=UTC:20230402T091500
DTEND;TZID=UTC:20230402T091500
DTSTAMP:20260423T225435
CREATED:20220829T013104Z
LAST-MODIFIED:20230226T205936Z
UID:10001400-1680426900-1680426900@lcor.org
SUMMARY:Fellowship at 9:15; Christian Ed. at 9:30
DESCRIPTION:
URL:https://lcor.org/events-calendar/fellowship-2022-09-18/2023-04-02/
END:VEVENT
BEGIN:VEVENT
DTSTART;TZID=UTC:20230402T103000
DTEND;TZID=UTC:20230402T103000
DTSTAMP:20260423T225435
CREATED:20220504T201337Z
LAST-MODIFIED:20230226T203125Z
UID:10001202-1680431400-1680431400@lcor.org
SUMMARY:Traditional Worship
DESCRIPTION:
URL:https://lcor.org/events-calendar/traditional-worship-service-with-holy-communion-2022-12-04/2023-04-02/
CATEGORIES:Worship & Music
END:VEVENT
BEGIN:VEVENT
DTSTART;TZID=UTC:20230403T071500
DTEND;TZID=UTC:20230403T084500
DTSTAMP:20260423T225435
CREATED:20220620T211210Z
LAST-MODIFIED:20230531T155924Z
UID:10001265-1680506100-1680511500@lcor.org
SUMMARY:Ladies Bible Study via Zoom
DESCRIPTION:
URL:https://lcor.org/events-calendar/ladies-bible-study/2023-04-03/
END:VEVENT
BEGIN:VEVENT
DTSTART;TZID=UTC:20230406T071500
DTEND;TZID=UTC:20230406T084500
DTSTAMP:20260423T225435
CREATED:20220620T211603Z
LAST-MODIFIED:20230531T160220Z
UID:10001324-1680765300-1680770700@lcor.org
SUMMARY:Ladies Bible Study via Zoom
DESCRIPTION:
URL:https://lcor.org/events-calendar/ladies-bible-study-via-zoom-4/2023-04-06/
END:VEVENT
BEGIN:VEVENT
DTSTART;TZID=UTC:20230406T190000
DTEND;TZID=UTC:20230406T200000
DTSTAMP:20260423T225435
CREATED:20230403T201046Z
LAST-MODIFIED:20230403T201046Z
UID:10001554-1680807600-1680811200@lcor.org
SUMMARY:Maundy Thursday Worship Service
DESCRIPTION:
URL:https://lcor.org/events-calendar/maundy-thursday-worship-service-2/
END:VEVENT
BEGIN:VEVENT
DTSTART;TZID=UTC:20230407T160000
DTEND;TZID=UTC:20230407T160000
DTSTAMP:20260423T225435
CREATED:20230329T014833Z
LAST-MODIFIED:20230329T014833Z
UID:10001549-1680883200-1680883200@lcor.org
SUMMARY:Good Friday Service
DESCRIPTION:
URL:https://lcor.org/events-calendar/good-friday-service/
CATEGORIES:Worship & Music
END:VEVENT
BEGIN:VEVENT
DTSTART;TZID=UTC:20230407T190000
DTEND;TZID=UTC:20230407T190000
DTSTAMP:20260423T225435
CREATED:20230329T014950Z
LAST-MODIFIED:20230329T014950Z
UID:10001550-1680894000-1680894000@lcor.org
SUMMARY:Good Friday Tenebrae Service
DESCRIPTION:
URL:https://lcor.org/events-calendar/good-friday-tenebrae-service/
CATEGORIES:Worship & Music
END:VEVENT
BEGIN:VEVENT
DTSTART;TZID=UTC:20230409T083000
DTEND;TZID=UTC:20230409T083000
DTSTAMP:20260423T225435
CREATED:20220504T200730Z
LAST-MODIFIED:20230226T205450Z
UID:10001087-1681029000-1681029000@lcor.org
SUMMARY:Contemp. Worship
DESCRIPTION:
URL:https://lcor.org/events-calendar/contemporary-worship-service-with-holy-communion/2023-04-09/
CATEGORIES:Worship & Music
END:VEVENT
BEGIN:VEVENT
DTSTART;TZID=UTC:20230409T091500
DTEND;TZID=UTC:20230409T091500
DTSTAMP:20260423T225435
CREATED:20220829T013104Z
LAST-MODIFIED:20230329T021503Z
UID:10001436-1681031700-1681031700@lcor.org
SUMMARY:Fellowship at 9:15; No Christian Ed.
DESCRIPTION:
URL:https://lcor.org/events-calendar/fellowship-2022-09-18-2023-04-09/
END:VEVENT
BEGIN:VEVENT
DTSTART;TZID=UTC:20230409T103000
DTEND;TZID=UTC:20230409T103000
DTSTAMP:20260423T225435
CREATED:20220504T201337Z
LAST-MODIFIED:20230226T203125Z
UID:10001203-1681036200-1681036200@lcor.org
SUMMARY:Traditional Worship
DESCRIPTION:
URL:https://lcor.org/events-calendar/traditional-worship-service-with-holy-communion-2022-12-04/2023-04-09/
CATEGORIES:Worship & Music
END:VEVENT
BEGIN:VEVENT
DTSTART;TZID=UTC:20230410T071500
DTEND;TZID=UTC:20230410T084500
DTSTAMP:20260423T225435
CREATED:20220620T211210Z
LAST-MODIFIED:20230531T155924Z
UID:10001266-1681110900-1681116300@lcor.org
SUMMARY:Ladies Bible Study via Zoom
DESCRIPTION:
URL:https://lcor.org/events-calendar/ladies-bible-study/2023-04-10/
END:VEVENT
BEGIN:VEVENT
DTSTART;TZID=UTC:20230411T190000
DTEND;TZID=UTC:20230411T190000
DTSTAMP:20260423T225435
CREATED:20230329T015134Z
LAST-MODIFIED:20230329T015134Z
UID:10001551-1681239600-1681239600@lcor.org
SUMMARY:Finance Committee Meeting
DESCRIPTION:
URL:https://lcor.org/events-calendar/finance-committee-meeting-4/
CATEGORIES:Finance Committee
END:VEVENT
BEGIN:VEVENT
DTSTART;TZID=UTC:20230413T071500
DTEND;TZID=UTC:20230413T084500
DTSTAMP:20260423T225435
CREATED:20220620T211603Z
LAST-MODIFIED:20230531T160220Z
UID:10001325-1681370100-1681375500@lcor.org
SUMMARY:Ladies Bible Study via Zoom
DESCRIPTION:
URL:https://lcor.org/events-calendar/ladies-bible-study-via-zoom-4/2023-04-13/
END:VEVENT
BEGIN:VEVENT
DTSTART;TZID=UTC:20230413T183000
DTEND;TZID=UTC:20230413T203000
DTSTAMP:20260423T225435
CREATED:20230406T011004Z
LAST-MODIFIED:20230406T011004Z
UID:10001555-1681410600-1681417800@lcor.org
SUMMARY:Social Ministry Meeting
DESCRIPTION:
URL:https://lcor.org/events-calendar/social-ministry-meeting-3/
END:VEVENT
BEGIN:VEVENT
DTSTART;TZID=UTC:20230416T083000
DTEND;TZID=UTC:20230416T083000
DTSTAMP:20260423T225435
CREATED:20220504T200730Z
LAST-MODIFIED:20230226T205450Z
UID:10001088-1681633800-1681633800@lcor.org
SUMMARY:Contemp. Worship
DESCRIPTION:
URL:https://lcor.org/events-calendar/contemporary-worship-service-with-holy-communion/2023-04-16/
CATEGORIES:Worship & Music
END:VEVENT
BEGIN:VEVENT
DTSTART;TZID=UTC:20230416T091500
DTEND;TZID=UTC:20230416T091500
DTSTAMP:20260423T225435
CREATED:20220829T013104Z
LAST-MODIFIED:20230329T021737Z
UID:10001437-1681636500-1681636500@lcor.org
SUMMARY:Fellowship at 9:15; Christian Ed. at 9:30; No Sunday School
DESCRIPTION:
URL:https://lcor.org/events-calendar/fellowship-2022-09-18-2023-04-16/
END:VEVENT
BEGIN:VEVENT
DTSTART;TZID=UTC:20230416T103000
DTEND;TZID=UTC:20230416T103000
DTSTAMP:20260423T225435
CREATED:20220504T201337Z
LAST-MODIFIED:20230226T203125Z
UID:10001204-1681641000-1681641000@lcor.org
SUMMARY:Traditional Worship
DESCRIPTION:
URL:https://lcor.org/events-calendar/traditional-worship-service-with-holy-communion-2022-12-04/2023-04-16/
CATEGORIES:Worship & Music
END:VEVENT
BEGIN:VEVENT
DTSTART;TZID=UTC:20230417T071500
DTEND;TZID=UTC:20230417T084500
DTSTAMP:20260423T225435
CREATED:20220620T211210Z
LAST-MODIFIED:20230531T155924Z
UID:10001267-1681715700-1681721100@lcor.org
SUMMARY:Ladies Bible Study via Zoom
DESCRIPTION:
URL:https://lcor.org/events-calendar/ladies-bible-study/2023-04-17/
END:VEVENT
END:VCALENDAR