BEGIN:VCALENDAR
VERSION:2.0
PRODID:-//Lutheran Church of Our Redeemer - ECPv6.15.20//NONSGML v1.0//EN
CALSCALE:GREGORIAN
METHOD:PUBLISH
X-WR-CALNAME:Lutheran Church of Our Redeemer
X-ORIGINAL-URL:https://lcor.org
X-WR-CALDESC:Events for Lutheran Church of Our Redeemer
REFRESH-INTERVAL;VALUE=DURATION:PT1H
X-Robots-Tag:noindex
X-PUBLISHED-TTL:PT1H
BEGIN:VTIMEZONE
TZID:UTC
BEGIN:STANDARD
TZOFFSETFROM:+0000
TZOFFSETTO:+0000
TZNAME:UTC
DTSTART:20220101T000000
END:STANDARD
END:VTIMEZONE
BEGIN:VEVENT
DTSTART;TZID=UTC:20230207T180000
DTEND;TZID=UTC:20230207T180000
DTSTAMP:20260424T002658
CREATED:20230202T143855Z
LAST-MODIFIED:20230202T143855Z
UID:10001359-1675792800-1675792800@lcor.org
SUMMARY:ORCCC BOD Meeting
DESCRIPTION:
URL:https://lcor.org/events-calendar/orccc-bod-meeting-7/
CATEGORIES:ORCCC
END:VEVENT
BEGIN:VEVENT
DTSTART;TZID=UTC:20230209T071500
DTEND;TZID=UTC:20230209T084500
DTSTAMP:20260424T002658
CREATED:20220620T211603Z
LAST-MODIFIED:20230531T160220Z
UID:10001316-1675926900-1675932300@lcor.org
SUMMARY:Ladies Bible Study via Zoom
DESCRIPTION:
URL:https://lcor.org/events-calendar/ladies-bible-study-via-zoom-4/2023-02-09/
END:VEVENT
BEGIN:VEVENT
DTSTART;TZID=UTC:20230212T083000
DTEND;TZID=UTC:20230212T083000
DTSTAMP:20260424T002658
CREATED:20220504T200730Z
LAST-MODIFIED:20230226T205450Z
UID:10001080-1676190600-1676190600@lcor.org
SUMMARY:Contemp. Worship
DESCRIPTION:
URL:https://lcor.org/events-calendar/contemporary-worship-service-with-holy-communion/2023-02-12/
CATEGORIES:Worship & Music
END:VEVENT
BEGIN:VEVENT
DTSTART;TZID=UTC:20230212T091500
DTEND;TZID=UTC:20230212T091500
DTSTAMP:20260424T002658
CREATED:20220829T013104Z
LAST-MODIFIED:20230226T205936Z
UID:10001395-1676193300-1676193300@lcor.org
SUMMARY:Fellowship at 9:15; Christian Ed. at 9:30
DESCRIPTION:
URL:https://lcor.org/events-calendar/fellowship-2022-09-18/2023-02-12/
END:VEVENT
BEGIN:VEVENT
DTSTART;TZID=UTC:20230212T103000
DTEND;TZID=UTC:20230212T103000
DTSTAMP:20260424T002658
CREATED:20220504T201337Z
LAST-MODIFIED:20230226T203125Z
UID:10001196-1676197800-1676197800@lcor.org
SUMMARY:Traditional Worship
DESCRIPTION:
URL:https://lcor.org/events-calendar/traditional-worship-service-with-holy-communion-2022-12-04/2023-02-12/
CATEGORIES:Worship & Music
END:VEVENT
BEGIN:VEVENT
DTSTART;TZID=UTC:20230213T071500
DTEND;TZID=UTC:20230213T084500
DTSTAMP:20260424T002658
CREATED:20220620T211210Z
LAST-MODIFIED:20230531T155924Z
UID:10001258-1676272500-1676277900@lcor.org
SUMMARY:Ladies Bible Study via Zoom
DESCRIPTION:
URL:https://lcor.org/events-calendar/ladies-bible-study/2023-02-13/
END:VEVENT
BEGIN:VEVENT
DTSTART;TZID=UTC:20230213T183000
DTEND;TZID=UTC:20230213T183000
DTSTAMP:20260424T002658
CREATED:20230202T144015Z
LAST-MODIFIED:20230202T144015Z
UID:10001361-1676313000-1676313000@lcor.org
SUMMARY:Worship & Music Meeting
DESCRIPTION:
URL:https://lcor.org/events-calendar/worship-music-meeting-5/
CATEGORIES:Worship & Music
END:VEVENT
BEGIN:VEVENT
DTSTART;TZID=UTC:20230214T190000
DTEND;TZID=UTC:20230214T190000
DTSTAMP:20260424T002658
CREATED:20230202T144123Z
LAST-MODIFIED:20230202T144123Z
UID:10001363-1676401200-1676401200@lcor.org
SUMMARY:Finance Meeting
DESCRIPTION:
URL:https://lcor.org/events-calendar/finance-meeting-7/
CATEGORIES:Finance Committee
END:VEVENT
BEGIN:VEVENT
DTSTART;TZID=UTC:20230215T093000
DTEND;TZID=UTC:20230215T093000
DTSTAMP:20260424T002658
CREATED:20230202T144235Z
LAST-MODIFIED:20230202T144235Z
UID:10001365-1676453400-1676453400@lcor.org
SUMMARY:Daycare Chapel Time
DESCRIPTION:
URL:https://lcor.org/events-calendar/daycare-chapel-time/
CATEGORIES:ORCCC
END:VEVENT
BEGIN:VEVENT
DTSTART;TZID=UTC:20230215T180000
DTEND;TZID=UTC:20230215T193000
DTSTAMP:20260424T002658
CREATED:20221223T193417Z
LAST-MODIFIED:20221223T193417Z
UID:10001477-1676484000-1676489400@lcor.org
SUMMARY:Girl Scout Troop 82350 - Narthex
DESCRIPTION:
URL:https://lcor.org/events-calendar/girl-scout-troop-82350-narthex-9/2023-02-15/
CATEGORIES:Girl Scout Meetings
END:VEVENT
BEGIN:VEVENT
DTSTART;TZID=UTC:20230216T071500
DTEND;TZID=UTC:20230216T084500
DTSTAMP:20260424T002658
CREATED:20220620T211603Z
LAST-MODIFIED:20230531T160220Z
UID:10001317-1676531700-1676537100@lcor.org
SUMMARY:Ladies Bible Study via Zoom
DESCRIPTION:
URL:https://lcor.org/events-calendar/ladies-bible-study-via-zoom-4/2023-02-16/
END:VEVENT
BEGIN:VEVENT
DTSTART;VALUE=DATE:20230218
DTEND;VALUE=DATE:20230219
DTSTAMP:20260424T002658
CREATED:20230202T144340Z
LAST-MODIFIED:20230202T144340Z
UID:10001367-1676678400-1676764799@lcor.org
SUMMARY:Deadline for March Newsletter Submissions
DESCRIPTION:
URL:https://lcor.org/events-calendar/deadline-for-march-newsletter-submissions/
END:VEVENT
BEGIN:VEVENT
DTSTART;TZID=UTC:20230219T083000
DTEND;TZID=UTC:20230219T083000
DTSTAMP:20260424T002658
CREATED:20220504T200730Z
LAST-MODIFIED:20230226T205450Z
UID:10001081-1676795400-1676795400@lcor.org
SUMMARY:Contemp. Worship
DESCRIPTION:
URL:https://lcor.org/events-calendar/contemporary-worship-service-with-holy-communion/2023-02-19/
CATEGORIES:Worship & Music
END:VEVENT
BEGIN:VEVENT
DTSTART;TZID=UTC:20230219T091500
DTEND;TZID=UTC:20230219T091500
DTSTAMP:20260424T002658
CREATED:20220829T013104Z
LAST-MODIFIED:20230203T032345Z
UID:10001434-1676798100-1676798100@lcor.org
SUMMARY:Fellowship at 9:15 am No Sunday School\, No Confirmation
DESCRIPTION:
URL:https://lcor.org/events-calendar/fellowship-2022-09-18-2023-02-19/
END:VEVENT
BEGIN:VEVENT
DTSTART;TZID=UTC:20230219T103000
DTEND;TZID=UTC:20230219T103000
DTSTAMP:20260424T002658
CREATED:20220504T201337Z
LAST-MODIFIED:20230226T203125Z
UID:10001197-1676802600-1676802600@lcor.org
SUMMARY:Traditional Worship
DESCRIPTION:
URL:https://lcor.org/events-calendar/traditional-worship-service-with-holy-communion-2022-12-04/2023-02-19/
CATEGORIES:Worship & Music
END:VEVENT
BEGIN:VEVENT
DTSTART;TZID=UTC:20230220T071500
DTEND;TZID=UTC:20230220T084500
DTSTAMP:20260424T002658
CREATED:20220620T211210Z
LAST-MODIFIED:20230531T155924Z
UID:10001259-1676877300-1676882700@lcor.org
SUMMARY:Ladies Bible Study via Zoom
DESCRIPTION:
URL:https://lcor.org/events-calendar/ladies-bible-study/2023-02-20/
END:VEVENT
BEGIN:VEVENT
DTSTART;TZID=UTC:20230222T190000
DTEND;TZID=UTC:20230222T190000
DTSTAMP:20260424T002658
CREATED:20230202T144520Z
LAST-MODIFIED:20230202T144520Z
UID:10001487-1677092400-1677092400@lcor.org
SUMMARY:Ash Wednesday Service
DESCRIPTION:
URL:https://lcor.org/events-calendar/ash-wednesday-service-2/
CATEGORIES:Worship & Music
END:VEVENT
BEGIN:VEVENT
DTSTART;TZID=UTC:20230223T071500
DTEND;TZID=UTC:20230223T084500
DTSTAMP:20260424T002658
CREATED:20220620T211603Z
LAST-MODIFIED:20230531T160220Z
UID:10001318-1677136500-1677141900@lcor.org
SUMMARY:Ladies Bible Study via Zoom
DESCRIPTION:
URL:https://lcor.org/events-calendar/ladies-bible-study-via-zoom-4/2023-02-23/
END:VEVENT
BEGIN:VEVENT
DTSTART;TZID=UTC:20230226T083000
DTEND;TZID=UTC:20230226T083000
DTSTAMP:20260424T002658
CREATED:20220504T200730Z
LAST-MODIFIED:20230226T205450Z
UID:10001082-1677400200-1677400200@lcor.org
SUMMARY:Contemp. Worship
DESCRIPTION:
URL:https://lcor.org/events-calendar/contemporary-worship-service-with-holy-communion/2023-02-26/
CATEGORIES:Worship & Music
END:VEVENT
BEGIN:VEVENT
DTSTART;TZID=UTC:20230226T091500
DTEND;TZID=UTC:20230226T091500
DTSTAMP:20260424T002658
CREATED:20220829T013104Z
LAST-MODIFIED:20230203T032700Z
UID:10001435-1677402900-1677402900@lcor.org
SUMMARY:Fellowship at 9:15 am\, No Sunday School
DESCRIPTION:
URL:https://lcor.org/events-calendar/fellowship-2022-09-18-2023-02-26/
END:VEVENT
BEGIN:VEVENT
DTSTART;TZID=UTC:20230226T103000
DTEND;TZID=UTC:20230226T103000
DTSTAMP:20260424T002658
CREATED:20220504T201337Z
LAST-MODIFIED:20230226T203125Z
UID:10001198-1677407400-1677407400@lcor.org
SUMMARY:Traditional Worship
DESCRIPTION:
URL:https://lcor.org/events-calendar/traditional-worship-service-with-holy-communion-2022-12-04/2023-02-26/
CATEGORIES:Worship & Music
END:VEVENT
BEGIN:VEVENT
DTSTART;TZID=UTC:20230227T071500
DTEND;TZID=UTC:20230227T084500
DTSTAMP:20260424T002658
CREATED:20220620T211210Z
LAST-MODIFIED:20230531T155924Z
UID:10001260-1677482100-1677487500@lcor.org
SUMMARY:Ladies Bible Study via Zoom
DESCRIPTION:
URL:https://lcor.org/events-calendar/ladies-bible-study/2023-02-27/
END:VEVENT
BEGIN:VEVENT
DTSTART;TZID=UTC:20230228T190000
DTEND;TZID=UTC:20230228T190000
DTSTAMP:20260424T002658
CREATED:20230202T144630Z
LAST-MODIFIED:20230202T144630Z
UID:10001488-1677610800-1677610800@lcor.org
SUMMARY:Council Meeting
DESCRIPTION:
URL:https://lcor.org/events-calendar/council-meeting-11/
END:VEVENT
BEGIN:VEVENT
DTSTART;TZID=UTC:20230301T183000
DTEND;TZID=UTC:20230301T200000
DTSTAMP:20260424T002658
CREATED:20230226T200513Z
LAST-MODIFIED:20230226T200513Z
UID:10001491-1677695400-1677700800@lcor.org
SUMMARY:Lenten Series "Sharing Soup and Faith" - 6:30 pm Soup; 7:00 pm Faith Sharings
DESCRIPTION:
URL:https://lcor.org/events-calendar/lenten-series-sharing-soup-and-faith-630-pm-soup-700-pm-faith-sharings/2023-03-01/
CATEGORIES:Christian Education
END:VEVENT
BEGIN:VEVENT
DTSTART;TZID=UTC:20230302T071500
DTEND;TZID=UTC:20230302T084500
DTSTAMP:20260424T002658
CREATED:20220620T211603Z
LAST-MODIFIED:20230531T160220Z
UID:10001319-1677741300-1677746700@lcor.org
SUMMARY:Ladies Bible Study via Zoom
DESCRIPTION:
URL:https://lcor.org/events-calendar/ladies-bible-study-via-zoom-4/2023-03-02/
END:VEVENT
BEGIN:VEVENT
DTSTART;TZID=UTC:20230302T190000
DTEND;TZID=UTC:20230302T190000
DTSTAMP:20260424T002658
CREATED:20230226T200830Z
LAST-MODIFIED:20230226T200830Z
UID:10001496-1677783600-1677783600@lcor.org
SUMMARY:Social Ministry Meeting via Zoom
DESCRIPTION:
URL:https://lcor.org/events-calendar/social-ministry-meeting-via-zoom-2/
CATEGORIES:Social Ministry
END:VEVENT
BEGIN:VEVENT
DTSTART;TZID=UTC:20230305T083000
DTEND;TZID=UTC:20230305T083000
DTSTAMP:20260424T002658
CREATED:20220504T200730Z
LAST-MODIFIED:20230226T205450Z
UID:10001083-1678005000-1678005000@lcor.org
SUMMARY:Contemp. Worship
DESCRIPTION:
URL:https://lcor.org/events-calendar/contemporary-worship-service-with-holy-communion/2023-03-05/
CATEGORIES:Worship & Music
END:VEVENT
BEGIN:VEVENT
DTSTART;TZID=UTC:20230305T091500
DTEND;TZID=UTC:20230305T091500
DTSTAMP:20260424T002658
CREATED:20220829T013104Z
LAST-MODIFIED:20230226T205936Z
UID:10001396-1678007700-1678007700@lcor.org
SUMMARY:Fellowship at 9:15; Christian Ed. at 9:30
DESCRIPTION:
URL:https://lcor.org/events-calendar/fellowship-2022-09-18/2023-03-05/
END:VEVENT
BEGIN:VEVENT
DTSTART;TZID=UTC:20230305T103000
DTEND;TZID=UTC:20230305T103000
DTSTAMP:20260424T002658
CREATED:20220504T201337Z
LAST-MODIFIED:20230226T203125Z
UID:10001199-1678012200-1678012200@lcor.org
SUMMARY:Traditional Worship
DESCRIPTION:
URL:https://lcor.org/events-calendar/traditional-worship-service-with-holy-communion-2022-12-04/2023-03-05/
CATEGORIES:Worship & Music
END:VEVENT
BEGIN:VEVENT
DTSTART;TZID=UTC:20230306T071500
DTEND;TZID=UTC:20230306T084500
DTSTAMP:20260424T002658
CREATED:20220620T211210Z
LAST-MODIFIED:20230531T155924Z
UID:10001261-1678086900-1678092300@lcor.org
SUMMARY:Ladies Bible Study via Zoom
DESCRIPTION:
URL:https://lcor.org/events-calendar/ladies-bible-study/2023-03-06/
END:VEVENT
END:VCALENDAR