BEGIN:VCALENDAR
VERSION:2.0
PRODID:-//Lutheran Church of Our Redeemer - ECPv6.15.20//NONSGML v1.0//EN
CALSCALE:GREGORIAN
METHOD:PUBLISH
X-WR-CALNAME:Lutheran Church of Our Redeemer
X-ORIGINAL-URL:https://lcor.org
X-WR-CALDESC:Events for Lutheran Church of Our Redeemer
REFRESH-INTERVAL;VALUE=DURATION:PT1H
X-Robots-Tag:noindex
X-PUBLISHED-TTL:PT1H
BEGIN:VTIMEZONE
TZID:UTC
BEGIN:STANDARD
TZOFFSETFROM:+0000
TZOFFSETTO:+0000
TZNAME:UTC
DTSTART:20210101T000000
END:STANDARD
END:VTIMEZONE
BEGIN:VEVENT
DTSTART;TZID=UTC:20221101T180000
DTEND;TZID=UTC:20221101T180000
DTSTAMP:20260424T153035
CREATED:20221030T225237Z
LAST-MODIFIED:20221030T225237Z
UID:10001155-1667325600-1667325600@lcor.org
SUMMARY:ORCCC BOD Meeting
DESCRIPTION:
URL:https://lcor.org/events-calendar/orccc-bod-meeting-6/
END:VEVENT
BEGIN:VEVENT
DTSTART;TZID=UTC:20221101T190000
DTEND;TZID=UTC:20221101T190000
DTSTAMP:20260424T153035
CREATED:20221030T225504Z
LAST-MODIFIED:20221030T225504Z
UID:10001157-1667329200-1667329200@lcor.org
SUMMARY:Finance Committee Meeting
DESCRIPTION:
URL:https://lcor.org/events-calendar/finance-committee-meeting-2/
END:VEVENT
BEGIN:VEVENT
DTSTART;TZID=UTC:20221102T183000
DTEND;TZID=UTC:20221102T193000
DTSTAMP:20260424T153035
CREATED:20221031T004312Z
LAST-MODIFIED:20221031T004312Z
UID:10001428-1667413800-1667417400@lcor.org
SUMMARY:Girl Scouts - Narthex
DESCRIPTION:
URL:https://lcor.org/events-calendar/girl-scouts-narthex/
END:VEVENT
BEGIN:VEVENT
DTSTART;TZID=UTC:20221102T190000
DTEND;TZID=UTC:20221102T190000
DTSTAMP:20260424T153035
CREATED:20221030T225916Z
LAST-MODIFIED:20221030T225916Z
UID:10001159-1667415600-1667415600@lcor.org
SUMMARY:Mutual Ministry Meeting
DESCRIPTION:
URL:https://lcor.org/events-calendar/mutual-ministry-meeting-2/
END:VEVENT
BEGIN:VEVENT
DTSTART;TZID=UTC:20221103T071500
DTEND;TZID=UTC:20221103T084500
DTSTAMP:20260424T153035
CREATED:20220620T211603Z
LAST-MODIFIED:20230531T160220Z
UID:10001303-1667459700-1667465100@lcor.org
SUMMARY:Ladies Bible Study via Zoom
DESCRIPTION:
URL:https://lcor.org/events-calendar/ladies-bible-study-via-zoom-4/2022-11-03/
END:VEVENT
BEGIN:VEVENT
DTSTART;TZID=UTC:20221103T183000
DTEND;TZID=UTC:20221103T183000
DTSTAMP:20260424T153035
CREATED:20221030T230154Z
LAST-MODIFIED:20221030T230154Z
UID:10001161-1667500200-1667500200@lcor.org
SUMMARY:Contemporary Worship Task Force Meeting
DESCRIPTION:
URL:https://lcor.org/events-calendar/contemporary-worship-task-force-meeting/
END:VEVENT
BEGIN:VEVENT
DTSTART;TZID=UTC:20221106T083000
DTEND;TZID=UTC:20221106T083000
DTSTAMP:20260424T153035
CREATED:20220504T200730Z
LAST-MODIFIED:20230226T205450Z
UID:10001069-1667723400-1667723400@lcor.org
SUMMARY:Contemp. Worship
DESCRIPTION:
URL:https://lcor.org/events-calendar/contemporary-worship-service-with-holy-communion/2022-11-06/
CATEGORIES:Worship & Music
END:VEVENT
BEGIN:VEVENT
DTSTART;TZID=UTC:20221106T091500
DTEND;TZID=UTC:20221106T091500
DTSTAMP:20260424T153035
CREATED:20220829T013104Z
LAST-MODIFIED:20230226T205936Z
UID:10001384-1667726100-1667726100@lcor.org
SUMMARY:Fellowship at 9:15; Christian Ed. at 9:30
DESCRIPTION:
URL:https://lcor.org/events-calendar/fellowship-2022-09-18/2022-11-06/
END:VEVENT
BEGIN:VEVENT
DTSTART;TZID=UTC:20221106T092500
DTEND;TZID=UTC:20221106T092500
DTSTAMP:20260424T153035
CREATED:20221030T231849Z
LAST-MODIFIED:20221030T231849Z
UID:10001162-1667726700-1667726700@lcor.org
SUMMARY:"A Spiritual Journey" presentation
DESCRIPTION:
URL:https://lcor.org/events-calendar/a-spiritual-journey-presentation/
END:VEVENT
BEGIN:VEVENT
DTSTART;TZID=UTC:20221106T103000
DTEND;TZID=UTC:20221106T103000
DTSTAMP:20260424T153035
CREATED:20220504T201337Z
LAST-MODIFIED:20221031T020526Z
UID:10001183-1667730600-1667730600@lcor.org
SUMMARY:Traditional Worship Service
DESCRIPTION:
URL:https://lcor.org/events-calendar/traditional-worship-service-with-holy-communion-2022-11-06/2022-11-06/
END:VEVENT
BEGIN:VEVENT
DTSTART;TZID=UTC:20221107T071500
DTEND;TZID=UTC:20221107T084500
DTSTAMP:20260424T153035
CREATED:20220620T211210Z
LAST-MODIFIED:20230531T155924Z
UID:10001244-1667805300-1667810700@lcor.org
SUMMARY:Ladies Bible Study via Zoom
DESCRIPTION:
URL:https://lcor.org/events-calendar/ladies-bible-study/2022-11-07/
END:VEVENT
BEGIN:VEVENT
DTSTART;TZID=UTC:20221110T071500
DTEND;TZID=UTC:20221110T084500
DTSTAMP:20260424T153035
CREATED:20220620T211603Z
LAST-MODIFIED:20230531T160220Z
UID:10001304-1668064500-1668069900@lcor.org
SUMMARY:Ladies Bible Study via Zoom
DESCRIPTION:
URL:https://lcor.org/events-calendar/ladies-bible-study-via-zoom-4/2022-11-10/
END:VEVENT
BEGIN:VEVENT
DTSTART;TZID=UTC:20221110T190000
DTEND;TZID=UTC:20221110T190000
DTSTAMP:20260424T153035
CREATED:20221030T232048Z
LAST-MODIFIED:20221030T232048Z
UID:10001164-1668106800-1668106800@lcor.org
SUMMARY:Social Ministry Meeting
DESCRIPTION:
URL:https://lcor.org/events-calendar/social-ministry-meeting/
END:VEVENT
BEGIN:VEVENT
DTSTART;TZID=UTC:20221113T083000
DTEND;TZID=UTC:20221113T083000
DTSTAMP:20260424T153035
CREATED:20220504T200730Z
LAST-MODIFIED:20230226T205450Z
UID:10001070-1668328200-1668328200@lcor.org
SUMMARY:Contemp. Worship
DESCRIPTION:
URL:https://lcor.org/events-calendar/contemporary-worship-service-with-holy-communion/2022-11-13/
CATEGORIES:Worship & Music
END:VEVENT
BEGIN:VEVENT
DTSTART;TZID=UTC:20221113T091500
DTEND;TZID=UTC:20221113T091500
DTSTAMP:20260424T153035
CREATED:20220829T013104Z
LAST-MODIFIED:20230226T205936Z
UID:10001385-1668330900-1668330900@lcor.org
SUMMARY:Fellowship at 9:15; Christian Ed. at 9:30
DESCRIPTION:
URL:https://lcor.org/events-calendar/fellowship-2022-09-18/2022-11-13/
END:VEVENT
BEGIN:VEVENT
DTSTART;TZID=UTC:20221113T092500
DTEND;TZID=UTC:20221113T092500
DTSTAMP:20260424T153035
CREATED:20221030T232846Z
LAST-MODIFIED:20221030T232846Z
UID:10001166-1668331500-1668331500@lcor.org
SUMMARY:Semi-annual Congregation Meeting
DESCRIPTION:
URL:https://lcor.org/events-calendar/semi-annual-congregation-meeting/
END:VEVENT
BEGIN:VEVENT
DTSTART;TZID=UTC:20221113T093000
DTEND;TZID=UTC:20221113T093000
DTSTAMP:20260424T153035
CREATED:20221030T233155Z
LAST-MODIFIED:20221030T233155Z
UID:10001168-1668331800-1668331800@lcor.org
SUMMARY:No confirmation class
DESCRIPTION:
URL:https://lcor.org/events-calendar/no-confirmation-class/
END:VEVENT
BEGIN:VEVENT
DTSTART;TZID=UTC:20221113T103000
DTEND;TZID=UTC:20221113T103000
DTSTAMP:20260424T153035
CREATED:20220504T201337Z
LAST-MODIFIED:20221116T004638Z
UID:10001431-1668335400-1668335400@lcor.org
SUMMARY:Traditional Worship Service
DESCRIPTION:
URL:https://lcor.org/events-calendar/traditional-worship-service-with-holy-communion-2022-11-06-2022-11-13/
END:VEVENT
BEGIN:VEVENT
DTSTART;TZID=UTC:20221113T103000
DTEND;TZID=UTC:20221113T113000
DTSTAMP:20260424T153035
CREATED:20220504T201337Z
LAST-MODIFIED:20220627T200823Z
UID:10001186-1668335400-1668339000@lcor.org
SUMMARY:Traditional Worship Service with Holy Communion
DESCRIPTION:
URL:https://lcor.org/events-calendar/traditional-worship-service-with-holy-communion-2022-11-13/
END:VEVENT
BEGIN:VEVENT
DTSTART;TZID=UTC:20221114T071500
DTEND;TZID=UTC:20221114T084500
DTSTAMP:20260424T153035
CREATED:20220620T211210Z
LAST-MODIFIED:20230531T155924Z
UID:10001245-1668410100-1668415500@lcor.org
SUMMARY:Ladies Bible Study via Zoom
DESCRIPTION:
URL:https://lcor.org/events-calendar/ladies-bible-study/2022-11-14/
END:VEVENT
BEGIN:VEVENT
DTSTART;TZID=UTC:20221115T190000
DTEND;TZID=UTC:20221115T190000
DTSTAMP:20260424T153035
CREATED:20221030T233320Z
LAST-MODIFIED:20221030T233320Z
UID:10001422-1668538800-1668538800@lcor.org
SUMMARY:Council Meeting
DESCRIPTION:
URL:https://lcor.org/events-calendar/council-meeting-10/
END:VEVENT
BEGIN:VEVENT
DTSTART;TZID=UTC:20221116T183000
DTEND;TZID=UTC:20221116T193000
DTSTAMP:20260424T153035
CREATED:20221031T004510Z
LAST-MODIFIED:20221031T004510Z
UID:10001429-1668623400-1668627000@lcor.org
SUMMARY:Girl Scouts - Narthex
DESCRIPTION:
URL:https://lcor.org/events-calendar/girl-scouts-narthex-2/
END:VEVENT
BEGIN:VEVENT
DTSTART;TZID=UTC:20221117T071500
DTEND;TZID=UTC:20221117T084500
DTSTAMP:20260424T153035
CREATED:20220620T211603Z
LAST-MODIFIED:20230531T160220Z
UID:10001305-1668669300-1668674700@lcor.org
SUMMARY:Ladies Bible Study via Zoom
DESCRIPTION:
URL:https://lcor.org/events-calendar/ladies-bible-study-via-zoom-4/2022-11-17/
END:VEVENT
BEGIN:VEVENT
DTSTART;VALUE=DATE:20221119
DTEND;VALUE=DATE:20221120
DTSTAMP:20260424T153035
CREATED:20221030T233509Z
LAST-MODIFIED:20221030T233509Z
UID:10001423-1668816000-1668902399@lcor.org
SUMMARY:Deadline for December Newsletter Submissions
DESCRIPTION:
URL:https://lcor.org/events-calendar/deadline-for-december-newsletter-submissions/
END:VEVENT
BEGIN:VEVENT
DTSTART;TZID=UTC:20221120T083000
DTEND;TZID=UTC:20221120T083000
DTSTAMP:20260424T153036
CREATED:20220504T200730Z
LAST-MODIFIED:20230226T205450Z
UID:10001071-1668933000-1668933000@lcor.org
SUMMARY:Contemp. Worship
DESCRIPTION:
URL:https://lcor.org/events-calendar/contemporary-worship-service-with-holy-communion/2022-11-20/
CATEGORIES:Worship & Music
END:VEVENT
BEGIN:VEVENT
DTSTART;TZID=UTC:20221120T091500
DTEND;TZID=UTC:20221120T091500
DTSTAMP:20260424T153036
CREATED:20220829T013104Z
LAST-MODIFIED:20230226T205936Z
UID:10001386-1668935700-1668935700@lcor.org
SUMMARY:Fellowship at 9:15; Christian Ed. at 9:30
DESCRIPTION:
URL:https://lcor.org/events-calendar/fellowship-2022-09-18/2022-11-20/
END:VEVENT
BEGIN:VEVENT
DTSTART;TZID=UTC:20221120T103000
DTEND;TZID=UTC:20221120T103000
DTSTAMP:20260424T153036
CREATED:20220504T201337Z
LAST-MODIFIED:20221031T020526Z
UID:10001184-1668940200-1668940200@lcor.org
SUMMARY:Traditional Worship Service
DESCRIPTION:
URL:https://lcor.org/events-calendar/traditional-worship-service-with-holy-communion-2022-11-06/2022-11-20/
END:VEVENT
BEGIN:VEVENT
DTSTART;TZID=UTC:20221120T103000
DTEND;TZID=UTC:20221120T113000
DTSTAMP:20260424T153036
CREATED:20220504T201337Z
LAST-MODIFIED:20220627T200707Z
UID:10001187-1668940200-1668943800@lcor.org
SUMMARY:Traditional Worship Service with Holy Communion
DESCRIPTION:
URL:https://lcor.org/events-calendar/traditional-worship-service-with-holy-communion-2022-11-20/
END:VEVENT
BEGIN:VEVENT
DTSTART;TZID=UTC:20221121T071500
DTEND;TZID=UTC:20221121T084500
DTSTAMP:20260424T153036
CREATED:20220620T211210Z
LAST-MODIFIED:20230531T155924Z
UID:10001246-1669014900-1669020300@lcor.org
SUMMARY:Ladies Bible Study via Zoom
DESCRIPTION:
URL:https://lcor.org/events-calendar/ladies-bible-study/2022-11-21/
END:VEVENT
BEGIN:VEVENT
DTSTART;VALUE=DATE:20221124
DTEND;VALUE=DATE:20221125
DTSTAMP:20260424T153036
CREATED:20221030T234001Z
LAST-MODIFIED:20221030T234001Z
UID:10001424-1669248000-1669334399@lcor.org
SUMMARY:Happy Thanksgiving!
DESCRIPTION:
URL:https://lcor.org/events-calendar/happy-thanksgiving/
END:VEVENT
END:VCALENDAR