BEGIN:VCALENDAR
VERSION:2.0
PRODID:-//Lutheran Church of Our Redeemer - ECPv6.15.20//NONSGML v1.0//EN
CALSCALE:GREGORIAN
METHOD:PUBLISH
X-WR-CALNAME:Lutheran Church of Our Redeemer
X-ORIGINAL-URL:https://lcor.org
X-WR-CALDESC:Events for Lutheran Church of Our Redeemer
REFRESH-INTERVAL;VALUE=DURATION:PT1H
X-Robots-Tag:noindex
X-PUBLISHED-TTL:PT1H
BEGIN:VTIMEZONE
TZID:UTC
BEGIN:STANDARD
TZOFFSETFROM:+0000
TZOFFSETTO:+0000
TZNAME:UTC
DTSTART:20210101T000000
END:STANDARD
END:VTIMEZONE
BEGIN:VTIMEZONE
TZID:America/New_York
BEGIN:DAYLIGHT
TZOFFSETFROM:-0500
TZOFFSETTO:-0400
TZNAME:EDT
DTSTART:20210314T070000
END:DAYLIGHT
BEGIN:STANDARD
TZOFFSETFROM:-0400
TZOFFSETTO:-0500
TZNAME:EST
DTSTART:20211107T060000
END:STANDARD
BEGIN:DAYLIGHT
TZOFFSETFROM:-0500
TZOFFSETTO:-0400
TZNAME:EDT
DTSTART:20220313T070000
END:DAYLIGHT
BEGIN:STANDARD
TZOFFSETFROM:-0400
TZOFFSETTO:-0500
TZNAME:EST
DTSTART:20221106T060000
END:STANDARD
BEGIN:DAYLIGHT
TZOFFSETFROM:-0500
TZOFFSETTO:-0400
TZNAME:EDT
DTSTART:20230312T070000
END:DAYLIGHT
BEGIN:STANDARD
TZOFFSETFROM:-0400
TZOFFSETTO:-0500
TZNAME:EST
DTSTART:20231105T060000
END:STANDARD
END:VTIMEZONE
BEGIN:VEVENT
DTSTART;TZID=UTC:20220519T071500
DTEND;TZID=UTC:20220519T084500
DTSTAMP:20260425T122024
CREATED:20211215T050017Z
LAST-MODIFIED:20220411T201204Z
UID:10001027-1652944500-1652949900@lcor.org
SUMMARY:Ladies Bible Study via Zoom
DESCRIPTION:If you are interested in joining the group or learning more\, contact the church office at office@lcor.org or speak to Loni Ivanovskis.
URL:https://lcor.org/events-calendar/ladies-bible-study-via-zoom/2022-05-19/
END:VEVENT
BEGIN:VEVENT
DTSTART;TZID=UTC:20220519T180000
DTEND;TZID=UTC:20220519T193000
DTSTAMP:20260425T122024
CREATED:20220331T175419Z
LAST-MODIFIED:20220331T175419Z
UID:10001133-1652983200-1652988600@lcor.org
SUMMARY:Girl Scout Troop 82350 - Narthex
DESCRIPTION:
URL:https://lcor.org/events-calendar/girl-scout-troop-82350-narthex-8/
END:VEVENT
BEGIN:VEVENT
DTSTART;VALUE=DATE:20220521
DTEND;VALUE=DATE:20220522
DTSTAMP:20260425T122024
CREATED:20220429T184538Z
LAST-MODIFIED:20220429T184538Z
UID:10001140-1653091200-1653177599@lcor.org
SUMMARY:Deadline for All June Newsletter Submissions
DESCRIPTION:
URL:https://lcor.org/events-calendar/deadline-for-all-june-newsletter-submissions/
END:VEVENT
BEGIN:VEVENT
DTSTART;TZID=America/New_York:20220522T083000
DTEND;TZID=America/New_York:20220522T093000
DTSTAMP:20260425T122024
CREATED:20211117T165104Z
LAST-MODIFIED:20211117T170404Z
UID:10000931-1653208200-1653211800@lcor.org
SUMMARY:Worship with Holy Communion
DESCRIPTION:
URL:https://lcor.org/events-calendar/worship-with-holy-communion-3/2022-05-22/
END:VEVENT
BEGIN:VEVENT
DTSTART;TZID=America/New_York:20220522T093000
DTEND;TZID=America/New_York:20220522T110000
DTSTAMP:20260425T122024
CREATED:20211117T165318Z
LAST-MODIFIED:20211117T165940Z
UID:10000980-1653211800-1653217200@lcor.org
SUMMARY:Coffee/Fellowship Time
DESCRIPTION:
URL:https://lcor.org/events-calendar/coffee-fellowship-time-2/2022-05-22/
END:VEVENT
BEGIN:VEVENT
DTSTART;TZID=America/New_York:20220522T110000
DTEND;TZID=America/New_York:20220522T120000
DTSTAMP:20260425T122024
CREATED:20211117T165205Z
LAST-MODIFIED:20211117T165827Z
UID:10000956-1653217200-1653220800@lcor.org
SUMMARY:Worship with Holy Communion
DESCRIPTION:
URL:https://lcor.org/events-calendar/worship-with-holy-communion-4/2022-05-22/
END:VEVENT
BEGIN:VEVENT
DTSTART;TZID=UTC:20220523T071500
DTEND;TZID=UTC:20220523T084500
DTSTAMP:20260425T122024
CREATED:20211215T050017Z
LAST-MODIFIED:20220411T201204Z
UID:10001028-1653290100-1653295500@lcor.org
SUMMARY:Ladies Bible Study via Zoom
DESCRIPTION:If you are interested in joining the group or learning more\, contact the church office at office@lcor.org or speak to Loni Ivanovskis.
URL:https://lcor.org/events-calendar/ladies-bible-study-via-zoom/2022-05-23/
END:VEVENT
BEGIN:VEVENT
DTSTART;TZID=UTC:20220526T071500
DTEND;TZID=UTC:20220526T084500
DTSTAMP:20260425T122024
CREATED:20211215T050017Z
LAST-MODIFIED:20220411T201204Z
UID:10001029-1653549300-1653554700@lcor.org
SUMMARY:Ladies Bible Study via Zoom
DESCRIPTION:If you are interested in joining the group or learning more\, contact the church office at office@lcor.org or speak to Loni Ivanovskis.
URL:https://lcor.org/events-calendar/ladies-bible-study-via-zoom/2022-05-26/
END:VEVENT
BEGIN:VEVENT
DTSTART;TZID=UTC:20220529T083000
DTEND;TZID=UTC:20220529T093000
DTSTAMP:20260425T122024
CREATED:20220429T184748Z
LAST-MODIFIED:20220511T182549Z
UID:10001142-1653813000-1653816600@lcor.org
SUMMARY:Contemporary Worship with Holy Communion
DESCRIPTION:
URL:https://lcor.org/events-calendar/contemporary-worship-with-holy-communion/2022-05-29/
END:VEVENT
BEGIN:VEVENT
DTSTART;TZID=UTC:20220529T093000
DTEND;TZID=UTC:20220529T110000
DTSTAMP:20260425T122024
CREATED:20220429T185304Z
LAST-MODIFIED:20220511T175838Z
UID:10001156-1653816600-1653822000@lcor.org
SUMMARY:Coffee and Fellowship Time
DESCRIPTION:
URL:https://lcor.org/events-calendar/coffee-and-fellowship-time/
END:VEVENT
BEGIN:VEVENT
DTSTART;TZID=UTC:20220529T110000
DTEND;TZID=UTC:20220529T120000
DTSTAMP:20260425T122024
CREATED:20220429T185358Z
LAST-MODIFIED:20220511T175231Z
UID:10001158-1653822000-1653825600@lcor.org
SUMMARY:Traditional Worship with Holy Communion
DESCRIPTION:
URL:https://lcor.org/events-calendar/traditional-worship-with-holy-communion/
END:VEVENT
BEGIN:VEVENT
DTSTART;VALUE=DATE:20220530
DTEND;VALUE=DATE:20220531
DTSTAMP:20260425T122024
CREATED:20220429T183950Z
LAST-MODIFIED:20220429T183950Z
UID:10001134-1653868800-1653955199@lcor.org
SUMMARY:Church Office Closed for Memorial Day
DESCRIPTION:
URL:https://lcor.org/events-calendar/church-office-closed-for-memorial-day/
END:VEVENT
BEGIN:VEVENT
DTSTART;TZID=UTC:20220530T071500
DTEND;TZID=UTC:20220530T084500
DTSTAMP:20260425T122024
CREATED:20211215T050017Z
LAST-MODIFIED:20220411T201204Z
UID:10001030-1653894900-1653900300@lcor.org
SUMMARY:Ladies Bible Study via Zoom
DESCRIPTION:If you are interested in joining the group or learning more\, contact the church office at office@lcor.org or speak to Loni Ivanovskis.
URL:https://lcor.org/events-calendar/ladies-bible-study-via-zoom/2022-05-30/
END:VEVENT
BEGIN:VEVENT
DTSTART;TZID=UTC:20220602T071500
DTEND;TZID=UTC:20220602T084500
DTSTAMP:20260425T122024
CREATED:20220523T205237Z
LAST-MODIFIED:20220523T205237Z
UID:10001211-1654154100-1654159500@lcor.org
SUMMARY:Ladies Bible Study via Zoom
DESCRIPTION:
URL:https://lcor.org/events-calendar/ladies-bible-study-via-zoom-2/2022-06-02/
END:VEVENT
BEGIN:VEVENT
DTSTART;TZID=UTC:20220605T083000
DTEND;TZID=UTC:20220605T093000
DTSTAMP:20260425T122024
CREATED:20220429T184748Z
LAST-MODIFIED:20220526T160613Z
UID:10001160-1654417800-1654421400@lcor.org
SUMMARY:Contemporary Worship with Holy Communion/ Confirmation
DESCRIPTION:
URL:https://lcor.org/events-calendar/contemporary-worship-with-holy-communion-2022-06-05/
END:VEVENT
BEGIN:VEVENT
DTSTART;TZID=UTC:20220605T093000
DTEND;TZID=UTC:20220605T110000
DTSTAMP:20260425T122024
CREATED:20220429T185304Z
LAST-MODIFIED:20220511T182801Z
UID:10001045-1654421400-1654426800@lcor.org
SUMMARY:Coffee and Fellowship Time
DESCRIPTION:
URL:https://lcor.org/events-calendar/coffee-and-fellowship-time-2022-06-05/
END:VEVENT
BEGIN:VEVENT
DTSTART;TZID=UTC:20220605T110000
DTEND;TZID=UTC:20220605T120000
DTSTAMP:20260425T122024
CREATED:20220429T185358Z
LAST-MODIFIED:20220511T183051Z
UID:10001165-1654426800-1654430400@lcor.org
SUMMARY:Traditional Worship with Holy Communion
DESCRIPTION:
URL:https://lcor.org/events-calendar/traditional-worship-with-holy-communion-2022-06-05/
END:VEVENT
BEGIN:VEVENT
DTSTART;TZID=UTC:20220606T071500
DTEND;TZID=UTC:20220606T084500
DTSTAMP:20260425T122024
CREATED:20220523T205609Z
LAST-MODIFIED:20220523T205609Z
UID:10001216-1654499700-1654505100@lcor.org
SUMMARY:Ladies Bible Study via Zoom
DESCRIPTION:
URL:https://lcor.org/events-calendar/ladies-bible-study-via-zoom-3/2022-06-06/
END:VEVENT
BEGIN:VEVENT
DTSTART;TZID=UTC:20220606T180000
DTEND;TZID=UTC:20220606T200000
DTSTAMP:20260425T122024
CREATED:20220526T155732Z
LAST-MODIFIED:20220526T155732Z
UID:10001220-1654538400-1654545600@lcor.org
SUMMARY:Finance Meeting
DESCRIPTION:
URL:https://lcor.org/events-calendar/finance-meeting-5/
END:VEVENT
BEGIN:VEVENT
DTSTART;TZID=UTC:20220607T180000
DTEND;TZID=UTC:20220607T190000
DTSTAMP:20260425T122024
CREATED:20220526T155855Z
LAST-MODIFIED:20220526T155855Z
UID:10001221-1654624800-1654628400@lcor.org
SUMMARY:ORCCC Board of Directors Meeting
DESCRIPTION:
URL:https://lcor.org/events-calendar/orccc-board-of-directors-meeting/
END:VEVENT
BEGIN:VEVENT
DTSTART;TZID=UTC:20220608T180000
DTEND;TZID=UTC:20220608T193000
DTSTAMP:20260425T122024
CREATED:20220127T185201Z
LAST-MODIFIED:20220127T185201Z
UID:10001105-1654711200-1654716600@lcor.org
SUMMARY:Girl Scout Troop 82350-Narthex
DESCRIPTION:
URL:https://lcor.org/events-calendar/girl-scout-troop-82350-narthex-6/
END:VEVENT
BEGIN:VEVENT
DTSTART;TZID=UTC:20220609T071500
DTEND;TZID=UTC:20220609T084500
DTSTAMP:20260425T122024
CREATED:20220523T205237Z
LAST-MODIFIED:20220523T205237Z
UID:10001212-1654758900-1654764300@lcor.org
SUMMARY:Ladies Bible Study via Zoom
DESCRIPTION:
URL:https://lcor.org/events-calendar/ladies-bible-study-via-zoom-2/2022-06-09/
END:VEVENT
BEGIN:VEVENT
DTSTART;TZID=UTC:20220612T083000
DTEND;TZID=UTC:20220612T093000
DTSTAMP:20260425T122024
CREATED:20220429T184748Z
LAST-MODIFIED:20220526T161138Z
UID:10001163-1655022600-1655026200@lcor.org
SUMMARY:Contemporary Worship with Holy Communion
DESCRIPTION:Start of our Summer Worship Schedule
URL:https://lcor.org/events-calendar/contemporary-worship-with-holy-communion-2022-06-12/
END:VEVENT
BEGIN:VEVENT
DTSTART;TZID=UTC:20220612T093000
DTEND;TZID=UTC:20220612T100000
DTSTAMP:20260425T122024
CREATED:20220429T185304Z
LAST-MODIFIED:20220511T182730Z
UID:10001047-1655026200-1655028000@lcor.org
SUMMARY:Coffee and Fellowship Time
DESCRIPTION:
URL:https://lcor.org/events-calendar/coffee-and-fellowship-time-2022-06-12/2022-06-12/
END:VEVENT
BEGIN:VEVENT
DTSTART;TZID=UTC:20220612T100000
DTEND;TZID=UTC:20220612T110000
DTSTAMP:20260425T122024
CREATED:20220429T185358Z
LAST-MODIFIED:20220526T161021Z
UID:10001167-1655028000-1655031600@lcor.org
SUMMARY:Traditional Worship with Holy Communion
DESCRIPTION:Start of our Summer Worship Schedule.
URL:https://lcor.org/events-calendar/traditional-worship-with-holy-communion-2022-06-12/
END:VEVENT
BEGIN:VEVENT
DTSTART;TZID=UTC:20220613T071500
DTEND;TZID=UTC:20220613T084500
DTSTAMP:20260425T122024
CREATED:20220523T205609Z
LAST-MODIFIED:20220523T205609Z
UID:10001217-1655104500-1655109900@lcor.org
SUMMARY:Ladies Bible Study via Zoom
DESCRIPTION:
URL:https://lcor.org/events-calendar/ladies-bible-study-via-zoom-3/2022-06-13/
END:VEVENT
BEGIN:VEVENT
DTSTART;TZID=UTC:20220613T183000
DTEND;TZID=UTC:20220613T203000
DTSTAMP:20260425T122024
CREATED:20220526T155956Z
LAST-MODIFIED:20220526T155956Z
UID:10001222-1655145000-1655152200@lcor.org
SUMMARY:Worship & Music Meeting
DESCRIPTION:
URL:https://lcor.org/events-calendar/worship-music-meeting-3/
END:VEVENT
BEGIN:VEVENT
DTSTART;TZID=UTC:20220616T071500
DTEND;TZID=UTC:20220616T084500
DTSTAMP:20260425T122024
CREATED:20220523T205237Z
LAST-MODIFIED:20220523T205237Z
UID:10001213-1655363700-1655369100@lcor.org
SUMMARY:Ladies Bible Study via Zoom
DESCRIPTION:
URL:https://lcor.org/events-calendar/ladies-bible-study-via-zoom-2/2022-06-16/
END:VEVENT
BEGIN:VEVENT
DTSTART;TZID=UTC:20220616T170000
DTEND;TZID=UTC:20220616T190000
DTSTAMP:20260425T122024
CREATED:20220516T210945Z
LAST-MODIFIED:20220516T210945Z
UID:10001210-1655398800-1655406000@lcor.org
SUMMARY:ORCCC Graduation
DESCRIPTION:
URL:https://lcor.org/events-calendar/orccc-graduation/
END:VEVENT
BEGIN:VEVENT
DTSTART;VALUE=DATE:20220618
DTEND;VALUE=DATE:20220619
DTSTAMP:20260425T122024
CREATED:20220526T160043Z
LAST-MODIFIED:20220526T160043Z
UID:10001223-1655510400-1655596799@lcor.org
SUMMARY:Deadline for All July Newsletter Submissions
DESCRIPTION:
URL:https://lcor.org/events-calendar/deadline-for-all-july-newsletter-submissions/
END:VEVENT
END:VCALENDAR