BEGIN:VCALENDAR
VERSION:2.0
PRODID:-//Lutheran Church of Our Redeemer - ECPv6.15.20//NONSGML v1.0//EN
CALSCALE:GREGORIAN
METHOD:PUBLISH
X-WR-CALNAME:Lutheran Church of Our Redeemer
X-ORIGINAL-URL:https://lcor.org
X-WR-CALDESC:Events for Lutheran Church of Our Redeemer
REFRESH-INTERVAL;VALUE=DURATION:PT1H
X-Robots-Tag:noindex
X-PUBLISHED-TTL:PT1H
BEGIN:VTIMEZONE
TZID:UTC
BEGIN:STANDARD
TZOFFSETFROM:+0000
TZOFFSETTO:+0000
TZNAME:UTC
DTSTART:20240101T000000
END:STANDARD
END:VTIMEZONE
BEGIN:VEVENT
DTSTART;TZID=UTC:20250622T100000
DTEND;TZID=UTC:20250622T100000
DTSTAMP:20260420T022609
CREATED:20250602T185549Z
LAST-MODIFIED:20250602T185705Z
UID:10004091-1750586400-1750586400@lcor.org
SUMMARY:Traditional Worship
DESCRIPTION:Join us for our traditional worship service at 10:00am every Sunday.
URL:https://lcor.org/events-calendar/traditional-worship-1000/2025-06-22/
CATEGORIES:Worship & Music
END:VEVENT
BEGIN:VEVENT
DTSTART;TZID=UTC:20250622T083000
DTEND;TZID=UTC:20250622T083000
DTSTAMP:20260420T022609
CREATED:20250501T123435Z
LAST-MODIFIED:20250501T123435Z
UID:10004080-1750581000-1750581000@lcor.org
SUMMARY:Contemporary Worship
DESCRIPTION:
URL:https://lcor.org/events-calendar/contemporary-worship-6/2025-06-22/
ATTACH;FMTTYPE=image/png:https://lcor.org/wp-content/uploads/2024/11/Screenshot-2024-11-13-141206.png
END:VEVENT
BEGIN:VEVENT
DTSTART;TZID=UTC:20250619T071500
DTEND;TZID=UTC:20250619T081500
DTSTAMP:20260420T022609
CREATED:20250326T161740Z
LAST-MODIFIED:20250326T161740Z
UID:10003573-1750317300-1750320900@lcor.org
SUMMARY:Ladies Bible Study
DESCRIPTION:Looking for a refreshing pause in the midst of your busy week? Join us for our Ladies Bible Study via Zoom\, where we not only delve into meaningful conversations about faith but also build a supportive and nurturing community. Whether you’re new to Bible study or a seasoned participant\, come as you are\, from the comfort of your home\, and let’s grow spiritually together! We can’t wait to see you there. ✨
URL:https://lcor.org/events-calendar/ladies-bible-study-5/2025-06-19/
CATEGORIES:Bible Study
ATTACH;FMTTYPE=image/png:https://lcor.org/wp-content/uploads/2025/01/Ladies-Bible-study.png
END:VEVENT
BEGIN:VEVENT
DTSTART;TZID=UTC:20250616T071500
DTEND;TZID=UTC:20250616T081500
DTSTAMP:20260420T022609
CREATED:20250326T161740Z
LAST-MODIFIED:20250326T161740Z
UID:10003572-1750058100-1750061700@lcor.org
SUMMARY:Ladies Bible Study
DESCRIPTION:Looking for a refreshing pause in the midst of your busy week? Join us for our Ladies Bible Study via Zoom\, where we not only delve into meaningful conversations about faith but also build a supportive and nurturing community. Whether you’re new to Bible study or a seasoned participant\, come as you are\, from the comfort of your home\, and let’s grow spiritually together! We can’t wait to see you there. ✨
URL:https://lcor.org/events-calendar/ladies-bible-study-5/2025-06-16/
CATEGORIES:Bible Study
ATTACH;FMTTYPE=image/png:https://lcor.org/wp-content/uploads/2025/01/Ladies-Bible-study.png
END:VEVENT
BEGIN:VEVENT
DTSTART;TZID=UTC:20250615T100000
DTEND;TZID=UTC:20250615T100000
DTSTAMP:20260420T022609
CREATED:20250602T185549Z
LAST-MODIFIED:20250602T185705Z
UID:10004090-1749981600-1749981600@lcor.org
SUMMARY:Traditional Worship
DESCRIPTION:Join us for our traditional worship service at 10:00am every Sunday.
URL:https://lcor.org/events-calendar/traditional-worship-1000/2025-06-15/
CATEGORIES:Worship & Music
END:VEVENT
BEGIN:VEVENT
DTSTART;TZID=UTC:20250615T083000
DTEND;TZID=UTC:20250615T083000
DTSTAMP:20260420T022609
CREATED:20250501T123435Z
LAST-MODIFIED:20250501T123435Z
UID:10004079-1749976200-1749976200@lcor.org
SUMMARY:Contemporary Worship
DESCRIPTION:
URL:https://lcor.org/events-calendar/contemporary-worship-6/2025-06-15/
ATTACH;FMTTYPE=image/png:https://lcor.org/wp-content/uploads/2024/11/Screenshot-2024-11-13-141206.png
END:VEVENT
BEGIN:VEVENT
DTSTART;TZID=UTC:20250612T071500
DTEND;TZID=UTC:20250612T081500
DTSTAMP:20260420T022609
CREATED:20250326T161740Z
LAST-MODIFIED:20250326T161740Z
UID:10003571-1749712500-1749716100@lcor.org
SUMMARY:Ladies Bible Study
DESCRIPTION:Looking for a refreshing pause in the midst of your busy week? Join us for our Ladies Bible Study via Zoom\, where we not only delve into meaningful conversations about faith but also build a supportive and nurturing community. Whether you’re new to Bible study or a seasoned participant\, come as you are\, from the comfort of your home\, and let’s grow spiritually together! We can’t wait to see you there. ✨
URL:https://lcor.org/events-calendar/ladies-bible-study-5/2025-06-12/
CATEGORIES:Bible Study
ATTACH;FMTTYPE=image/png:https://lcor.org/wp-content/uploads/2025/01/Ladies-Bible-study.png
END:VEVENT
BEGIN:VEVENT
DTSTART;TZID=UTC:20250609T071500
DTEND;TZID=UTC:20250609T081500
DTSTAMP:20260420T022609
CREATED:20250326T161740Z
LAST-MODIFIED:20250326T161740Z
UID:10003570-1749453300-1749456900@lcor.org
SUMMARY:Ladies Bible Study
DESCRIPTION:Looking for a refreshing pause in the midst of your busy week? Join us for our Ladies Bible Study via Zoom\, where we not only delve into meaningful conversations about faith but also build a supportive and nurturing community. Whether you’re new to Bible study or a seasoned participant\, come as you are\, from the comfort of your home\, and let’s grow spiritually together! We can’t wait to see you there. ✨
URL:https://lcor.org/events-calendar/ladies-bible-study-5/2025-06-09/
CATEGORIES:Bible Study
ATTACH;FMTTYPE=image/png:https://lcor.org/wp-content/uploads/2025/01/Ladies-Bible-study.png
END:VEVENT
BEGIN:VEVENT
DTSTART;TZID=UTC:20250608T100000
DTEND;TZID=UTC:20250608T100000
DTSTAMP:20260420T022609
CREATED:20250602T185549Z
LAST-MODIFIED:20250602T185705Z
UID:10004089-1749376800-1749376800@lcor.org
SUMMARY:Traditional Worship
DESCRIPTION:Join us for our traditional worship service at 10:00am every Sunday.
URL:https://lcor.org/events-calendar/traditional-worship-1000/2025-06-08/
CATEGORIES:Worship & Music
END:VEVENT
BEGIN:VEVENT
DTSTART;TZID=UTC:20250608T083000
DTEND;TZID=UTC:20250608T083000
DTSTAMP:20260420T022609
CREATED:20250501T123435Z
LAST-MODIFIED:20250501T123435Z
UID:10004078-1749371400-1749371400@lcor.org
SUMMARY:Contemporary Worship
DESCRIPTION:
URL:https://lcor.org/events-calendar/contemporary-worship-6/2025-06-08/
ATTACH;FMTTYPE=image/png:https://lcor.org/wp-content/uploads/2024/11/Screenshot-2024-11-13-141206.png
END:VEVENT
BEGIN:VEVENT
DTSTART;TZID=UTC:20250605T071500
DTEND;TZID=UTC:20250605T081500
DTSTAMP:20260420T022609
CREATED:20250326T161740Z
LAST-MODIFIED:20250326T161740Z
UID:10003569-1749107700-1749111300@lcor.org
SUMMARY:Ladies Bible Study
DESCRIPTION:Looking for a refreshing pause in the midst of your busy week? Join us for our Ladies Bible Study via Zoom\, where we not only delve into meaningful conversations about faith but also build a supportive and nurturing community. Whether you’re new to Bible study or a seasoned participant\, come as you are\, from the comfort of your home\, and let’s grow spiritually together! We can’t wait to see you there. ✨
URL:https://lcor.org/events-calendar/ladies-bible-study-5/2025-06-05/
CATEGORIES:Bible Study
ATTACH;FMTTYPE=image/png:https://lcor.org/wp-content/uploads/2025/01/Ladies-Bible-study.png
END:VEVENT
BEGIN:VEVENT
DTSTART;TZID=UTC:20250602T071500
DTEND;TZID=UTC:20250602T081500
DTSTAMP:20260420T022609
CREATED:20250326T161740Z
LAST-MODIFIED:20250326T161740Z
UID:10003568-1748848500-1748852100@lcor.org
SUMMARY:Ladies Bible Study
DESCRIPTION:Looking for a refreshing pause in the midst of your busy week? Join us for our Ladies Bible Study via Zoom\, where we not only delve into meaningful conversations about faith but also build a supportive and nurturing community. Whether you’re new to Bible study or a seasoned participant\, come as you are\, from the comfort of your home\, and let’s grow spiritually together! We can’t wait to see you there. ✨
URL:https://lcor.org/events-calendar/ladies-bible-study-5/2025-06-02/
CATEGORIES:Bible Study
ATTACH;FMTTYPE=image/png:https://lcor.org/wp-content/uploads/2025/01/Ladies-Bible-study.png
END:VEVENT
BEGIN:VEVENT
DTSTART;TZID=UTC:20250601T083000
DTEND;TZID=UTC:20250601T083000
DTSTAMP:20260420T022609
CREATED:20250501T123435Z
LAST-MODIFIED:20250501T123435Z
UID:10004077-1748766600-1748766600@lcor.org
SUMMARY:Contemporary Worship
DESCRIPTION:
URL:https://lcor.org/events-calendar/contemporary-worship-6/2025-06-01/
ATTACH;FMTTYPE=image/png:https://lcor.org/wp-content/uploads/2024/11/Screenshot-2024-11-13-141206.png
END:VEVENT
BEGIN:VEVENT
DTSTART;TZID=UTC:20250529T071500
DTEND;TZID=UTC:20250529T081500
DTSTAMP:20260420T022609
CREATED:20250326T161740Z
LAST-MODIFIED:20250326T161740Z
UID:10003567-1748502900-1748506500@lcor.org
SUMMARY:Ladies Bible Study
DESCRIPTION:Looking for a refreshing pause in the midst of your busy week? Join us for our Ladies Bible Study via Zoom\, where we not only delve into meaningful conversations about faith but also build a supportive and nurturing community. Whether you’re new to Bible study or a seasoned participant\, come as you are\, from the comfort of your home\, and let’s grow spiritually together! We can’t wait to see you there. ✨
URL:https://lcor.org/events-calendar/ladies-bible-study-5/2025-05-29/
CATEGORIES:Bible Study
ATTACH;FMTTYPE=image/png:https://lcor.org/wp-content/uploads/2025/01/Ladies-Bible-study.png
END:VEVENT
BEGIN:VEVENT
DTSTART;TZID=UTC:20250526T071500
DTEND;TZID=UTC:20250526T081500
DTSTAMP:20260420T022609
CREATED:20250326T161740Z
LAST-MODIFIED:20250326T161740Z
UID:10003566-1748243700-1748247300@lcor.org
SUMMARY:Ladies Bible Study
DESCRIPTION:Looking for a refreshing pause in the midst of your busy week? Join us for our Ladies Bible Study via Zoom\, where we not only delve into meaningful conversations about faith but also build a supportive and nurturing community. Whether you’re new to Bible study or a seasoned participant\, come as you are\, from the comfort of your home\, and let’s grow spiritually together! We can’t wait to see you there. ✨
URL:https://lcor.org/events-calendar/ladies-bible-study-5/2025-05-26/
CATEGORIES:Bible Study
ATTACH;FMTTYPE=image/png:https://lcor.org/wp-content/uploads/2025/01/Ladies-Bible-study.png
END:VEVENT
BEGIN:VEVENT
DTSTART;TZID=UTC:20250525T103000
DTEND;TZID=UTC:20250525T103000
DTSTAMP:20260420T022609
CREATED:20250501T123554Z
LAST-MODIFIED:20250501T123703Z
UID:10004085-1748169000-1748169000@lcor.org
SUMMARY:Traditional Worship
DESCRIPTION:
URL:https://lcor.org/events-calendar/traditional-worship-6/2025-05-25/
ATTACH;FMTTYPE=image/png:https://lcor.org/wp-content/uploads/2024/11/Screenshot-2024-11-13-144351.png
END:VEVENT
BEGIN:VEVENT
DTSTART;TZID=UTC:20250525T083000
DTEND;TZID=UTC:20250525T083000
DTSTAMP:20260420T022609
CREATED:20250501T123435Z
LAST-MODIFIED:20250501T123435Z
UID:10004076-1748161800-1748161800@lcor.org
SUMMARY:Contemporary Worship
DESCRIPTION:
URL:https://lcor.org/events-calendar/contemporary-worship-6/2025-05-25/
ATTACH;FMTTYPE=image/png:https://lcor.org/wp-content/uploads/2024/11/Screenshot-2024-11-13-141206.png
END:VEVENT
BEGIN:VEVENT
DTSTART;VALUE=DATE:20250524
DTEND;VALUE=DATE:20250525
DTSTAMP:20260420T022609
CREATED:20250501T123248Z
LAST-MODIFIED:20250501T123248Z
UID:10004072-1748044800-1748131199@lcor.org
SUMMARY:Newsletter Deadline
DESCRIPTION:
URL:https://lcor.org/events-calendar/newsletter-deadline-15/
END:VEVENT
BEGIN:VEVENT
DTSTART;TZID=UTC:20250522T071500
DTEND;TZID=UTC:20250522T081500
DTSTAMP:20260420T022609
CREATED:20250326T161740Z
LAST-MODIFIED:20250326T161740Z
UID:10003565-1747898100-1747901700@lcor.org
SUMMARY:Ladies Bible Study
DESCRIPTION:Looking for a refreshing pause in the midst of your busy week? Join us for our Ladies Bible Study via Zoom\, where we not only delve into meaningful conversations about faith but also build a supportive and nurturing community. Whether you’re new to Bible study or a seasoned participant\, come as you are\, from the comfort of your home\, and let’s grow spiritually together! We can’t wait to see you there. ✨
URL:https://lcor.org/events-calendar/ladies-bible-study-5/2025-05-22/
CATEGORIES:Bible Study
ATTACH;FMTTYPE=image/png:https://lcor.org/wp-content/uploads/2025/01/Ladies-Bible-study.png
END:VEVENT
BEGIN:VEVENT
DTSTART;TZID=UTC:20250519T071500
DTEND;TZID=UTC:20250519T081500
DTSTAMP:20260420T022609
CREATED:20250326T161740Z
LAST-MODIFIED:20250326T161740Z
UID:10003564-1747638900-1747642500@lcor.org
SUMMARY:Ladies Bible Study
DESCRIPTION:Looking for a refreshing pause in the midst of your busy week? Join us for our Ladies Bible Study via Zoom\, where we not only delve into meaningful conversations about faith but also build a supportive and nurturing community. Whether you’re new to Bible study or a seasoned participant\, come as you are\, from the comfort of your home\, and let’s grow spiritually together! We can’t wait to see you there. ✨
URL:https://lcor.org/events-calendar/ladies-bible-study-5/2025-05-19/
CATEGORIES:Bible Study
ATTACH;FMTTYPE=image/png:https://lcor.org/wp-content/uploads/2025/01/Ladies-Bible-study.png
END:VEVENT
BEGIN:VEVENT
DTSTART;TZID=UTC:20250518T103000
DTEND;TZID=UTC:20250518T103000
DTSTAMP:20260420T022609
CREATED:20250501T123554Z
LAST-MODIFIED:20250501T123703Z
UID:10004084-1747564200-1747564200@lcor.org
SUMMARY:Traditional Worship
DESCRIPTION:
URL:https://lcor.org/events-calendar/traditional-worship-6/2025-05-18/
ATTACH;FMTTYPE=image/png:https://lcor.org/wp-content/uploads/2024/11/Screenshot-2024-11-13-144351.png
END:VEVENT
BEGIN:VEVENT
DTSTART;TZID=UTC:20250518T083000
DTEND;TZID=UTC:20250518T083000
DTSTAMP:20260420T022609
CREATED:20250501T123435Z
LAST-MODIFIED:20250501T123435Z
UID:10004075-1747557000-1747557000@lcor.org
SUMMARY:Contemporary Worship
DESCRIPTION:
URL:https://lcor.org/events-calendar/contemporary-worship-6/2025-05-18/
ATTACH;FMTTYPE=image/png:https://lcor.org/wp-content/uploads/2024/11/Screenshot-2024-11-13-141206.png
END:VEVENT
BEGIN:VEVENT
DTSTART;VALUE=DATE:20250518
DTEND;VALUE=DATE:20250519
DTSTAMP:20260420T022609
CREATED:20250501T124608Z
LAST-MODIFIED:20250505T173713Z
UID:10004087-1747526400-1747612799@lcor.org
SUMMARY:Last Sunday of Spring Worship Schedule
DESCRIPTION:Today is the last Day of Traditional Worship Service starting at 10:30AM \nTraditional Worship will begin at 10:00 AM on May 25th (Summer Schedule Begins)
URL:https://lcor.org/events-calendar/last-sunday-of-spring-worship-schedule/
CATEGORIES:Worship & Music
END:VEVENT
BEGIN:VEVENT
DTSTART;TZID=UTC:20250517T081500
DTEND;TZID=UTC:20250517T120000
DTSTAMP:20260420T022609
CREATED:20250501T123223Z
LAST-MODIFIED:20250501T123223Z
UID:10004071-1747469700-1747483200@lcor.org
SUMMARY:Food N Friends
DESCRIPTION:Centenary Methodist Church- 15 Sanford St Attleboro. \nBrownie Bakers Needed!
URL:https://lcor.org/events-calendar/food-n-friends-5/
CATEGORIES:Social Ministry
ATTACH;FMTTYPE=image/jpeg:https://lcor.org/wp-content/uploads/2025/05/FOOD-‘N-FRIENDS.jpg
END:VEVENT
BEGIN:VEVENT
DTSTART;TZID=UTC:20250515T071500
DTEND;TZID=UTC:20250515T081500
DTSTAMP:20260420T022609
CREATED:20250326T161740Z
LAST-MODIFIED:20250326T161740Z
UID:10003563-1747293300-1747296900@lcor.org
SUMMARY:Ladies Bible Study
DESCRIPTION:Looking for a refreshing pause in the midst of your busy week? Join us for our Ladies Bible Study via Zoom\, where we not only delve into meaningful conversations about faith but also build a supportive and nurturing community. Whether you’re new to Bible study or a seasoned participant\, come as you are\, from the comfort of your home\, and let’s grow spiritually together! We can’t wait to see you there. ✨
URL:https://lcor.org/events-calendar/ladies-bible-study-5/2025-05-15/
CATEGORIES:Bible Study
ATTACH;FMTTYPE=image/png:https://lcor.org/wp-content/uploads/2025/01/Ladies-Bible-study.png
END:VEVENT
BEGIN:VEVENT
DTSTART;TZID=UTC:20250512T071500
DTEND;TZID=UTC:20250512T081500
DTSTAMP:20260420T022609
CREATED:20250326T161740Z
LAST-MODIFIED:20250326T161740Z
UID:10003562-1747034100-1747037700@lcor.org
SUMMARY:Ladies Bible Study
DESCRIPTION:Looking for a refreshing pause in the midst of your busy week? Join us for our Ladies Bible Study via Zoom\, where we not only delve into meaningful conversations about faith but also build a supportive and nurturing community. Whether you’re new to Bible study or a seasoned participant\, come as you are\, from the comfort of your home\, and let’s grow spiritually together! We can’t wait to see you there. ✨
URL:https://lcor.org/events-calendar/ladies-bible-study-5/2025-05-12/
CATEGORIES:Bible Study
ATTACH;FMTTYPE=image/png:https://lcor.org/wp-content/uploads/2025/01/Ladies-Bible-study.png
END:VEVENT
BEGIN:VEVENT
DTSTART;TZID=UTC:20250511T103000
DTEND;TZID=UTC:20250511T103000
DTSTAMP:20260420T022609
CREATED:20250501T123554Z
LAST-MODIFIED:20250501T123703Z
UID:10004083-1746959400-1746959400@lcor.org
SUMMARY:Traditional Worship
DESCRIPTION:
URL:https://lcor.org/events-calendar/traditional-worship-6/2025-05-11/
ATTACH;FMTTYPE=image/png:https://lcor.org/wp-content/uploads/2024/11/Screenshot-2024-11-13-144351.png
END:VEVENT
BEGIN:VEVENT
DTSTART;TZID=UTC:20250511T083000
DTEND;TZID=UTC:20250511T083000
DTSTAMP:20260420T022609
CREATED:20250501T123435Z
LAST-MODIFIED:20250501T123435Z
UID:10004074-1746952200-1746952200@lcor.org
SUMMARY:Contemporary Worship
DESCRIPTION:
URL:https://lcor.org/events-calendar/contemporary-worship-6/2025-05-11/
ATTACH;FMTTYPE=image/png:https://lcor.org/wp-content/uploads/2024/11/Screenshot-2024-11-13-141206.png
END:VEVENT
BEGIN:VEVENT
DTSTART;TZID=UTC:20250508T071500
DTEND;TZID=UTC:20250508T081500
DTSTAMP:20260420T022609
CREATED:20250326T161740Z
LAST-MODIFIED:20250326T161740Z
UID:10003561-1746688500-1746692100@lcor.org
SUMMARY:Ladies Bible Study
DESCRIPTION:Looking for a refreshing pause in the midst of your busy week? Join us for our Ladies Bible Study via Zoom\, where we not only delve into meaningful conversations about faith but also build a supportive and nurturing community. Whether you’re new to Bible study or a seasoned participant\, come as you are\, from the comfort of your home\, and let’s grow spiritually together! We can’t wait to see you there. ✨
URL:https://lcor.org/events-calendar/ladies-bible-study-5/2025-05-08/
CATEGORIES:Bible Study
ATTACH;FMTTYPE=image/png:https://lcor.org/wp-content/uploads/2025/01/Ladies-Bible-study.png
END:VEVENT
BEGIN:VEVENT
DTSTART;TZID=UTC:20250505T071500
DTEND;TZID=UTC:20250505T081500
DTSTAMP:20260420T022609
CREATED:20250326T161740Z
LAST-MODIFIED:20250326T161740Z
UID:10003560-1746429300-1746432900@lcor.org
SUMMARY:Ladies Bible Study
DESCRIPTION:Looking for a refreshing pause in the midst of your busy week? Join us for our Ladies Bible Study via Zoom\, where we not only delve into meaningful conversations about faith but also build a supportive and nurturing community. Whether you’re new to Bible study or a seasoned participant\, come as you are\, from the comfort of your home\, and let’s grow spiritually together! We can’t wait to see you there. ✨
URL:https://lcor.org/events-calendar/ladies-bible-study-5/2025-05-05/
CATEGORIES:Bible Study
ATTACH;FMTTYPE=image/png:https://lcor.org/wp-content/uploads/2025/01/Ladies-Bible-study.png
END:VEVENT
END:VCALENDAR