BEGIN:VCALENDAR
VERSION:2.0
PRODID:-//Lutheran Church of Our Redeemer - ECPv6.15.20//NONSGML v1.0//EN
CALSCALE:GREGORIAN
METHOD:PUBLISH
X-WR-CALNAME:Lutheran Church of Our Redeemer
X-ORIGINAL-URL:https://lcor.org
X-WR-CALDESC:Events for Lutheran Church of Our Redeemer
REFRESH-INTERVAL;VALUE=DURATION:PT1H
X-Robots-Tag:noindex
X-PUBLISHED-TTL:PT1H
BEGIN:VTIMEZONE
TZID:UTC
BEGIN:STANDARD
TZOFFSETFROM:+0000
TZOFFSETTO:+0000
TZNAME:UTC
DTSTART:20240101T000000
END:STANDARD
END:VTIMEZONE
BEGIN:VEVENT
DTSTART;TZID=UTC:20250508T071500
DTEND;TZID=UTC:20250508T081500
DTSTAMP:20260420T054947
CREATED:20250326T161740Z
LAST-MODIFIED:20250326T161740Z
UID:10003561-1746688500-1746692100@lcor.org
SUMMARY:Ladies Bible Study
DESCRIPTION:Looking for a refreshing pause in the midst of your busy week? Join us for our Ladies Bible Study via Zoom\, where we not only delve into meaningful conversations about faith but also build a supportive and nurturing community. Whether you’re new to Bible study or a seasoned participant\, come as you are\, from the comfort of your home\, and let’s grow spiritually together! We can’t wait to see you there. ✨
URL:https://lcor.org/events-calendar/ladies-bible-study-5/2025-05-08/
CATEGORIES:Bible Study
ATTACH;FMTTYPE=image/png:https://lcor.org/wp-content/uploads/2025/01/Ladies-Bible-study.png
END:VEVENT
BEGIN:VEVENT
DTSTART;TZID=UTC:20250505T071500
DTEND;TZID=UTC:20250505T081500
DTSTAMP:20260420T054947
CREATED:20250326T161740Z
LAST-MODIFIED:20250326T161740Z
UID:10003560-1746429300-1746432900@lcor.org
SUMMARY:Ladies Bible Study
DESCRIPTION:Looking for a refreshing pause in the midst of your busy week? Join us for our Ladies Bible Study via Zoom\, where we not only delve into meaningful conversations about faith but also build a supportive and nurturing community. Whether you’re new to Bible study or a seasoned participant\, come as you are\, from the comfort of your home\, and let’s grow spiritually together! We can’t wait to see you there. ✨
URL:https://lcor.org/events-calendar/ladies-bible-study-5/2025-05-05/
CATEGORIES:Bible Study
ATTACH;FMTTYPE=image/png:https://lcor.org/wp-content/uploads/2025/01/Ladies-Bible-study.png
END:VEVENT
BEGIN:VEVENT
DTSTART;TZID=UTC:20250504T114500
DTEND;TZID=UTC:20250504T114500
DTSTAMP:20260420T054947
CREATED:20250501T124244Z
LAST-MODIFIED:20250501T124309Z
UID:10004086-1746359100-1746359100@lcor.org
SUMMARY:Eat Out After Church
DESCRIPTION:Join us at Rancho Chico 52 Washington St Plainville
URL:https://lcor.org/events-calendar/eat-out-after-church-2/
CATEGORIES:Community Life
ATTACH;FMTTYPE=image/png:https://lcor.org/wp-content/uploads/2025/05/Eat-Out-After-Church.png
END:VEVENT
BEGIN:VEVENT
DTSTART;TZID=UTC:20250504T103000
DTEND;TZID=UTC:20250504T103000
DTSTAMP:20260420T054947
CREATED:20250501T123554Z
LAST-MODIFIED:20250501T123703Z
UID:10004082-1746354600-1746354600@lcor.org
SUMMARY:Traditional Worship
DESCRIPTION:
URL:https://lcor.org/events-calendar/traditional-worship-6/2025-05-04/
ATTACH;FMTTYPE=image/png:https://lcor.org/wp-content/uploads/2024/11/Screenshot-2024-11-13-144351.png
END:VEVENT
BEGIN:VEVENT
DTSTART;TZID=UTC:20250504T083000
DTEND;TZID=UTC:20250504T083000
DTSTAMP:20260420T054947
CREATED:20250501T123435Z
LAST-MODIFIED:20250501T123435Z
UID:10004073-1746347400-1746347400@lcor.org
SUMMARY:Contemporary Worship
DESCRIPTION:
URL:https://lcor.org/events-calendar/contemporary-worship-6/2025-05-04/
ATTACH;FMTTYPE=image/png:https://lcor.org/wp-content/uploads/2024/11/Screenshot-2024-11-13-141206.png
END:VEVENT
BEGIN:VEVENT
DTSTART;VALUE=DATE:20250503
DTEND;VALUE=DATE:20250504
DTSTAMP:20260420T054947
CREATED:20250326T154841Z
LAST-MODIFIED:20250326T154841Z
UID:10002757-1746230400-1746316799@lcor.org
SUMMARY:Spring Cleanup
DESCRIPTION:We need your help! Join us for the spring cleanup on Saturday\, May 3rd.
URL:https://lcor.org/events-calendar/spring-cleanup/
CATEGORIES:Buildings & Grounds
ATTACH;FMTTYPE=image/png:https://lcor.org/wp-content/uploads/2025/03/Spring-Cleanup.png
END:VEVENT
BEGIN:VEVENT
DTSTART;TZID=UTC:20250501T071500
DTEND;TZID=UTC:20250501T081500
DTSTAMP:20260420T054947
CREATED:20250326T161740Z
LAST-MODIFIED:20250326T161740Z
UID:10003559-1746083700-1746087300@lcor.org
SUMMARY:Ladies Bible Study
DESCRIPTION:Looking for a refreshing pause in the midst of your busy week? Join us for our Ladies Bible Study via Zoom\, where we not only delve into meaningful conversations about faith but also build a supportive and nurturing community. Whether you’re new to Bible study or a seasoned participant\, come as you are\, from the comfort of your home\, and let’s grow spiritually together! We can’t wait to see you there. ✨
URL:https://lcor.org/events-calendar/ladies-bible-study-5/2025-05-01/
CATEGORIES:Bible Study
ATTACH;FMTTYPE=image/png:https://lcor.org/wp-content/uploads/2025/01/Ladies-Bible-study.png
END:VEVENT
BEGIN:VEVENT
DTSTART;TZID=UTC:20250428T071500
DTEND;TZID=UTC:20250428T081500
DTSTAMP:20260420T054947
CREATED:20250326T161740Z
LAST-MODIFIED:20250326T161740Z
UID:10003558-1745824500-1745828100@lcor.org
SUMMARY:Ladies Bible Study
DESCRIPTION:Looking for a refreshing pause in the midst of your busy week? Join us for our Ladies Bible Study via Zoom\, where we not only delve into meaningful conversations about faith but also build a supportive and nurturing community. Whether you’re new to Bible study or a seasoned participant\, come as you are\, from the comfort of your home\, and let’s grow spiritually together! We can’t wait to see you there. ✨
URL:https://lcor.org/events-calendar/ladies-bible-study-5/2025-04-28/
CATEGORIES:Bible Study
ATTACH;FMTTYPE=image/png:https://lcor.org/wp-content/uploads/2025/01/Ladies-Bible-study.png
END:VEVENT
BEGIN:VEVENT
DTSTART;TZID=UTC:20250424T071500
DTEND;TZID=UTC:20250424T081500
DTSTAMP:20260420T054947
CREATED:20250326T161740Z
LAST-MODIFIED:20250326T161740Z
UID:10003557-1745478900-1745482500@lcor.org
SUMMARY:Ladies Bible Study
DESCRIPTION:Looking for a refreshing pause in the midst of your busy week? Join us for our Ladies Bible Study via Zoom\, where we not only delve into meaningful conversations about faith but also build a supportive and nurturing community. Whether you’re new to Bible study or a seasoned participant\, come as you are\, from the comfort of your home\, and let’s grow spiritually together! We can’t wait to see you there. ✨
URL:https://lcor.org/events-calendar/ladies-bible-study-5/2025-04-24/
CATEGORIES:Bible Study
ATTACH;FMTTYPE=image/png:https://lcor.org/wp-content/uploads/2025/01/Ladies-Bible-study.png
END:VEVENT
BEGIN:VEVENT
DTSTART;TZID=UTC:20250421T071500
DTEND;TZID=UTC:20250421T081500
DTSTAMP:20260420T054947
CREATED:20250326T161740Z
LAST-MODIFIED:20250326T161740Z
UID:10003556-1745219700-1745223300@lcor.org
SUMMARY:Ladies Bible Study
DESCRIPTION:Looking for a refreshing pause in the midst of your busy week? Join us for our Ladies Bible Study via Zoom\, where we not only delve into meaningful conversations about faith but also build a supportive and nurturing community. Whether you’re new to Bible study or a seasoned participant\, come as you are\, from the comfort of your home\, and let’s grow spiritually together! We can’t wait to see you there. ✨
URL:https://lcor.org/events-calendar/ladies-bible-study-5/2025-04-21/
CATEGORIES:Bible Study
ATTACH;FMTTYPE=image/png:https://lcor.org/wp-content/uploads/2025/01/Ladies-Bible-study.png
END:VEVENT
BEGIN:VEVENT
DTSTART;TZID=UTC:20250420T103000
DTEND;TZID=UTC:20250420T103000
DTSTAMP:20260420T054947
CREATED:20250326T153027Z
LAST-MODIFIED:20250326T153027Z
UID:10002754-1745145000-1745145000@lcor.org
SUMMARY:Easter Sunday
DESCRIPTION:Join us for Easter Sunday Worship Services at 8:30am & 10:30am \nThere will be a breakfast & egg hunt between services.
URL:https://lcor.org/events-calendar/easter-sunday/2025-04-20/2/
CATEGORIES:Worship & Music
ATTACH;FMTTYPE=image/png:https://lcor.org/wp-content/uploads/2025/03/Easter-SUNDAY.png
END:VEVENT
BEGIN:VEVENT
DTSTART;TZID=UTC:20250420T091500
DTEND;TZID=UTC:20250420T091500
DTSTAMP:20260420T054947
CREATED:20250326T160049Z
LAST-MODIFIED:20250326T160128Z
UID:10002758-1745140500-1745140500@lcor.org
SUMMARY:Easter Breakfast & Egg Hunt
DESCRIPTION:
URL:https://lcor.org/events-calendar/easter-breakfast-egg-hunt/
CATEGORIES:Community Life
ATTACH;FMTTYPE=image/png:https://lcor.org/wp-content/uploads/2025/03/Easter-Egg-Hunt.png
END:VEVENT
BEGIN:VEVENT
DTSTART;TZID=UTC:20250420T083000
DTEND;TZID=UTC:20250420T083000
DTSTAMP:20260420T054947
CREATED:20250326T153027Z
LAST-MODIFIED:20250326T153027Z
UID:10002753-1745137800-1745137800@lcor.org
SUMMARY:Easter Sunday
DESCRIPTION:Join us for Easter Sunday Worship Services at 8:30am & 10:30am \nThere will be a breakfast & egg hunt between services.
URL:https://lcor.org/events-calendar/easter-sunday/2025-04-20/1/
CATEGORIES:Worship & Music
ATTACH;FMTTYPE=image/png:https://lcor.org/wp-content/uploads/2025/03/Easter-SUNDAY.png
END:VEVENT
BEGIN:VEVENT
DTSTART;TZID=UTC:20250418T190000
DTEND;TZID=UTC:20250418T190000
DTSTAMP:20260420T054947
CREATED:20250326T152222Z
LAST-MODIFIED:20250326T152715Z
UID:10002750-1745002800-1745002800@lcor.org
SUMMARY:Good Friday
DESCRIPTION:Join us for the Good Friday Worship Services at 4:00 PM & (Tenebrae) at 7:00 PM
URL:https://lcor.org/events-calendar/good-friday-2/2025-04-18/2/
CATEGORIES:Worship & Music
ATTACH;FMTTYPE=image/png:https://lcor.org/wp-content/uploads/2025/03/GOOD-FRIDAY-1.png
END:VEVENT
BEGIN:VEVENT
DTSTART;TZID=UTC:20250418T160000
DTEND;TZID=UTC:20250418T160000
DTSTAMP:20260420T054947
CREATED:20250326T152222Z
LAST-MODIFIED:20250326T152715Z
UID:10002749-1744992000-1744992000@lcor.org
SUMMARY:Good Friday
DESCRIPTION:Join us for the Good Friday Worship Services at 4:00 PM & (Tenebrae) at 7:00 PM
URL:https://lcor.org/events-calendar/good-friday-2/2025-04-18/1/
CATEGORIES:Worship & Music
ATTACH;FMTTYPE=image/png:https://lcor.org/wp-content/uploads/2025/03/GOOD-FRIDAY-1.png
END:VEVENT
BEGIN:VEVENT
DTSTART;TZID=UTC:20250417T190000
DTEND;TZID=UTC:20250417T190000
DTSTAMP:20260420T054947
CREATED:20250326T152035Z
LAST-MODIFIED:20250326T152035Z
UID:10002748-1744916400-1744916400@lcor.org
SUMMARY:Maundy Thursday
DESCRIPTION:Join us for the Maundy Thursday Worship Service at 7:00pm
URL:https://lcor.org/events-calendar/maundy-thursday-2/
CATEGORIES:Worship & Music
ATTACH;FMTTYPE=image/png:https://lcor.org/wp-content/uploads/2025/03/Maundy-Thursday-·.png
END:VEVENT
BEGIN:VEVENT
DTSTART;TZID=UTC:20250417T071500
DTEND;TZID=UTC:20250417T081500
DTSTAMP:20260420T054947
CREATED:20250326T161740Z
LAST-MODIFIED:20250326T161740Z
UID:10003555-1744874100-1744877700@lcor.org
SUMMARY:Ladies Bible Study
DESCRIPTION:Looking for a refreshing pause in the midst of your busy week? Join us for our Ladies Bible Study via Zoom\, where we not only delve into meaningful conversations about faith but also build a supportive and nurturing community. Whether you’re new to Bible study or a seasoned participant\, come as you are\, from the comfort of your home\, and let’s grow spiritually together! We can’t wait to see you there. ✨
URL:https://lcor.org/events-calendar/ladies-bible-study-5/2025-04-17/
CATEGORIES:Bible Study
ATTACH;FMTTYPE=image/png:https://lcor.org/wp-content/uploads/2025/01/Ladies-Bible-study.png
END:VEVENT
BEGIN:VEVENT
DTSTART;TZID=UTC:20250414T071500
DTEND;TZID=UTC:20250414T081500
DTSTAMP:20260420T054947
CREATED:20250326T161740Z
LAST-MODIFIED:20250326T161740Z
UID:10003554-1744614900-1744618500@lcor.org
SUMMARY:Ladies Bible Study
DESCRIPTION:Looking for a refreshing pause in the midst of your busy week? Join us for our Ladies Bible Study via Zoom\, where we not only delve into meaningful conversations about faith but also build a supportive and nurturing community. Whether you’re new to Bible study or a seasoned participant\, come as you are\, from the comfort of your home\, and let’s grow spiritually together! We can’t wait to see you there. ✨
URL:https://lcor.org/events-calendar/ladies-bible-study-5/2025-04-14/
CATEGORIES:Bible Study
ATTACH;FMTTYPE=image/png:https://lcor.org/wp-content/uploads/2025/01/Ladies-Bible-study.png
END:VEVENT
BEGIN:VEVENT
DTSTART;TZID=UTC:20250413T103000
DTEND;TZID=UTC:20250413T103000
DTSTAMP:20260420T054947
CREATED:20250326T152601Z
LAST-MODIFIED:20250326T152803Z
UID:10002752-1744540200-1744540200@lcor.org
SUMMARY:Palm Sunday
DESCRIPTION:Join us for Palm Sunday Worship Services at 8:30 AM & 10:30 AM
URL:https://lcor.org/events-calendar/palm-sunday-2/2025-04-13/2/
CATEGORIES:Worship & Music
ATTACH;FMTTYPE=image/png:https://lcor.org/wp-content/uploads/2025/03/Palm-Sunday-Service-1.png
END:VEVENT
BEGIN:VEVENT
DTSTART;TZID=UTC:20250413T083000
DTEND;TZID=UTC:20250413T083000
DTSTAMP:20260420T054947
CREATED:20250326T152601Z
LAST-MODIFIED:20250326T152803Z
UID:10002751-1744533000-1744533000@lcor.org
SUMMARY:Palm Sunday
DESCRIPTION:Join us for Palm Sunday Worship Services at 8:30 AM & 10:30 AM
URL:https://lcor.org/events-calendar/palm-sunday-2/2025-04-13/1/
CATEGORIES:Worship & Music
ATTACH;FMTTYPE=image/png:https://lcor.org/wp-content/uploads/2025/03/Palm-Sunday-Service-1.png
END:VEVENT
BEGIN:VEVENT
DTSTART;TZID=UTC:20250410T071500
DTEND;TZID=UTC:20250410T081500
DTSTAMP:20260420T054947
CREATED:20250326T161740Z
LAST-MODIFIED:20250326T161740Z
UID:10003553-1744269300-1744272900@lcor.org
SUMMARY:Ladies Bible Study
DESCRIPTION:Looking for a refreshing pause in the midst of your busy week? Join us for our Ladies Bible Study via Zoom\, where we not only delve into meaningful conversations about faith but also build a supportive and nurturing community. Whether you’re new to Bible study or a seasoned participant\, come as you are\, from the comfort of your home\, and let’s grow spiritually together! We can’t wait to see you there. ✨
URL:https://lcor.org/events-calendar/ladies-bible-study-5/2025-04-10/
CATEGORIES:Bible Study
ATTACH;FMTTYPE=image/png:https://lcor.org/wp-content/uploads/2025/01/Ladies-Bible-study.png
END:VEVENT
BEGIN:VEVENT
DTSTART;TZID=UTC:20250409T183000
DTEND;TZID=UTC:20250409T183000
DTSTAMP:20260420T054947
CREATED:20250326T151812Z
LAST-MODIFIED:20250326T151812Z
UID:10002747-1744223400-1744223400@lcor.org
SUMMARY:Soup & Scripture
DESCRIPTION:Meal served at 6:30 pm\nDiscussion begins at 7:00 pm\n\nOn April 9th\, we will focus on the New Testament reading\, Philippians 3:4b-14. Join us as we take a closer look at this reading and how we can apply it to our daily lives. Soup will be served and you’re welcome to bring your own sandwich/salad. The facilitators are Steve and Stacy.
URL:https://lcor.org/events-calendar/soup-scripture-6/
CATEGORIES:Worship & Music
ATTACH;FMTTYPE=image/png:https://lcor.org/wp-content/uploads/2025/03/Soup-and-Scripture-2025-3.png
END:VEVENT
BEGIN:VEVENT
DTSTART;TZID=UTC:20250407T071500
DTEND;TZID=UTC:20250407T081500
DTSTAMP:20260420T054947
CREATED:20250326T161740Z
LAST-MODIFIED:20250326T161740Z
UID:10003552-1744010100-1744013700@lcor.org
SUMMARY:Ladies Bible Study
DESCRIPTION:Looking for a refreshing pause in the midst of your busy week? Join us for our Ladies Bible Study via Zoom\, where we not only delve into meaningful conversations about faith but also build a supportive and nurturing community. Whether you’re new to Bible study or a seasoned participant\, come as you are\, from the comfort of your home\, and let’s grow spiritually together! We can’t wait to see you there. ✨
URL:https://lcor.org/events-calendar/ladies-bible-study-5/2025-04-07/
CATEGORIES:Bible Study
ATTACH;FMTTYPE=image/png:https://lcor.org/wp-content/uploads/2025/01/Ladies-Bible-study.png
END:VEVENT
BEGIN:VEVENT
DTSTART;TZID=UTC:20250406T114500
DTEND;TZID=UTC:20250406T114500
DTSTAMP:20260420T054947
CREATED:20250326T153321Z
LAST-MODIFIED:20250326T153321Z
UID:10002755-1743939900-1743939900@lcor.org
SUMMARY:Eat Out After Church
DESCRIPTION:Join us at House of Fortune in Plainville 11:45
URL:https://lcor.org/events-calendar/eat-out-after-church/
CATEGORIES:Community Life
ATTACH;FMTTYPE=image/png:https://lcor.org/wp-content/uploads/2024/11/Eat-Out-After-Church.png
END:VEVENT
BEGIN:VEVENT
DTSTART;TZID=UTC:20250406T093000
DTEND;TZID=UTC:20250406T093000
DTSTAMP:20260420T054947
CREATED:20250303T192406Z
LAST-MODIFIED:20250306T171417Z
UID:10002741-1743931800-1743931800@lcor.org
SUMMARY:Adult Bible Study
DESCRIPTION:Join us for Adult Bible Study. \nSessions: \n3/9/25 -The Father’s Kingdom \n3/16/25 -The Father’s Will \n3/23/25 -Our Daily Bread \n3/30/25 -Our Debts \n4/6/25 -Our Temptations
URL:https://lcor.org/events-calendar/adult-bible-study/2025-04-06/
CATEGORIES:Bible Study
ATTACH;FMTTYPE=image/png:https://lcor.org/wp-content/uploads/2025/03/The-Lords-Prayer-bible-study-facebook.png
END:VEVENT
BEGIN:VEVENT
DTSTART;TZID=UTC:20250405T083000
DTEND;TZID=UTC:20250405T140000
DTSTAMP:20260420T054947
CREATED:20250326T153738Z
LAST-MODIFIED:20250326T153820Z
UID:10002756-1743841800-1743861600@lcor.org
SUMMARY:NEWELCA Ladies Gathering
DESCRIPTION:Saturday\, April 5th WELCA Ladies Gathering: 9:00-1:45pm.  Doors open at 8:30am.  You’re invited to the RI and SE MA Conference of the WELCA.  Breakfast & Lunch provided.  The gathering will feature worship\, Bible study\, a guest speaker\, games\, door prizes\, and a silent auction.  During the meeting\, we will review upcoming events\, address conference business\, and conduct elections.  $20.00 per person.  RSVP to office@lcor.org before 4/1 or email Loni with any questions.  We will be collecting a gift-in-kind of new or gently-used small kitchen appliances.  A free-will offering for NEWELCA will also be gathered.
URL:https://lcor.org/events-calendar/newelca-ladies-gathering/
END:VEVENT
BEGIN:VEVENT
DTSTART;TZID=UTC:20250403T071500
DTEND;TZID=UTC:20250403T081500
DTSTAMP:20260420T054947
CREATED:20250326T161740Z
LAST-MODIFIED:20250326T161740Z
UID:10003551-1743664500-1743668100@lcor.org
SUMMARY:Ladies Bible Study
DESCRIPTION:Looking for a refreshing pause in the midst of your busy week? Join us for our Ladies Bible Study via Zoom\, where we not only delve into meaningful conversations about faith but also build a supportive and nurturing community. Whether you’re new to Bible study or a seasoned participant\, come as you are\, from the comfort of your home\, and let’s grow spiritually together! We can’t wait to see you there. ✨
URL:https://lcor.org/events-calendar/ladies-bible-study-5/2025-04-03/
CATEGORIES:Bible Study
ATTACH;FMTTYPE=image/png:https://lcor.org/wp-content/uploads/2025/01/Ladies-Bible-study.png
END:VEVENT
BEGIN:VEVENT
DTSTART;TZID=UTC:20250402T183000
DTEND;TZID=UTC:20250402T183000
DTSTAMP:20260420T054947
CREATED:20250306T170950Z
LAST-MODIFIED:20250306T170950Z
UID:10002745-1743618600-1743618600@lcor.org
SUMMARY:Soup & Scripture
DESCRIPTION:Meal served at 6:30 pm\nDiscussion begins at 7:00 pm\n\nOn April 2nd\, we will focus on the New Testament reading\, 2 Corinthians 5:16-21. Join us as we take a closer look at this reading and how we can apply it to our daily lives. Soup will be served and you’re welcome to bring your own sandwich/salad. The facilitators are Steve and Stacy.
URL:https://lcor.org/events-calendar/soup-scripture-4/
CATEGORIES:Worship & Music
ATTACH;FMTTYPE=image/png:https://lcor.org/wp-content/uploads/2025/03/Soup-and-Scripture-2025-3.png
END:VEVENT
BEGIN:VEVENT
DTSTART;TZID=UTC:20250331T071500
DTEND;TZID=UTC:20250331T081500
DTSTAMP:20260420T054947
CREATED:20250116T160553Z
LAST-MODIFIED:20250116T164958Z
UID:10002535-1743405300-1743408900@lcor.org
SUMMARY:Ladies Bible Study
DESCRIPTION:Looking for a refreshing pause in the midst of your busy week? Join us for our Ladies Bible Study via Zoom\, where we not only delve into meaningful conversations about faith but also build a supportive and nurturing community. Whether you’re new to Bible study or a seasoned participant\, come as you are\, from the comfort of your home\, and let’s grow spiritually together! We can’t wait to see you there. ✨ \nFeel free to share this invitation with friends and family!
URL:https://lcor.org/events-calendar/ladies-bible-study-4/2025-03-31/
ATTACH;FMTTYPE=image/png:https://lcor.org/wp-content/uploads/2025/01/Ladies-Bible-study.png
END:VEVENT
BEGIN:VEVENT
DTSTART;TZID=UTC:20250330T103000
DTEND;TZID=UTC:20250330T103000
DTSTAMP:20260420T054947
CREATED:20250116T163140Z
LAST-MODIFIED:20250116T165040Z
UID:10002661-1743330600-1743330600@lcor.org
SUMMARY:Traditional Worship Service
DESCRIPTION:
URL:https://lcor.org/events-calendar/traditional-worship-service-6/2025-03-30/
CATEGORIES:Worship & Music
ATTACH;FMTTYPE=image/png:https://lcor.org/wp-content/uploads/2024/11/Screenshot-2024-11-13-144351.png
END:VEVENT
END:VCALENDAR