BEGIN:VCALENDAR
VERSION:2.0
PRODID:-//Lutheran Church of Our Redeemer - ECPv6.15.20//NONSGML v1.0//EN
CALSCALE:GREGORIAN
METHOD:PUBLISH
X-WR-CALNAME:Lutheran Church of Our Redeemer
X-ORIGINAL-URL:https://lcor.org
X-WR-CALDESC:Events for Lutheran Church of Our Redeemer
REFRESH-INTERVAL;VALUE=DURATION:PT1H
X-Robots-Tag:noindex
X-PUBLISHED-TTL:PT1H
BEGIN:VTIMEZONE
TZID:UTC
BEGIN:STANDARD
TZOFFSETFROM:+0000
TZOFFSETTO:+0000
TZNAME:UTC
DTSTART:20230101T000000
END:STANDARD
END:VTIMEZONE
BEGIN:VEVENT
DTSTART;TZID=UTC:20241230T071500
DTEND;TZID=UTC:20241230T081500
DTSTAMP:20260420T160059
CREATED:20241113T185054Z
LAST-MODIFIED:20241113T185054Z
UID:10002409-1735542900-1735546500@lcor.org
SUMMARY:Ladies Bible Study Via Zoom
DESCRIPTION:
URL:https://lcor.org/events-calendar/ladies-bible-study-via-zoom-13/2024-12-30/
CATEGORIES:Bible Study
ATTACH;FMTTYPE=image/jpeg:https://lcor.org/wp-content/uploads/2024/11/Ladies-Bible-Study-black.jpg
END:VEVENT
BEGIN:VEVENT
DTSTART;TZID=UTC:20241229T100000
DTEND;TZID=UTC:20241229T100000
DTSTAMP:20260420T160059
CREATED:20241127T191829Z
LAST-MODIFIED:20241205T182406Z
UID:10002446-1735466400-1735466400@lcor.org
SUMMARY:Blended Service
DESCRIPTION:
URL:https://lcor.org/events-calendar/blended-service/
CATEGORIES:Worship & Music
END:VEVENT
BEGIN:VEVENT
DTSTART;TZID=UTC:20241229T093000
DTEND;TZID=UTC:20241229T093000
DTSTAMP:20260420T160059
CREATED:20241127T191337Z
LAST-MODIFIED:20241205T182332Z
UID:10002451-1735464600-1735464600@lcor.org
SUMMARY:Adult Ed- Gratitude
DESCRIPTION:Our focus is on Gratitude.  Classes run during the Sunday School Hour\, 9:30 AM in the Nazareth Room\, continuing through the end of December.
URL:https://lcor.org/events-calendar/adult-ed-gratitude/2024-12-29/
CATEGORIES:Bible Study,Christian Education
END:VEVENT
BEGIN:VEVENT
DTSTART;TZID=UTC:20241226T071500
DTEND;TZID=UTC:20241226T081500
DTSTAMP:20260420T160059
CREATED:20241113T185054Z
LAST-MODIFIED:20241113T185054Z
UID:10002408-1735197300-1735200900@lcor.org
SUMMARY:Ladies Bible Study Via Zoom
DESCRIPTION:
URL:https://lcor.org/events-calendar/ladies-bible-study-via-zoom-13/2024-12-26/
CATEGORIES:Bible Study
ATTACH;FMTTYPE=image/jpeg:https://lcor.org/wp-content/uploads/2024/11/Ladies-Bible-Study-black.jpg
END:VEVENT
BEGIN:VEVENT
DTSTART;VALUE=DATE:20241225
DTEND;VALUE=DATE:20241226
DTSTAMP:20260420T160059
CREATED:20241127T194055Z
LAST-MODIFIED:20241127T194055Z
UID:10002453-1735084800-1735171199@lcor.org
SUMMARY:Merry Christmas!
DESCRIPTION:
URL:https://lcor.org/events-calendar/merry-christmas/
END:VEVENT
BEGIN:VEVENT
DTSTART;TZID=UTC:20241224T200000
DTEND;TZID=UTC:20241224T200000
DTSTAMP:20260420T160059
CREATED:20241127T194238Z
LAST-MODIFIED:20241205T182352Z
UID:10002455-1735070400-1735070400@lcor.org
SUMMARY:Traditional Service
DESCRIPTION:
URL:https://lcor.org/events-calendar/traditional-service/
CATEGORIES:Worship & Music
END:VEVENT
BEGIN:VEVENT
DTSTART;TZID=UTC:20241224T170000
DTEND;TZID=UTC:20241224T170000
DTSTAMP:20260420T160059
CREATED:20241127T194209Z
LAST-MODIFIED:20241205T182343Z
UID:10002454-1735059600-1735059600@lcor.org
SUMMARY:Contemporary Service
DESCRIPTION:
URL:https://lcor.org/events-calendar/contemporary-service/
CATEGORIES:Worship & Music
END:VEVENT
BEGIN:VEVENT
DTSTART;TZID=UTC:20241223T071500
DTEND;TZID=UTC:20241223T081500
DTSTAMP:20260420T160059
CREATED:20241113T185054Z
LAST-MODIFIED:20241113T185054Z
UID:10002407-1734938100-1734941700@lcor.org
SUMMARY:Ladies Bible Study Via Zoom
DESCRIPTION:
URL:https://lcor.org/events-calendar/ladies-bible-study-via-zoom-13/2024-12-23/
CATEGORIES:Bible Study
ATTACH;FMTTYPE=image/jpeg:https://lcor.org/wp-content/uploads/2024/11/Ladies-Bible-Study-black.jpg
END:VEVENT
BEGIN:VEVENT
DTSTART;TZID=UTC:20241222T160000
DTEND;TZID=UTC:20241222T160000
DTSTAMP:20260420T160059
CREATED:20241127T194747Z
LAST-MODIFIED:20241205T182232Z
UID:10002457-1734883200-1734883200@lcor.org
SUMMARY:Quiet Christmas Service
DESCRIPTION:Sunday December 22nd 4:00 PM: Quiet Christmas: A Quiet Christmas Service is a Christmas Service that keeps a more somber tone to offer a sacred space and theological context for those for whom the holidays are not as joyful. At this time\, we remember that Jesus comes into the world as it is and meets each of us as we are with whatever we’re carrying. We recall the gift of God’s love for us and presence with us no matter what.
URL:https://lcor.org/events-calendar/quiet-christmas-service/
CATEGORIES:Worship & Music
END:VEVENT
BEGIN:VEVENT
DTSTART;TZID=UTC:20241222T113000
DTEND;TZID=UTC:20241222T113000
DTSTAMP:20260420T160059
CREATED:20241127T194559Z
LAST-MODIFIED:20241205T182306Z
UID:10002456-1734867000-1734867000@lcor.org
SUMMARY:Christmas Decorating
DESCRIPTION:Sunday December 22nd 11:30 am\, Christmas Decorating:  We will decorate the sanctuary for Christmas.  This includes putting up the tree\, decorating it\, assembling the handheld candles/holders for the Christmas Eve celebration\, and setting up the crèche.  There are chores for all ages and it’s a quick job with enough help.   Please consider staying after second service or returning to church at 11:30 to help with this fun and important activity!  If you aren’t available after second service but are interested in helping\, there are several things that can be started after the first service or even during the following week so stick around to help get things started if you’re able.
URL:https://lcor.org/events-calendar/christmas-decorating-2/
CATEGORIES:Worship & Music
END:VEVENT
BEGIN:VEVENT
DTSTART;TZID=UTC:20241222T103000
DTEND;TZID=UTC:20241222T103000
DTSTAMP:20260420T160059
CREATED:20241113T193805Z
LAST-MODIFIED:20241127T191515Z
UID:10002437-1734863400-1734863400@lcor.org
SUMMARY:Traditional Worship Service
DESCRIPTION:
URL:https://lcor.org/events-calendar/traditional-worship-service-5/2024-12-22/
CATEGORIES:Worship & Music
ATTACH;FMTTYPE=image/png:https://lcor.org/wp-content/uploads/2024/11/Screenshot-2024-11-13-144351.png
END:VEVENT
BEGIN:VEVENT
DTSTART;TZID=UTC:20241222T093000
DTEND;TZID=UTC:20241222T093000
DTSTAMP:20260420T160059
CREATED:20241127T191337Z
LAST-MODIFIED:20241205T182332Z
UID:10002450-1734859800-1734859800@lcor.org
SUMMARY:Adult Ed- Gratitude
DESCRIPTION:Our focus is on Gratitude.  Classes run during the Sunday School Hour\, 9:30 AM in the Nazareth Room\, continuing through the end of December.
URL:https://lcor.org/events-calendar/adult-ed-gratitude/2024-12-22/
CATEGORIES:Bible Study,Christian Education
END:VEVENT
BEGIN:VEVENT
DTSTART;TZID=UTC:20241222T091500
DTEND;TZID=UTC:20241222T091500
DTSTAMP:20260420T160059
CREATED:20241127T191928Z
LAST-MODIFIED:20241127T191929Z
UID:10002430-1734858900-1734858900@lcor.org
SUMMARY:Fellowship
DESCRIPTION:
URL:https://lcor.org/events-calendar/fellowship-4-2/2024-12-22/
CATEGORIES:Community Life
ATTACH;FMTTYPE=image/png:https://lcor.org/wp-content/uploads/2024/11/Screenshot-2024-11-13-142008-e1731525667393.png
END:VEVENT
BEGIN:VEVENT
DTSTART;TZID=UTC:20241222T083000
DTEND;TZID=UTC:20241222T083000
DTSTAMP:20260420T160059
CREATED:20241127T191708Z
LAST-MODIFIED:20241205T182314Z
UID:10002415-1734856200-1734856200@lcor.org
SUMMARY:Contemporary Worship Service
DESCRIPTION:
URL:https://lcor.org/events-calendar/contemporary-worship-service-3-2/2024-12-22/
CATEGORIES:Worship & Music
ATTACH;FMTTYPE=image/png:https://lcor.org/wp-content/uploads/2024/11/Screenshot-2024-11-13-141206.png
END:VEVENT
BEGIN:VEVENT
DTSTART;TZID=UTC:20241221T134500
DTEND;TZID=UTC:20241221T134500
DTSTAMP:20260420T160059
CREATED:20241127T193955Z
LAST-MODIFIED:20241205T182158Z
UID:10002452-1734788700-1734788700@lcor.org
SUMMARY:Christmas Caroling
DESCRIPTION:Join LCOR at Maples Rehab & Nursing for some Christmas Caroling!
URL:https://lcor.org/events-calendar/christmas-caroling/
CATEGORIES:Social Ministry
ATTACH;FMTTYPE=image/jpeg:https://lcor.org/wp-content/uploads/2024/11/Christmas-Music-scaled.jpg
END:VEVENT
BEGIN:VEVENT
DTSTART;VALUE=DATE:20241221
DTEND;VALUE=DATE:20241222
DTSTAMP:20260420T160059
CREATED:20241005T014723Z
LAST-MODIFIED:20241205T185225Z
UID:10002392-1734739200-1734825599@lcor.org
SUMMARY:Newsletter Deadline
DESCRIPTION:Please have your submissions in to the Church Office by today.
URL:https://lcor.org/events-calendar/newsletter-deadline-13/
CATEGORIES:Administration
END:VEVENT
BEGIN:VEVENT
DTSTART;TZID=UTC:20241219T071500
DTEND;TZID=UTC:20241219T081500
DTSTAMP:20260420T160059
CREATED:20241113T185054Z
LAST-MODIFIED:20241113T185054Z
UID:10002406-1734592500-1734596100@lcor.org
SUMMARY:Ladies Bible Study Via Zoom
DESCRIPTION:
URL:https://lcor.org/events-calendar/ladies-bible-study-via-zoom-13/2024-12-19/
CATEGORIES:Bible Study
ATTACH;FMTTYPE=image/jpeg:https://lcor.org/wp-content/uploads/2024/11/Ladies-Bible-Study-black.jpg
END:VEVENT
BEGIN:VEVENT
DTSTART;TZID=UTC:20241216T071500
DTEND;TZID=UTC:20241216T081500
DTSTAMP:20260420T160059
CREATED:20241113T185054Z
LAST-MODIFIED:20241113T185054Z
UID:10002405-1734333300-1734336900@lcor.org
SUMMARY:Ladies Bible Study Via Zoom
DESCRIPTION:
URL:https://lcor.org/events-calendar/ladies-bible-study-via-zoom-13/2024-12-16/
CATEGORIES:Bible Study
ATTACH;FMTTYPE=image/jpeg:https://lcor.org/wp-content/uploads/2024/11/Ladies-Bible-Study-black.jpg
END:VEVENT
BEGIN:VEVENT
DTSTART;TZID=UTC:20241215T103000
DTEND;TZID=UTC:20241215T103000
DTSTAMP:20260420T160059
CREATED:20241113T193805Z
LAST-MODIFIED:20241127T191515Z
UID:10002436-1734258600-1734258600@lcor.org
SUMMARY:Traditional Worship Service
DESCRIPTION:
URL:https://lcor.org/events-calendar/traditional-worship-service-5/2024-12-15/
CATEGORIES:Worship & Music
ATTACH;FMTTYPE=image/png:https://lcor.org/wp-content/uploads/2024/11/Screenshot-2024-11-13-144351.png
END:VEVENT
BEGIN:VEVENT
DTSTART;TZID=UTC:20241215T093000
DTEND;TZID=UTC:20241215T093000
DTSTAMP:20260420T160059
CREATED:20241127T191337Z
LAST-MODIFIED:20241205T182332Z
UID:10002449-1734255000-1734255000@lcor.org
SUMMARY:Adult Ed- Gratitude
DESCRIPTION:Our focus is on Gratitude.  Classes run during the Sunday School Hour\, 9:30 AM in the Nazareth Room\, continuing through the end of December.
URL:https://lcor.org/events-calendar/adult-ed-gratitude/2024-12-15/
CATEGORIES:Bible Study,Christian Education
END:VEVENT
BEGIN:VEVENT
DTSTART;TZID=UTC:20241215T091500
DTEND;TZID=UTC:20241215T091500
DTSTAMP:20260420T160059
CREATED:20241127T191928Z
LAST-MODIFIED:20241127T191929Z
UID:10002429-1734254100-1734254100@lcor.org
SUMMARY:Fellowship
DESCRIPTION:
URL:https://lcor.org/events-calendar/fellowship-4-2/2024-12-15/
CATEGORIES:Community Life
ATTACH;FMTTYPE=image/png:https://lcor.org/wp-content/uploads/2024/11/Screenshot-2024-11-13-142008-e1731525667393.png
END:VEVENT
BEGIN:VEVENT
DTSTART;TZID=UTC:20241215T083000
DTEND;TZID=UTC:20241215T083000
DTSTAMP:20260420T160059
CREATED:20241127T191708Z
LAST-MODIFIED:20241205T182314Z
UID:10002414-1734251400-1734251400@lcor.org
SUMMARY:Contemporary Worship Service
DESCRIPTION:
URL:https://lcor.org/events-calendar/contemporary-worship-service-3-2/2024-12-15/
CATEGORIES:Worship & Music
ATTACH;FMTTYPE=image/png:https://lcor.org/wp-content/uploads/2024/11/Screenshot-2024-11-13-141206.png
END:VEVENT
BEGIN:VEVENT
DTSTART;TZID=UTC:20241212T071500
DTEND;TZID=UTC:20241212T081500
DTSTAMP:20260420T160059
CREATED:20241113T185054Z
LAST-MODIFIED:20241113T185054Z
UID:10002404-1733987700-1733991300@lcor.org
SUMMARY:Ladies Bible Study Via Zoom
DESCRIPTION:
URL:https://lcor.org/events-calendar/ladies-bible-study-via-zoom-13/2024-12-12/
CATEGORIES:Bible Study
ATTACH;FMTTYPE=image/jpeg:https://lcor.org/wp-content/uploads/2024/11/Ladies-Bible-Study-black.jpg
END:VEVENT
BEGIN:VEVENT
DTSTART;TZID=UTC:20241209T071500
DTEND;TZID=UTC:20241209T081500
DTSTAMP:20260420T160059
CREATED:20241113T185054Z
LAST-MODIFIED:20241113T185054Z
UID:10002403-1733728500-1733732100@lcor.org
SUMMARY:Ladies Bible Study Via Zoom
DESCRIPTION:
URL:https://lcor.org/events-calendar/ladies-bible-study-via-zoom-13/2024-12-09/
CATEGORIES:Bible Study
ATTACH;FMTTYPE=image/jpeg:https://lcor.org/wp-content/uploads/2024/11/Ladies-Bible-Study-black.jpg
END:VEVENT
BEGIN:VEVENT
DTSTART;TZID=UTC:20241208T103000
DTEND;TZID=UTC:20241208T103000
DTSTAMP:20260420T160059
CREATED:20241113T193805Z
LAST-MODIFIED:20241127T191515Z
UID:10002435-1733653800-1733653800@lcor.org
SUMMARY:Traditional Worship Service
DESCRIPTION:
URL:https://lcor.org/events-calendar/traditional-worship-service-5/2024-12-08/
CATEGORIES:Worship & Music
ATTACH;FMTTYPE=image/png:https://lcor.org/wp-content/uploads/2024/11/Screenshot-2024-11-13-144351.png
END:VEVENT
BEGIN:VEVENT
DTSTART;TZID=UTC:20241208T093000
DTEND;TZID=UTC:20241208T093000
DTSTAMP:20260420T160059
CREATED:20241127T191337Z
LAST-MODIFIED:20241205T182332Z
UID:10002448-1733650200-1733650200@lcor.org
SUMMARY:Adult Ed- Gratitude
DESCRIPTION:Our focus is on Gratitude.  Classes run during the Sunday School Hour\, 9:30 AM in the Nazareth Room\, continuing through the end of December.
URL:https://lcor.org/events-calendar/adult-ed-gratitude/2024-12-08/
CATEGORIES:Bible Study,Christian Education
END:VEVENT
BEGIN:VEVENT
DTSTART;TZID=UTC:20241208T091500
DTEND;TZID=UTC:20241208T091500
DTSTAMP:20260420T160059
CREATED:20241127T191928Z
LAST-MODIFIED:20241127T191929Z
UID:10002428-1733649300-1733649300@lcor.org
SUMMARY:Fellowship
DESCRIPTION:
URL:https://lcor.org/events-calendar/fellowship-4-2/2024-12-08/
CATEGORIES:Community Life
ATTACH;FMTTYPE=image/png:https://lcor.org/wp-content/uploads/2024/11/Screenshot-2024-11-13-142008-e1731525667393.png
END:VEVENT
BEGIN:VEVENT
DTSTART;TZID=UTC:20241208T083000
DTEND;TZID=UTC:20241208T083000
DTSTAMP:20260420T160059
CREATED:20241127T191708Z
LAST-MODIFIED:20241205T182314Z
UID:10002413-1733646600-1733646600@lcor.org
SUMMARY:Contemporary Worship Service
DESCRIPTION:
URL:https://lcor.org/events-calendar/contemporary-worship-service-3-2/2024-12-08/
CATEGORIES:Worship & Music
ATTACH;FMTTYPE=image/png:https://lcor.org/wp-content/uploads/2024/11/Screenshot-2024-11-13-141206.png
END:VEVENT
BEGIN:VEVENT
DTSTART;TZID=UTC:20241205T071500
DTEND;TZID=UTC:20241205T081500
DTSTAMP:20260420T160059
CREATED:20241113T185054Z
LAST-MODIFIED:20241113T185054Z
UID:10002402-1733382900-1733386500@lcor.org
SUMMARY:Ladies Bible Study Via Zoom
DESCRIPTION:
URL:https://lcor.org/events-calendar/ladies-bible-study-via-zoom-13/2024-12-05/
CATEGORIES:Bible Study
ATTACH;FMTTYPE=image/jpeg:https://lcor.org/wp-content/uploads/2024/11/Ladies-Bible-Study-black.jpg
END:VEVENT
BEGIN:VEVENT
DTSTART;TZID=UTC:20241202T071500
DTEND;TZID=UTC:20241202T081500
DTSTAMP:20260420T160059
CREATED:20241113T185054Z
LAST-MODIFIED:20241113T185054Z
UID:10002401-1733123700-1733127300@lcor.org
SUMMARY:Ladies Bible Study Via Zoom
DESCRIPTION:
URL:https://lcor.org/events-calendar/ladies-bible-study-via-zoom-13/2024-12-02/
CATEGORIES:Bible Study
ATTACH;FMTTYPE=image/jpeg:https://lcor.org/wp-content/uploads/2024/11/Ladies-Bible-Study-black.jpg
END:VEVENT
END:VCALENDAR