BEGIN:VCALENDAR
VERSION:2.0
PRODID:-//Lutheran Church of Our Redeemer - ECPv6.15.20//NONSGML v1.0//EN
CALSCALE:GREGORIAN
METHOD:PUBLISH
X-WR-CALNAME:Lutheran Church of Our Redeemer
X-ORIGINAL-URL:https://lcor.org
X-WR-CALDESC:Events for Lutheran Church of Our Redeemer
REFRESH-INTERVAL;VALUE=DURATION:PT1H
X-Robots-Tag:noindex
X-PUBLISHED-TTL:PT1H
BEGIN:VTIMEZONE
TZID:UTC
BEGIN:STANDARD
TZOFFSETFROM:+0000
TZOFFSETTO:+0000
TZNAME:UTC
DTSTART:20260101T000000
END:STANDARD
END:VTIMEZONE
BEGIN:VEVENT
DTSTART;TZID=UTC:20270228T083000
DTEND;TZID=UTC:20270228T083000
DTSTAMP:20260419T221440
CREATED:20260205T184913Z
LAST-MODIFIED:20260205T184913Z
UID:10008031-1803803400-1803803400@lcor.org
SUMMARY:Contemporary Worship Service
DESCRIPTION:8:30 AM
URL:https://lcor.org/events-calendar/contemporary-worship-service-9/2027-02-28/
CATEGORIES:Worship & Music
ATTACH;FMTTYPE=image/png:https://lcor.org/wp-content/uploads/2024/11/Screenshot-2024-11-13-141206.png
END:VEVENT
BEGIN:VEVENT
DTSTART;TZID=UTC:20270307T083000
DTEND;TZID=UTC:20270307T083000
DTSTAMP:20260419T221440
CREATED:20260205T184913Z
LAST-MODIFIED:20260205T184913Z
UID:10008032-1804408200-1804408200@lcor.org
SUMMARY:Contemporary Worship Service
DESCRIPTION:8:30 AM
URL:https://lcor.org/events-calendar/contemporary-worship-service-9/2027-03-07/
CATEGORIES:Worship & Music
ATTACH;FMTTYPE=image/png:https://lcor.org/wp-content/uploads/2024/11/Screenshot-2024-11-13-141206.png
END:VEVENT
BEGIN:VEVENT
DTSTART;TZID=UTC:20270314T083000
DTEND;TZID=UTC:20270314T083000
DTSTAMP:20260419T221440
CREATED:20260205T184913Z
LAST-MODIFIED:20260205T184913Z
UID:10008033-1805013000-1805013000@lcor.org
SUMMARY:Contemporary Worship Service
DESCRIPTION:8:30 AM
URL:https://lcor.org/events-calendar/contemporary-worship-service-9/2027-03-14/
CATEGORIES:Worship & Music
ATTACH;FMTTYPE=image/png:https://lcor.org/wp-content/uploads/2024/11/Screenshot-2024-11-13-141206.png
END:VEVENT
BEGIN:VEVENT
DTSTART;TZID=UTC:20270321T083000
DTEND;TZID=UTC:20270321T083000
DTSTAMP:20260419T221440
CREATED:20260205T184913Z
LAST-MODIFIED:20260205T184913Z
UID:10008034-1805617800-1805617800@lcor.org
SUMMARY:Contemporary Worship Service
DESCRIPTION:8:30 AM
URL:https://lcor.org/events-calendar/contemporary-worship-service-9/2027-03-21/
CATEGORIES:Worship & Music
ATTACH;FMTTYPE=image/png:https://lcor.org/wp-content/uploads/2024/11/Screenshot-2024-11-13-141206.png
END:VEVENT
BEGIN:VEVENT
DTSTART;TZID=UTC:20270328T083000
DTEND;TZID=UTC:20270328T083000
DTSTAMP:20260419T221440
CREATED:20260205T184913Z
LAST-MODIFIED:20260205T184913Z
UID:10008035-1806222600-1806222600@lcor.org
SUMMARY:Contemporary Worship Service
DESCRIPTION:8:30 AM
URL:https://lcor.org/events-calendar/contemporary-worship-service-9/2027-03-28/
CATEGORIES:Worship & Music
ATTACH;FMTTYPE=image/png:https://lcor.org/wp-content/uploads/2024/11/Screenshot-2024-11-13-141206.png
END:VEVENT
BEGIN:VEVENT
DTSTART;TZID=UTC:20270404T083000
DTEND;TZID=UTC:20270404T083000
DTSTAMP:20260419T221440
CREATED:20260205T184913Z
LAST-MODIFIED:20260205T184913Z
UID:10008036-1806827400-1806827400@lcor.org
SUMMARY:Contemporary Worship Service
DESCRIPTION:8:30 AM
URL:https://lcor.org/events-calendar/contemporary-worship-service-9/2027-04-04/
CATEGORIES:Worship & Music
ATTACH;FMTTYPE=image/png:https://lcor.org/wp-content/uploads/2024/11/Screenshot-2024-11-13-141206.png
END:VEVENT
BEGIN:VEVENT
DTSTART;TZID=UTC:20270411T083000
DTEND;TZID=UTC:20270411T083000
DTSTAMP:20260419T221440
CREATED:20260205T184913Z
LAST-MODIFIED:20260205T184913Z
UID:10008037-1807432200-1807432200@lcor.org
SUMMARY:Contemporary Worship Service
DESCRIPTION:8:30 AM
URL:https://lcor.org/events-calendar/contemporary-worship-service-9/2027-04-11/
CATEGORIES:Worship & Music
ATTACH;FMTTYPE=image/png:https://lcor.org/wp-content/uploads/2024/11/Screenshot-2024-11-13-141206.png
END:VEVENT
BEGIN:VEVENT
DTSTART;TZID=UTC:20270418T083000
DTEND;TZID=UTC:20270418T083000
DTSTAMP:20260419T221440
CREATED:20260205T184913Z
LAST-MODIFIED:20260205T184913Z
UID:10008038-1808037000-1808037000@lcor.org
SUMMARY:Contemporary Worship Service
DESCRIPTION:8:30 AM
URL:https://lcor.org/events-calendar/contemporary-worship-service-9/2027-04-18/
CATEGORIES:Worship & Music
ATTACH;FMTTYPE=image/png:https://lcor.org/wp-content/uploads/2024/11/Screenshot-2024-11-13-141206.png
END:VEVENT
BEGIN:VEVENT
DTSTART;TZID=UTC:20270425T083000
DTEND;TZID=UTC:20270425T083000
DTSTAMP:20260419T221440
CREATED:20260205T184913Z
LAST-MODIFIED:20260205T184913Z
UID:10008039-1808641800-1808641800@lcor.org
SUMMARY:Contemporary Worship Service
DESCRIPTION:8:30 AM
URL:https://lcor.org/events-calendar/contemporary-worship-service-9/2027-04-25/
CATEGORIES:Worship & Music
ATTACH;FMTTYPE=image/png:https://lcor.org/wp-content/uploads/2024/11/Screenshot-2024-11-13-141206.png
END:VEVENT
BEGIN:VEVENT
DTSTART;TZID=UTC:20270502T083000
DTEND;TZID=UTC:20270502T083000
DTSTAMP:20260419T221440
CREATED:20260205T184913Z
LAST-MODIFIED:20260205T184913Z
UID:10008040-1809246600-1809246600@lcor.org
SUMMARY:Contemporary Worship Service
DESCRIPTION:8:30 AM
URL:https://lcor.org/events-calendar/contemporary-worship-service-9/2027-05-02/
CATEGORIES:Worship & Music
ATTACH;FMTTYPE=image/png:https://lcor.org/wp-content/uploads/2024/11/Screenshot-2024-11-13-141206.png
END:VEVENT
BEGIN:VEVENT
DTSTART;TZID=UTC:20270509T083000
DTEND;TZID=UTC:20270509T083000
DTSTAMP:20260419T221440
CREATED:20260205T184913Z
LAST-MODIFIED:20260205T184913Z
UID:10008041-1809851400-1809851400@lcor.org
SUMMARY:Contemporary Worship Service
DESCRIPTION:8:30 AM
URL:https://lcor.org/events-calendar/contemporary-worship-service-9/2027-05-09/
CATEGORIES:Worship & Music
ATTACH;FMTTYPE=image/png:https://lcor.org/wp-content/uploads/2024/11/Screenshot-2024-11-13-141206.png
END:VEVENT
BEGIN:VEVENT
DTSTART;TZID=UTC:20270516T083000
DTEND;TZID=UTC:20270516T083000
DTSTAMP:20260419T221440
CREATED:20260205T184913Z
LAST-MODIFIED:20260205T184913Z
UID:10008042-1810456200-1810456200@lcor.org
SUMMARY:Contemporary Worship Service
DESCRIPTION:8:30 AM
URL:https://lcor.org/events-calendar/contemporary-worship-service-9/2027-05-16/
CATEGORIES:Worship & Music
ATTACH;FMTTYPE=image/png:https://lcor.org/wp-content/uploads/2024/11/Screenshot-2024-11-13-141206.png
END:VEVENT
BEGIN:VEVENT
DTSTART;TZID=UTC:20270523T083000
DTEND;TZID=UTC:20270523T083000
DTSTAMP:20260419T221440
CREATED:20260205T184913Z
LAST-MODIFIED:20260205T184913Z
UID:10008043-1811061000-1811061000@lcor.org
SUMMARY:Contemporary Worship Service
DESCRIPTION:8:30 AM
URL:https://lcor.org/events-calendar/contemporary-worship-service-9/2027-05-23/
CATEGORIES:Worship & Music
ATTACH;FMTTYPE=image/png:https://lcor.org/wp-content/uploads/2024/11/Screenshot-2024-11-13-141206.png
END:VEVENT
BEGIN:VEVENT
DTSTART;TZID=UTC:20270530T083000
DTEND;TZID=UTC:20270530T083000
DTSTAMP:20260419T221440
CREATED:20260205T184913Z
LAST-MODIFIED:20260205T184913Z
UID:10008044-1811665800-1811665800@lcor.org
SUMMARY:Contemporary Worship Service
DESCRIPTION:8:30 AM
URL:https://lcor.org/events-calendar/contemporary-worship-service-9/2027-05-30/
CATEGORIES:Worship & Music
ATTACH;FMTTYPE=image/png:https://lcor.org/wp-content/uploads/2024/11/Screenshot-2024-11-13-141206.png
END:VEVENT
BEGIN:VEVENT
DTSTART;TZID=UTC:20270606T083000
DTEND;TZID=UTC:20270606T083000
DTSTAMP:20260419T221440
CREATED:20260205T184913Z
LAST-MODIFIED:20260205T184913Z
UID:10008045-1812270600-1812270600@lcor.org
SUMMARY:Contemporary Worship Service
DESCRIPTION:8:30 AM
URL:https://lcor.org/events-calendar/contemporary-worship-service-9/2027-06-06/
CATEGORIES:Worship & Music
ATTACH;FMTTYPE=image/png:https://lcor.org/wp-content/uploads/2024/11/Screenshot-2024-11-13-141206.png
END:VEVENT
BEGIN:VEVENT
DTSTART;TZID=UTC:20270613T083000
DTEND;TZID=UTC:20270613T083000
DTSTAMP:20260419T221440
CREATED:20260205T184913Z
LAST-MODIFIED:20260205T184913Z
UID:10008046-1812875400-1812875400@lcor.org
SUMMARY:Contemporary Worship Service
DESCRIPTION:8:30 AM
URL:https://lcor.org/events-calendar/contemporary-worship-service-9/2027-06-13/
CATEGORIES:Worship & Music
ATTACH;FMTTYPE=image/png:https://lcor.org/wp-content/uploads/2024/11/Screenshot-2024-11-13-141206.png
END:VEVENT
BEGIN:VEVENT
DTSTART;TZID=UTC:20270620T083000
DTEND;TZID=UTC:20270620T083000
DTSTAMP:20260419T221440
CREATED:20260205T184913Z
LAST-MODIFIED:20260205T184913Z
UID:10008047-1813480200-1813480200@lcor.org
SUMMARY:Contemporary Worship Service
DESCRIPTION:8:30 AM
URL:https://lcor.org/events-calendar/contemporary-worship-service-9/2027-06-20/
CATEGORIES:Worship & Music
ATTACH;FMTTYPE=image/png:https://lcor.org/wp-content/uploads/2024/11/Screenshot-2024-11-13-141206.png
END:VEVENT
BEGIN:VEVENT
DTSTART;TZID=UTC:20270627T083000
DTEND;TZID=UTC:20270627T083000
DTSTAMP:20260419T221440
CREATED:20260205T184913Z
LAST-MODIFIED:20260205T184913Z
UID:10008048-1814085000-1814085000@lcor.org
SUMMARY:Contemporary Worship Service
DESCRIPTION:8:30 AM
URL:https://lcor.org/events-calendar/contemporary-worship-service-9/2027-06-27/
CATEGORIES:Worship & Music
ATTACH;FMTTYPE=image/png:https://lcor.org/wp-content/uploads/2024/11/Screenshot-2024-11-13-141206.png
END:VEVENT
BEGIN:VEVENT
DTSTART;TZID=UTC:20270704T083000
DTEND;TZID=UTC:20270704T083000
DTSTAMP:20260419T221440
CREATED:20260205T184913Z
LAST-MODIFIED:20260205T184913Z
UID:10008049-1814689800-1814689800@lcor.org
SUMMARY:Contemporary Worship Service
DESCRIPTION:8:30 AM
URL:https://lcor.org/events-calendar/contemporary-worship-service-9/2027-07-04/
CATEGORIES:Worship & Music
ATTACH;FMTTYPE=image/png:https://lcor.org/wp-content/uploads/2024/11/Screenshot-2024-11-13-141206.png
END:VEVENT
BEGIN:VEVENT
DTSTART;TZID=UTC:20270711T083000
DTEND;TZID=UTC:20270711T083000
DTSTAMP:20260419T221440
CREATED:20260205T184913Z
LAST-MODIFIED:20260205T184913Z
UID:10008050-1815294600-1815294600@lcor.org
SUMMARY:Contemporary Worship Service
DESCRIPTION:8:30 AM
URL:https://lcor.org/events-calendar/contemporary-worship-service-9/2027-07-11/
CATEGORIES:Worship & Music
ATTACH;FMTTYPE=image/png:https://lcor.org/wp-content/uploads/2024/11/Screenshot-2024-11-13-141206.png
END:VEVENT
BEGIN:VEVENT
DTSTART;TZID=UTC:20270718T083000
DTEND;TZID=UTC:20270718T083000
DTSTAMP:20260419T221440
CREATED:20260205T184913Z
LAST-MODIFIED:20260205T184913Z
UID:10008051-1815899400-1815899400@lcor.org
SUMMARY:Contemporary Worship Service
DESCRIPTION:8:30 AM
URL:https://lcor.org/events-calendar/contemporary-worship-service-9/2027-07-18/
CATEGORIES:Worship & Music
ATTACH;FMTTYPE=image/png:https://lcor.org/wp-content/uploads/2024/11/Screenshot-2024-11-13-141206.png
END:VEVENT
BEGIN:VEVENT
DTSTART;TZID=UTC:20270725T083000
DTEND;TZID=UTC:20270725T083000
DTSTAMP:20260419T221440
CREATED:20260205T184913Z
LAST-MODIFIED:20260205T184913Z
UID:10008052-1816504200-1816504200@lcor.org
SUMMARY:Contemporary Worship Service
DESCRIPTION:8:30 AM
URL:https://lcor.org/events-calendar/contemporary-worship-service-9/2027-07-25/
CATEGORIES:Worship & Music
ATTACH;FMTTYPE=image/png:https://lcor.org/wp-content/uploads/2024/11/Screenshot-2024-11-13-141206.png
END:VEVENT
BEGIN:VEVENT
DTSTART;TZID=UTC:20270801T083000
DTEND;TZID=UTC:20270801T083000
DTSTAMP:20260419T221440
CREATED:20260205T184913Z
LAST-MODIFIED:20260205T184913Z
UID:10008053-1817109000-1817109000@lcor.org
SUMMARY:Contemporary Worship Service
DESCRIPTION:8:30 AM
URL:https://lcor.org/events-calendar/contemporary-worship-service-9/2027-08-01/
CATEGORIES:Worship & Music
ATTACH;FMTTYPE=image/png:https://lcor.org/wp-content/uploads/2024/11/Screenshot-2024-11-13-141206.png
END:VEVENT
BEGIN:VEVENT
DTSTART;TZID=UTC:20270808T083000
DTEND;TZID=UTC:20270808T083000
DTSTAMP:20260419T221440
CREATED:20260205T184913Z
LAST-MODIFIED:20260205T184913Z
UID:10008054-1817713800-1817713800@lcor.org
SUMMARY:Contemporary Worship Service
DESCRIPTION:8:30 AM
URL:https://lcor.org/events-calendar/contemporary-worship-service-9/2027-08-08/
CATEGORIES:Worship & Music
ATTACH;FMTTYPE=image/png:https://lcor.org/wp-content/uploads/2024/11/Screenshot-2024-11-13-141206.png
END:VEVENT
BEGIN:VEVENT
DTSTART;TZID=UTC:20270815T083000
DTEND;TZID=UTC:20270815T083000
DTSTAMP:20260419T221440
CREATED:20260205T184913Z
LAST-MODIFIED:20260205T184913Z
UID:10008055-1818318600-1818318600@lcor.org
SUMMARY:Contemporary Worship Service
DESCRIPTION:8:30 AM
URL:https://lcor.org/events-calendar/contemporary-worship-service-9/2027-08-15/
CATEGORIES:Worship & Music
ATTACH;FMTTYPE=image/png:https://lcor.org/wp-content/uploads/2024/11/Screenshot-2024-11-13-141206.png
END:VEVENT
BEGIN:VEVENT
DTSTART;TZID=UTC:20270822T083000
DTEND;TZID=UTC:20270822T083000
DTSTAMP:20260419T221440
CREATED:20260205T184913Z
LAST-MODIFIED:20260205T184913Z
UID:10008056-1818923400-1818923400@lcor.org
SUMMARY:Contemporary Worship Service
DESCRIPTION:8:30 AM
URL:https://lcor.org/events-calendar/contemporary-worship-service-9/2027-08-22/
CATEGORIES:Worship & Music
ATTACH;FMTTYPE=image/png:https://lcor.org/wp-content/uploads/2024/11/Screenshot-2024-11-13-141206.png
END:VEVENT
BEGIN:VEVENT
DTSTART;TZID=UTC:20270829T083000
DTEND;TZID=UTC:20270829T083000
DTSTAMP:20260419T221440
CREATED:20260205T184913Z
LAST-MODIFIED:20260205T184913Z
UID:10008057-1819528200-1819528200@lcor.org
SUMMARY:Contemporary Worship Service
DESCRIPTION:8:30 AM
URL:https://lcor.org/events-calendar/contemporary-worship-service-9/2027-08-29/
CATEGORIES:Worship & Music
ATTACH;FMTTYPE=image/png:https://lcor.org/wp-content/uploads/2024/11/Screenshot-2024-11-13-141206.png
END:VEVENT
BEGIN:VEVENT
DTSTART;TZID=UTC:20270905T083000
DTEND;TZID=UTC:20270905T083000
DTSTAMP:20260419T221440
CREATED:20260205T184913Z
LAST-MODIFIED:20260205T184913Z
UID:10008058-1820133000-1820133000@lcor.org
SUMMARY:Contemporary Worship Service
DESCRIPTION:8:30 AM
URL:https://lcor.org/events-calendar/contemporary-worship-service-9/2027-09-05/
CATEGORIES:Worship & Music
ATTACH;FMTTYPE=image/png:https://lcor.org/wp-content/uploads/2024/11/Screenshot-2024-11-13-141206.png
END:VEVENT
BEGIN:VEVENT
DTSTART;TZID=UTC:20270912T083000
DTEND;TZID=UTC:20270912T083000
DTSTAMP:20260419T221440
CREATED:20260205T184913Z
LAST-MODIFIED:20260205T184913Z
UID:10008059-1820737800-1820737800@lcor.org
SUMMARY:Contemporary Worship Service
DESCRIPTION:8:30 AM
URL:https://lcor.org/events-calendar/contemporary-worship-service-9/2027-09-12/
CATEGORIES:Worship & Music
ATTACH;FMTTYPE=image/png:https://lcor.org/wp-content/uploads/2024/11/Screenshot-2024-11-13-141206.png
END:VEVENT
BEGIN:VEVENT
DTSTART;TZID=UTC:20270919T083000
DTEND;TZID=UTC:20270919T083000
DTSTAMP:20260419T221440
CREATED:20260205T184913Z
LAST-MODIFIED:20260205T184913Z
UID:10008060-1821342600-1821342600@lcor.org
SUMMARY:Contemporary Worship Service
DESCRIPTION:8:30 AM
URL:https://lcor.org/events-calendar/contemporary-worship-service-9/2027-09-19/
CATEGORIES:Worship & Music
ATTACH;FMTTYPE=image/png:https://lcor.org/wp-content/uploads/2024/11/Screenshot-2024-11-13-141206.png
END:VEVENT
END:VCALENDAR