BEGIN:VCALENDAR
VERSION:2.0
PRODID:-//Lutheran Church of Our Redeemer - ECPv6.15.20//NONSGML v1.0//EN
CALSCALE:GREGORIAN
METHOD:PUBLISH
X-WR-CALNAME:Lutheran Church of Our Redeemer
X-ORIGINAL-URL:https://lcor.org
X-WR-CALDESC:Events for Lutheran Church of Our Redeemer
REFRESH-INTERVAL;VALUE=DURATION:PT1H
X-Robots-Tag:noindex
X-PUBLISHED-TTL:PT1H
BEGIN:VTIMEZONE
TZID:UTC
BEGIN:STANDARD
TZOFFSETFROM:+0000
TZOFFSETTO:+0000
TZNAME:UTC
DTSTART:20290101T000000
END:STANDARD
END:VTIMEZONE
BEGIN:VEVENT
DTSTART;TZID=UTC:20300811T083000
DTEND;TZID=UTC:20300811T083000
DTSTAMP:20260421T044038
CREATED:20260205T184913Z
LAST-MODIFIED:20260205T184913Z
UID:10008211-1912667400-1912667400@lcor.org
SUMMARY:Contemporary Worship Service
DESCRIPTION:8:30 AM
URL:https://lcor.org/events-calendar/contemporary-worship-service-9/2030-08-11/
CATEGORIES:Worship & Music
ATTACH;FMTTYPE=image/png:https://lcor.org/wp-content/uploads/2024/11/Screenshot-2024-11-13-141206.png
END:VEVENT
BEGIN:VEVENT
DTSTART;TZID=UTC:20300818T083000
DTEND;TZID=UTC:20300818T083000
DTSTAMP:20260421T044038
CREATED:20260205T184913Z
LAST-MODIFIED:20260205T184913Z
UID:10008212-1913272200-1913272200@lcor.org
SUMMARY:Contemporary Worship Service
DESCRIPTION:8:30 AM
URL:https://lcor.org/events-calendar/contemporary-worship-service-9/2030-08-18/
CATEGORIES:Worship & Music
ATTACH;FMTTYPE=image/png:https://lcor.org/wp-content/uploads/2024/11/Screenshot-2024-11-13-141206.png
END:VEVENT
BEGIN:VEVENT
DTSTART;TZID=UTC:20300825T083000
DTEND;TZID=UTC:20300825T083000
DTSTAMP:20260421T044038
CREATED:20260205T184913Z
LAST-MODIFIED:20260205T184913Z
UID:10008213-1913877000-1913877000@lcor.org
SUMMARY:Contemporary Worship Service
DESCRIPTION:8:30 AM
URL:https://lcor.org/events-calendar/contemporary-worship-service-9/2030-08-25/
CATEGORIES:Worship & Music
ATTACH;FMTTYPE=image/png:https://lcor.org/wp-content/uploads/2024/11/Screenshot-2024-11-13-141206.png
END:VEVENT
BEGIN:VEVENT
DTSTART;TZID=UTC:20300901T083000
DTEND;TZID=UTC:20300901T083000
DTSTAMP:20260421T044038
CREATED:20260205T184913Z
LAST-MODIFIED:20260205T184913Z
UID:10008214-1914481800-1914481800@lcor.org
SUMMARY:Contemporary Worship Service
DESCRIPTION:8:30 AM
URL:https://lcor.org/events-calendar/contemporary-worship-service-9/2030-09-01/
CATEGORIES:Worship & Music
ATTACH;FMTTYPE=image/png:https://lcor.org/wp-content/uploads/2024/11/Screenshot-2024-11-13-141206.png
END:VEVENT
BEGIN:VEVENT
DTSTART;TZID=UTC:20300908T083000
DTEND;TZID=UTC:20300908T083000
DTSTAMP:20260421T044038
CREATED:20260205T184913Z
LAST-MODIFIED:20260205T184913Z
UID:10008215-1915086600-1915086600@lcor.org
SUMMARY:Contemporary Worship Service
DESCRIPTION:8:30 AM
URL:https://lcor.org/events-calendar/contemporary-worship-service-9/2030-09-08/
CATEGORIES:Worship & Music
ATTACH;FMTTYPE=image/png:https://lcor.org/wp-content/uploads/2024/11/Screenshot-2024-11-13-141206.png
END:VEVENT
BEGIN:VEVENT
DTSTART;TZID=UTC:20300915T083000
DTEND;TZID=UTC:20300915T083000
DTSTAMP:20260421T044038
CREATED:20260205T184913Z
LAST-MODIFIED:20260205T184913Z
UID:10008216-1915691400-1915691400@lcor.org
SUMMARY:Contemporary Worship Service
DESCRIPTION:8:30 AM
URL:https://lcor.org/events-calendar/contemporary-worship-service-9/2030-09-15/
CATEGORIES:Worship & Music
ATTACH;FMTTYPE=image/png:https://lcor.org/wp-content/uploads/2024/11/Screenshot-2024-11-13-141206.png
END:VEVENT
BEGIN:VEVENT
DTSTART;TZID=UTC:20300922T083000
DTEND;TZID=UTC:20300922T083000
DTSTAMP:20260421T044038
CREATED:20260205T184913Z
LAST-MODIFIED:20260205T184913Z
UID:10008217-1916296200-1916296200@lcor.org
SUMMARY:Contemporary Worship Service
DESCRIPTION:8:30 AM
URL:https://lcor.org/events-calendar/contemporary-worship-service-9/2030-09-22/
CATEGORIES:Worship & Music
ATTACH;FMTTYPE=image/png:https://lcor.org/wp-content/uploads/2024/11/Screenshot-2024-11-13-141206.png
END:VEVENT
BEGIN:VEVENT
DTSTART;TZID=UTC:20300929T083000
DTEND;TZID=UTC:20300929T083000
DTSTAMP:20260421T044038
CREATED:20260205T184913Z
LAST-MODIFIED:20260205T184913Z
UID:10008218-1916901000-1916901000@lcor.org
SUMMARY:Contemporary Worship Service
DESCRIPTION:8:30 AM
URL:https://lcor.org/events-calendar/contemporary-worship-service-9/2030-09-29/
CATEGORIES:Worship & Music
ATTACH;FMTTYPE=image/png:https://lcor.org/wp-content/uploads/2024/11/Screenshot-2024-11-13-141206.png
END:VEVENT
BEGIN:VEVENT
DTSTART;TZID=UTC:20301006T083000
DTEND;TZID=UTC:20301006T083000
DTSTAMP:20260421T044038
CREATED:20260205T184913Z
LAST-MODIFIED:20260205T184913Z
UID:10008219-1917505800-1917505800@lcor.org
SUMMARY:Contemporary Worship Service
DESCRIPTION:8:30 AM
URL:https://lcor.org/events-calendar/contemporary-worship-service-9/2030-10-06/
CATEGORIES:Worship & Music
ATTACH;FMTTYPE=image/png:https://lcor.org/wp-content/uploads/2024/11/Screenshot-2024-11-13-141206.png
END:VEVENT
BEGIN:VEVENT
DTSTART;TZID=UTC:20301013T083000
DTEND;TZID=UTC:20301013T083000
DTSTAMP:20260421T044038
CREATED:20260205T184913Z
LAST-MODIFIED:20260205T184913Z
UID:10008220-1918110600-1918110600@lcor.org
SUMMARY:Contemporary Worship Service
DESCRIPTION:8:30 AM
URL:https://lcor.org/events-calendar/contemporary-worship-service-9/2030-10-13/
CATEGORIES:Worship & Music
ATTACH;FMTTYPE=image/png:https://lcor.org/wp-content/uploads/2024/11/Screenshot-2024-11-13-141206.png
END:VEVENT
BEGIN:VEVENT
DTSTART;TZID=UTC:20301020T083000
DTEND;TZID=UTC:20301020T083000
DTSTAMP:20260421T044038
CREATED:20260205T184913Z
LAST-MODIFIED:20260205T184913Z
UID:10008221-1918715400-1918715400@lcor.org
SUMMARY:Contemporary Worship Service
DESCRIPTION:8:30 AM
URL:https://lcor.org/events-calendar/contemporary-worship-service-9/2030-10-20/
CATEGORIES:Worship & Music
ATTACH;FMTTYPE=image/png:https://lcor.org/wp-content/uploads/2024/11/Screenshot-2024-11-13-141206.png
END:VEVENT
BEGIN:VEVENT
DTSTART;TZID=UTC:20301027T083000
DTEND;TZID=UTC:20301027T083000
DTSTAMP:20260421T044038
CREATED:20260205T184913Z
LAST-MODIFIED:20260205T184913Z
UID:10008222-1919320200-1919320200@lcor.org
SUMMARY:Contemporary Worship Service
DESCRIPTION:8:30 AM
URL:https://lcor.org/events-calendar/contemporary-worship-service-9/2030-10-27/
CATEGORIES:Worship & Music
ATTACH;FMTTYPE=image/png:https://lcor.org/wp-content/uploads/2024/11/Screenshot-2024-11-13-141206.png
END:VEVENT
BEGIN:VEVENT
DTSTART;TZID=UTC:20301103T083000
DTEND;TZID=UTC:20301103T083000
DTSTAMP:20260421T044038
CREATED:20260205T184913Z
LAST-MODIFIED:20260205T184913Z
UID:10008223-1919925000-1919925000@lcor.org
SUMMARY:Contemporary Worship Service
DESCRIPTION:8:30 AM
URL:https://lcor.org/events-calendar/contemporary-worship-service-9/2030-11-03/
CATEGORIES:Worship & Music
ATTACH;FMTTYPE=image/png:https://lcor.org/wp-content/uploads/2024/11/Screenshot-2024-11-13-141206.png
END:VEVENT
BEGIN:VEVENT
DTSTART;TZID=UTC:20301110T083000
DTEND;TZID=UTC:20301110T083000
DTSTAMP:20260421T044038
CREATED:20260205T184913Z
LAST-MODIFIED:20260205T184913Z
UID:10008224-1920529800-1920529800@lcor.org
SUMMARY:Contemporary Worship Service
DESCRIPTION:8:30 AM
URL:https://lcor.org/events-calendar/contemporary-worship-service-9/2030-11-10/
CATEGORIES:Worship & Music
ATTACH;FMTTYPE=image/png:https://lcor.org/wp-content/uploads/2024/11/Screenshot-2024-11-13-141206.png
END:VEVENT
BEGIN:VEVENT
DTSTART;TZID=UTC:20301117T083000
DTEND;TZID=UTC:20301117T083000
DTSTAMP:20260421T044038
CREATED:20260205T184913Z
LAST-MODIFIED:20260205T184913Z
UID:10008225-1921134600-1921134600@lcor.org
SUMMARY:Contemporary Worship Service
DESCRIPTION:8:30 AM
URL:https://lcor.org/events-calendar/contemporary-worship-service-9/2030-11-17/
CATEGORIES:Worship & Music
ATTACH;FMTTYPE=image/png:https://lcor.org/wp-content/uploads/2024/11/Screenshot-2024-11-13-141206.png
END:VEVENT
BEGIN:VEVENT
DTSTART;TZID=UTC:20301124T083000
DTEND;TZID=UTC:20301124T083000
DTSTAMP:20260421T044038
CREATED:20260205T184913Z
LAST-MODIFIED:20260205T184913Z
UID:10008226-1921739400-1921739400@lcor.org
SUMMARY:Contemporary Worship Service
DESCRIPTION:8:30 AM
URL:https://lcor.org/events-calendar/contemporary-worship-service-9/2030-11-24/
CATEGORIES:Worship & Music
ATTACH;FMTTYPE=image/png:https://lcor.org/wp-content/uploads/2024/11/Screenshot-2024-11-13-141206.png
END:VEVENT
BEGIN:VEVENT
DTSTART;TZID=UTC:20301201T083000
DTEND;TZID=UTC:20301201T083000
DTSTAMP:20260421T044038
CREATED:20260205T184913Z
LAST-MODIFIED:20260205T184913Z
UID:10008227-1922344200-1922344200@lcor.org
SUMMARY:Contemporary Worship Service
DESCRIPTION:8:30 AM
URL:https://lcor.org/events-calendar/contemporary-worship-service-9/2030-12-01/
CATEGORIES:Worship & Music
ATTACH;FMTTYPE=image/png:https://lcor.org/wp-content/uploads/2024/11/Screenshot-2024-11-13-141206.png
END:VEVENT
BEGIN:VEVENT
DTSTART;TZID=UTC:20301208T083000
DTEND;TZID=UTC:20301208T083000
DTSTAMP:20260421T044038
CREATED:20260205T184913Z
LAST-MODIFIED:20260205T184913Z
UID:10008228-1922949000-1922949000@lcor.org
SUMMARY:Contemporary Worship Service
DESCRIPTION:8:30 AM
URL:https://lcor.org/events-calendar/contemporary-worship-service-9/2030-12-08/
CATEGORIES:Worship & Music
ATTACH;FMTTYPE=image/png:https://lcor.org/wp-content/uploads/2024/11/Screenshot-2024-11-13-141206.png
END:VEVENT
BEGIN:VEVENT
DTSTART;TZID=UTC:20301215T083000
DTEND;TZID=UTC:20301215T083000
DTSTAMP:20260421T044038
CREATED:20260205T184913Z
LAST-MODIFIED:20260205T184913Z
UID:10008229-1923553800-1923553800@lcor.org
SUMMARY:Contemporary Worship Service
DESCRIPTION:8:30 AM
URL:https://lcor.org/events-calendar/contemporary-worship-service-9/2030-12-15/
CATEGORIES:Worship & Music
ATTACH;FMTTYPE=image/png:https://lcor.org/wp-content/uploads/2024/11/Screenshot-2024-11-13-141206.png
END:VEVENT
BEGIN:VEVENT
DTSTART;TZID=UTC:20301222T083000
DTEND;TZID=UTC:20301222T083000
DTSTAMP:20260421T044038
CREATED:20260205T184913Z
LAST-MODIFIED:20260205T184913Z
UID:10008230-1924158600-1924158600@lcor.org
SUMMARY:Contemporary Worship Service
DESCRIPTION:8:30 AM
URL:https://lcor.org/events-calendar/contemporary-worship-service-9/2030-12-22/
CATEGORIES:Worship & Music
ATTACH;FMTTYPE=image/png:https://lcor.org/wp-content/uploads/2024/11/Screenshot-2024-11-13-141206.png
END:VEVENT
BEGIN:VEVENT
DTSTART;TZID=UTC:20301229T083000
DTEND;TZID=UTC:20301229T083000
DTSTAMP:20260421T044038
CREATED:20260205T184913Z
LAST-MODIFIED:20260205T184913Z
UID:10008231-1924763400-1924763400@lcor.org
SUMMARY:Contemporary Worship Service
DESCRIPTION:8:30 AM
URL:https://lcor.org/events-calendar/contemporary-worship-service-9/2030-12-29/
CATEGORIES:Worship & Music
ATTACH;FMTTYPE=image/png:https://lcor.org/wp-content/uploads/2024/11/Screenshot-2024-11-13-141206.png
END:VEVENT
BEGIN:VEVENT
DTSTART;TZID=UTC:20310105T083000
DTEND;TZID=UTC:20310105T083000
DTSTAMP:20260421T044038
CREATED:20260205T184913Z
LAST-MODIFIED:20260205T184913Z
UID:10008232-1925368200-1925368200@lcor.org
SUMMARY:Contemporary Worship Service
DESCRIPTION:8:30 AM
URL:https://lcor.org/events-calendar/contemporary-worship-service-9/2031-01-05/
CATEGORIES:Worship & Music
ATTACH;FMTTYPE=image/png:https://lcor.org/wp-content/uploads/2024/11/Screenshot-2024-11-13-141206.png
END:VEVENT
BEGIN:VEVENT
DTSTART;TZID=UTC:20310112T083000
DTEND;TZID=UTC:20310112T083000
DTSTAMP:20260421T044038
CREATED:20260205T184913Z
LAST-MODIFIED:20260205T184913Z
UID:10008233-1925973000-1925973000@lcor.org
SUMMARY:Contemporary Worship Service
DESCRIPTION:8:30 AM
URL:https://lcor.org/events-calendar/contemporary-worship-service-9/2031-01-12/
CATEGORIES:Worship & Music
ATTACH;FMTTYPE=image/png:https://lcor.org/wp-content/uploads/2024/11/Screenshot-2024-11-13-141206.png
END:VEVENT
BEGIN:VEVENT
DTSTART;TZID=UTC:20310119T083000
DTEND;TZID=UTC:20310119T083000
DTSTAMP:20260421T044038
CREATED:20260205T184913Z
LAST-MODIFIED:20260205T184913Z
UID:10008234-1926577800-1926577800@lcor.org
SUMMARY:Contemporary Worship Service
DESCRIPTION:8:30 AM
URL:https://lcor.org/events-calendar/contemporary-worship-service-9/2031-01-19/
CATEGORIES:Worship & Music
ATTACH;FMTTYPE=image/png:https://lcor.org/wp-content/uploads/2024/11/Screenshot-2024-11-13-141206.png
END:VEVENT
BEGIN:VEVENT
DTSTART;TZID=UTC:20310126T083000
DTEND;TZID=UTC:20310126T083000
DTSTAMP:20260421T044038
CREATED:20260205T184913Z
LAST-MODIFIED:20260205T184913Z
UID:10008235-1927182600-1927182600@lcor.org
SUMMARY:Contemporary Worship Service
DESCRIPTION:8:30 AM
URL:https://lcor.org/events-calendar/contemporary-worship-service-9/2031-01-26/
CATEGORIES:Worship & Music
ATTACH;FMTTYPE=image/png:https://lcor.org/wp-content/uploads/2024/11/Screenshot-2024-11-13-141206.png
END:VEVENT
BEGIN:VEVENT
DTSTART;TZID=UTC:20310202T083000
DTEND;TZID=UTC:20310202T083000
DTSTAMP:20260421T044038
CREATED:20260205T184913Z
LAST-MODIFIED:20260205T184913Z
UID:10008236-1927787400-1927787400@lcor.org
SUMMARY:Contemporary Worship Service
DESCRIPTION:8:30 AM
URL:https://lcor.org/events-calendar/contemporary-worship-service-9/2031-02-02/
CATEGORIES:Worship & Music
ATTACH;FMTTYPE=image/png:https://lcor.org/wp-content/uploads/2024/11/Screenshot-2024-11-13-141206.png
END:VEVENT
END:VCALENDAR