BEGIN:VCALENDAR
VERSION:2.0
PRODID:-//Lutheran Church of Our Redeemer - ECPv6.15.20//NONSGML v1.0//EN
CALSCALE:GREGORIAN
METHOD:PUBLISH
X-ORIGINAL-URL:https://lcor.org
X-WR-CALDESC:Events for Lutheran Church of Our Redeemer
REFRESH-INTERVAL;VALUE=DURATION:PT1H
X-Robots-Tag:noindex
X-PUBLISHED-TTL:PT1H
BEGIN:VTIMEZONE
TZID:UTC
BEGIN:STANDARD
TZOFFSETFROM:+0000
TZOFFSETTO:+0000
TZNAME:UTC
DTSTART:20280101T000000
END:STANDARD
END:VTIMEZONE
BEGIN:VEVENT
DTSTART;TZID=UTC:20291202T083000
DTEND;TZID=UTC:20291202T083000
DTSTAMP:20260420T222617
CREATED:20260205T184913Z
LAST-MODIFIED:20260205T184913Z
UID:10008175-1890894600-1890894600@lcor.org
SUMMARY:Contemporary Worship Service
DESCRIPTION:8:30 AM
URL:https://lcor.org/events-calendar/contemporary-worship-service-9/2029-12-02/
CATEGORIES:Worship & Music
ATTACH;FMTTYPE=image/png:https://lcor.org/wp-content/uploads/2024/11/Screenshot-2024-11-13-141206.png
END:VEVENT
BEGIN:VEVENT
DTSTART;TZID=UTC:20291209T083000
DTEND;TZID=UTC:20291209T083000
DTSTAMP:20260420T222617
CREATED:20260205T184913Z
LAST-MODIFIED:20260205T184913Z
UID:10008176-1891499400-1891499400@lcor.org
SUMMARY:Contemporary Worship Service
DESCRIPTION:8:30 AM
URL:https://lcor.org/events-calendar/contemporary-worship-service-9/2029-12-09/
CATEGORIES:Worship & Music
ATTACH;FMTTYPE=image/png:https://lcor.org/wp-content/uploads/2024/11/Screenshot-2024-11-13-141206.png
END:VEVENT
BEGIN:VEVENT
DTSTART;TZID=UTC:20291216T083000
DTEND;TZID=UTC:20291216T083000
DTSTAMP:20260420T222617
CREATED:20260205T184913Z
LAST-MODIFIED:20260205T184913Z
UID:10008177-1892104200-1892104200@lcor.org
SUMMARY:Contemporary Worship Service
DESCRIPTION:8:30 AM
URL:https://lcor.org/events-calendar/contemporary-worship-service-9/2029-12-16/
CATEGORIES:Worship & Music
ATTACH;FMTTYPE=image/png:https://lcor.org/wp-content/uploads/2024/11/Screenshot-2024-11-13-141206.png
END:VEVENT
BEGIN:VEVENT
DTSTART;TZID=UTC:20291223T083000
DTEND;TZID=UTC:20291223T083000
DTSTAMP:20260420T222617
CREATED:20260205T184913Z
LAST-MODIFIED:20260205T184913Z
UID:10008178-1892709000-1892709000@lcor.org
SUMMARY:Contemporary Worship Service
DESCRIPTION:8:30 AM
URL:https://lcor.org/events-calendar/contemporary-worship-service-9/2029-12-23/
CATEGORIES:Worship & Music
ATTACH;FMTTYPE=image/png:https://lcor.org/wp-content/uploads/2024/11/Screenshot-2024-11-13-141206.png
END:VEVENT
BEGIN:VEVENT
DTSTART;TZID=UTC:20291230T083000
DTEND;TZID=UTC:20291230T083000
DTSTAMP:20260420T222617
CREATED:20260205T184913Z
LAST-MODIFIED:20260205T184913Z
UID:10008179-1893313800-1893313800@lcor.org
SUMMARY:Contemporary Worship Service
DESCRIPTION:8:30 AM
URL:https://lcor.org/events-calendar/contemporary-worship-service-9/2029-12-30/
CATEGORIES:Worship & Music
ATTACH;FMTTYPE=image/png:https://lcor.org/wp-content/uploads/2024/11/Screenshot-2024-11-13-141206.png
END:VEVENT
BEGIN:VEVENT
DTSTART;TZID=UTC:20300106T083000
DTEND;TZID=UTC:20300106T083000
DTSTAMP:20260420T222617
CREATED:20260205T184913Z
LAST-MODIFIED:20260205T184913Z
UID:10008180-1893918600-1893918600@lcor.org
SUMMARY:Contemporary Worship Service
DESCRIPTION:8:30 AM
URL:https://lcor.org/events-calendar/contemporary-worship-service-9/2030-01-06/
CATEGORIES:Worship & Music
ATTACH;FMTTYPE=image/png:https://lcor.org/wp-content/uploads/2024/11/Screenshot-2024-11-13-141206.png
END:VEVENT
BEGIN:VEVENT
DTSTART;TZID=UTC:20300113T083000
DTEND;TZID=UTC:20300113T083000
DTSTAMP:20260420T222617
CREATED:20260205T184913Z
LAST-MODIFIED:20260205T184913Z
UID:10008181-1894523400-1894523400@lcor.org
SUMMARY:Contemporary Worship Service
DESCRIPTION:8:30 AM
URL:https://lcor.org/events-calendar/contemporary-worship-service-9/2030-01-13/
CATEGORIES:Worship & Music
ATTACH;FMTTYPE=image/png:https://lcor.org/wp-content/uploads/2024/11/Screenshot-2024-11-13-141206.png
END:VEVENT
BEGIN:VEVENT
DTSTART;TZID=UTC:20300120T083000
DTEND;TZID=UTC:20300120T083000
DTSTAMP:20260420T222617
CREATED:20260205T184913Z
LAST-MODIFIED:20260205T184913Z
UID:10008182-1895128200-1895128200@lcor.org
SUMMARY:Contemporary Worship Service
DESCRIPTION:8:30 AM
URL:https://lcor.org/events-calendar/contemporary-worship-service-9/2030-01-20/
CATEGORIES:Worship & Music
ATTACH;FMTTYPE=image/png:https://lcor.org/wp-content/uploads/2024/11/Screenshot-2024-11-13-141206.png
END:VEVENT
BEGIN:VEVENT
DTSTART;TZID=UTC:20300127T083000
DTEND;TZID=UTC:20300127T083000
DTSTAMP:20260420T222617
CREATED:20260205T184913Z
LAST-MODIFIED:20260205T184913Z
UID:10008183-1895733000-1895733000@lcor.org
SUMMARY:Contemporary Worship Service
DESCRIPTION:8:30 AM
URL:https://lcor.org/events-calendar/contemporary-worship-service-9/2030-01-27/
CATEGORIES:Worship & Music
ATTACH;FMTTYPE=image/png:https://lcor.org/wp-content/uploads/2024/11/Screenshot-2024-11-13-141206.png
END:VEVENT
BEGIN:VEVENT
DTSTART;TZID=UTC:20300203T083000
DTEND;TZID=UTC:20300203T083000
DTSTAMP:20260420T222617
CREATED:20260205T184913Z
LAST-MODIFIED:20260205T184913Z
UID:10008184-1896337800-1896337800@lcor.org
SUMMARY:Contemporary Worship Service
DESCRIPTION:8:30 AM
URL:https://lcor.org/events-calendar/contemporary-worship-service-9/2030-02-03/
CATEGORIES:Worship & Music
ATTACH;FMTTYPE=image/png:https://lcor.org/wp-content/uploads/2024/11/Screenshot-2024-11-13-141206.png
END:VEVENT
BEGIN:VEVENT
DTSTART;TZID=UTC:20300210T083000
DTEND;TZID=UTC:20300210T083000
DTSTAMP:20260420T222617
CREATED:20260205T184913Z
LAST-MODIFIED:20260205T184913Z
UID:10008185-1896942600-1896942600@lcor.org
SUMMARY:Contemporary Worship Service
DESCRIPTION:8:30 AM
URL:https://lcor.org/events-calendar/contemporary-worship-service-9/2030-02-10/
CATEGORIES:Worship & Music
ATTACH;FMTTYPE=image/png:https://lcor.org/wp-content/uploads/2024/11/Screenshot-2024-11-13-141206.png
END:VEVENT
BEGIN:VEVENT
DTSTART;TZID=UTC:20300217T083000
DTEND;TZID=UTC:20300217T083000
DTSTAMP:20260420T222617
CREATED:20260205T184913Z
LAST-MODIFIED:20260205T184913Z
UID:10008186-1897547400-1897547400@lcor.org
SUMMARY:Contemporary Worship Service
DESCRIPTION:8:30 AM
URL:https://lcor.org/events-calendar/contemporary-worship-service-9/2030-02-17/
CATEGORIES:Worship & Music
ATTACH;FMTTYPE=image/png:https://lcor.org/wp-content/uploads/2024/11/Screenshot-2024-11-13-141206.png
END:VEVENT
BEGIN:VEVENT
DTSTART;TZID=UTC:20300224T083000
DTEND;TZID=UTC:20300224T083000
DTSTAMP:20260420T222617
CREATED:20260205T184913Z
LAST-MODIFIED:20260205T184913Z
UID:10008187-1898152200-1898152200@lcor.org
SUMMARY:Contemporary Worship Service
DESCRIPTION:8:30 AM
URL:https://lcor.org/events-calendar/contemporary-worship-service-9/2030-02-24/
CATEGORIES:Worship & Music
ATTACH;FMTTYPE=image/png:https://lcor.org/wp-content/uploads/2024/11/Screenshot-2024-11-13-141206.png
END:VEVENT
BEGIN:VEVENT
DTSTART;TZID=UTC:20300303T083000
DTEND;TZID=UTC:20300303T083000
DTSTAMP:20260420T222617
CREATED:20260205T184913Z
LAST-MODIFIED:20260205T184913Z
UID:10008188-1898757000-1898757000@lcor.org
SUMMARY:Contemporary Worship Service
DESCRIPTION:8:30 AM
URL:https://lcor.org/events-calendar/contemporary-worship-service-9/2030-03-03/
CATEGORIES:Worship & Music
ATTACH;FMTTYPE=image/png:https://lcor.org/wp-content/uploads/2024/11/Screenshot-2024-11-13-141206.png
END:VEVENT
BEGIN:VEVENT
DTSTART;TZID=UTC:20300310T083000
DTEND;TZID=UTC:20300310T083000
DTSTAMP:20260420T222617
CREATED:20260205T184913Z
LAST-MODIFIED:20260205T184913Z
UID:10008189-1899361800-1899361800@lcor.org
SUMMARY:Contemporary Worship Service
DESCRIPTION:8:30 AM
URL:https://lcor.org/events-calendar/contemporary-worship-service-9/2030-03-10/
CATEGORIES:Worship & Music
ATTACH;FMTTYPE=image/png:https://lcor.org/wp-content/uploads/2024/11/Screenshot-2024-11-13-141206.png
END:VEVENT
BEGIN:VEVENT
DTSTART;TZID=UTC:20300317T083000
DTEND;TZID=UTC:20300317T083000
DTSTAMP:20260420T222617
CREATED:20260205T184913Z
LAST-MODIFIED:20260205T184913Z
UID:10008190-1899966600-1899966600@lcor.org
SUMMARY:Contemporary Worship Service
DESCRIPTION:8:30 AM
URL:https://lcor.org/events-calendar/contemporary-worship-service-9/2030-03-17/
CATEGORIES:Worship & Music
ATTACH;FMTTYPE=image/png:https://lcor.org/wp-content/uploads/2024/11/Screenshot-2024-11-13-141206.png
END:VEVENT
BEGIN:VEVENT
DTSTART;TZID=UTC:20300324T083000
DTEND;TZID=UTC:20300324T083000
DTSTAMP:20260420T222617
CREATED:20260205T184913Z
LAST-MODIFIED:20260205T184913Z
UID:10008191-1900571400-1900571400@lcor.org
SUMMARY:Contemporary Worship Service
DESCRIPTION:8:30 AM
URL:https://lcor.org/events-calendar/contemporary-worship-service-9/2030-03-24/
CATEGORIES:Worship & Music
ATTACH;FMTTYPE=image/png:https://lcor.org/wp-content/uploads/2024/11/Screenshot-2024-11-13-141206.png
END:VEVENT
BEGIN:VEVENT
DTSTART;TZID=UTC:20300331T083000
DTEND;TZID=UTC:20300331T083000
DTSTAMP:20260420T222617
CREATED:20260205T184913Z
LAST-MODIFIED:20260205T184913Z
UID:10008192-1901176200-1901176200@lcor.org
SUMMARY:Contemporary Worship Service
DESCRIPTION:8:30 AM
URL:https://lcor.org/events-calendar/contemporary-worship-service-9/2030-03-31/
CATEGORIES:Worship & Music
ATTACH;FMTTYPE=image/png:https://lcor.org/wp-content/uploads/2024/11/Screenshot-2024-11-13-141206.png
END:VEVENT
BEGIN:VEVENT
DTSTART;TZID=UTC:20300407T083000
DTEND;TZID=UTC:20300407T083000
DTSTAMP:20260420T222617
CREATED:20260205T184913Z
LAST-MODIFIED:20260205T184913Z
UID:10008193-1901781000-1901781000@lcor.org
SUMMARY:Contemporary Worship Service
DESCRIPTION:8:30 AM
URL:https://lcor.org/events-calendar/contemporary-worship-service-9/2030-04-07/
CATEGORIES:Worship & Music
ATTACH;FMTTYPE=image/png:https://lcor.org/wp-content/uploads/2024/11/Screenshot-2024-11-13-141206.png
END:VEVENT
BEGIN:VEVENT
DTSTART;TZID=UTC:20300414T083000
DTEND;TZID=UTC:20300414T083000
DTSTAMP:20260420T222617
CREATED:20260205T184913Z
LAST-MODIFIED:20260205T184913Z
UID:10008194-1902385800-1902385800@lcor.org
SUMMARY:Contemporary Worship Service
DESCRIPTION:8:30 AM
URL:https://lcor.org/events-calendar/contemporary-worship-service-9/2030-04-14/
CATEGORIES:Worship & Music
ATTACH;FMTTYPE=image/png:https://lcor.org/wp-content/uploads/2024/11/Screenshot-2024-11-13-141206.png
END:VEVENT
BEGIN:VEVENT
DTSTART;TZID=UTC:20300421T083000
DTEND;TZID=UTC:20300421T083000
DTSTAMP:20260420T222617
CREATED:20260205T184913Z
LAST-MODIFIED:20260205T184913Z
UID:10008195-1902990600-1902990600@lcor.org
SUMMARY:Contemporary Worship Service
DESCRIPTION:8:30 AM
URL:https://lcor.org/events-calendar/contemporary-worship-service-9/2030-04-21/
CATEGORIES:Worship & Music
ATTACH;FMTTYPE=image/png:https://lcor.org/wp-content/uploads/2024/11/Screenshot-2024-11-13-141206.png
END:VEVENT
BEGIN:VEVENT
DTSTART;TZID=UTC:20300428T083000
DTEND;TZID=UTC:20300428T083000
DTSTAMP:20260420T222617
CREATED:20260205T184913Z
LAST-MODIFIED:20260205T184913Z
UID:10008196-1903595400-1903595400@lcor.org
SUMMARY:Contemporary Worship Service
DESCRIPTION:8:30 AM
URL:https://lcor.org/events-calendar/contemporary-worship-service-9/2030-04-28/
CATEGORIES:Worship & Music
ATTACH;FMTTYPE=image/png:https://lcor.org/wp-content/uploads/2024/11/Screenshot-2024-11-13-141206.png
END:VEVENT
BEGIN:VEVENT
DTSTART;TZID=UTC:20300505T083000
DTEND;TZID=UTC:20300505T083000
DTSTAMP:20260420T222617
CREATED:20260205T184913Z
LAST-MODIFIED:20260205T184913Z
UID:10008197-1904200200-1904200200@lcor.org
SUMMARY:Contemporary Worship Service
DESCRIPTION:8:30 AM
URL:https://lcor.org/events-calendar/contemporary-worship-service-9/2030-05-05/
CATEGORIES:Worship & Music
ATTACH;FMTTYPE=image/png:https://lcor.org/wp-content/uploads/2024/11/Screenshot-2024-11-13-141206.png
END:VEVENT
BEGIN:VEVENT
DTSTART;TZID=UTC:20300512T083000
DTEND;TZID=UTC:20300512T083000
DTSTAMP:20260420T222617
CREATED:20260205T184913Z
LAST-MODIFIED:20260205T184913Z
UID:10008198-1904805000-1904805000@lcor.org
SUMMARY:Contemporary Worship Service
DESCRIPTION:8:30 AM
URL:https://lcor.org/events-calendar/contemporary-worship-service-9/2030-05-12/
CATEGORIES:Worship & Music
ATTACH;FMTTYPE=image/png:https://lcor.org/wp-content/uploads/2024/11/Screenshot-2024-11-13-141206.png
END:VEVENT
BEGIN:VEVENT
DTSTART;TZID=UTC:20300519T083000
DTEND;TZID=UTC:20300519T083000
DTSTAMP:20260420T222617
CREATED:20260205T184913Z
LAST-MODIFIED:20260205T184913Z
UID:10008199-1905409800-1905409800@lcor.org
SUMMARY:Contemporary Worship Service
DESCRIPTION:8:30 AM
URL:https://lcor.org/events-calendar/contemporary-worship-service-9/2030-05-19/
CATEGORIES:Worship & Music
ATTACH;FMTTYPE=image/png:https://lcor.org/wp-content/uploads/2024/11/Screenshot-2024-11-13-141206.png
END:VEVENT
BEGIN:VEVENT
DTSTART;TZID=UTC:20300526T083000
DTEND;TZID=UTC:20300526T083000
DTSTAMP:20260420T222617
CREATED:20260205T184913Z
LAST-MODIFIED:20260205T184913Z
UID:10008200-1906014600-1906014600@lcor.org
SUMMARY:Contemporary Worship Service
DESCRIPTION:8:30 AM
URL:https://lcor.org/events-calendar/contemporary-worship-service-9/2030-05-26/
CATEGORIES:Worship & Music
ATTACH;FMTTYPE=image/png:https://lcor.org/wp-content/uploads/2024/11/Screenshot-2024-11-13-141206.png
END:VEVENT
BEGIN:VEVENT
DTSTART;TZID=UTC:20300602T083000
DTEND;TZID=UTC:20300602T083000
DTSTAMP:20260420T222617
CREATED:20260205T184913Z
LAST-MODIFIED:20260205T184913Z
UID:10008201-1906619400-1906619400@lcor.org
SUMMARY:Contemporary Worship Service
DESCRIPTION:8:30 AM
URL:https://lcor.org/events-calendar/contemporary-worship-service-9/2030-06-02/
CATEGORIES:Worship & Music
ATTACH;FMTTYPE=image/png:https://lcor.org/wp-content/uploads/2024/11/Screenshot-2024-11-13-141206.png
END:VEVENT
BEGIN:VEVENT
DTSTART;TZID=UTC:20300609T083000
DTEND;TZID=UTC:20300609T083000
DTSTAMP:20260420T222617
CREATED:20260205T184913Z
LAST-MODIFIED:20260205T184913Z
UID:10008202-1907224200-1907224200@lcor.org
SUMMARY:Contemporary Worship Service
DESCRIPTION:8:30 AM
URL:https://lcor.org/events-calendar/contemporary-worship-service-9/2030-06-09/
CATEGORIES:Worship & Music
ATTACH;FMTTYPE=image/png:https://lcor.org/wp-content/uploads/2024/11/Screenshot-2024-11-13-141206.png
END:VEVENT
BEGIN:VEVENT
DTSTART;TZID=UTC:20300616T083000
DTEND;TZID=UTC:20300616T083000
DTSTAMP:20260420T222617
CREATED:20260205T184913Z
LAST-MODIFIED:20260205T184913Z
UID:10008203-1907829000-1907829000@lcor.org
SUMMARY:Contemporary Worship Service
DESCRIPTION:8:30 AM
URL:https://lcor.org/events-calendar/contemporary-worship-service-9/2030-06-16/
CATEGORIES:Worship & Music
ATTACH;FMTTYPE=image/png:https://lcor.org/wp-content/uploads/2024/11/Screenshot-2024-11-13-141206.png
END:VEVENT
BEGIN:VEVENT
DTSTART;TZID=UTC:20300623T083000
DTEND;TZID=UTC:20300623T083000
DTSTAMP:20260420T222617
CREATED:20260205T184913Z
LAST-MODIFIED:20260205T184913Z
UID:10008204-1908433800-1908433800@lcor.org
SUMMARY:Contemporary Worship Service
DESCRIPTION:8:30 AM
URL:https://lcor.org/events-calendar/contemporary-worship-service-9/2030-06-23/
CATEGORIES:Worship & Music
ATTACH;FMTTYPE=image/png:https://lcor.org/wp-content/uploads/2024/11/Screenshot-2024-11-13-141206.png
END:VEVENT
END:VCALENDAR