BEGIN:VCALENDAR
VERSION:2.0
PRODID:-//Lutheran Church of Our Redeemer - ECPv6.15.20//NONSGML v1.0//EN
CALSCALE:GREGORIAN
METHOD:PUBLISH
X-WR-CALNAME:Lutheran Church of Our Redeemer
X-ORIGINAL-URL:https://lcor.org
X-WR-CALDESC:Events for Lutheran Church of Our Redeemer
REFRESH-INTERVAL;VALUE=DURATION:PT1H
X-Robots-Tag:noindex
X-PUBLISHED-TTL:PT1H
BEGIN:VTIMEZONE
TZID:UTC
BEGIN:STANDARD
TZOFFSETFROM:+0000
TZOFFSETTO:+0000
TZNAME:UTC
DTSTART:20280101T000000
END:STANDARD
END:VTIMEZONE
BEGIN:VEVENT
DTSTART;TZID=UTC:20290617T083000
DTEND;TZID=UTC:20290617T083000
DTSTAMP:20260420T172707
CREATED:20260205T184913Z
LAST-MODIFIED:20260205T184913Z
UID:10008151-1876379400-1876379400@lcor.org
SUMMARY:Contemporary Worship Service
DESCRIPTION:8:30 AM
URL:https://lcor.org/events-calendar/contemporary-worship-service-9/2029-06-17/
CATEGORIES:Worship & Music
ATTACH;FMTTYPE=image/png:https://lcor.org/wp-content/uploads/2024/11/Screenshot-2024-11-13-141206.png
END:VEVENT
BEGIN:VEVENT
DTSTART;TZID=UTC:20290624T083000
DTEND;TZID=UTC:20290624T083000
DTSTAMP:20260420T172707
CREATED:20260205T184913Z
LAST-MODIFIED:20260205T184913Z
UID:10008152-1876984200-1876984200@lcor.org
SUMMARY:Contemporary Worship Service
DESCRIPTION:8:30 AM
URL:https://lcor.org/events-calendar/contemporary-worship-service-9/2029-06-24/
CATEGORIES:Worship & Music
ATTACH;FMTTYPE=image/png:https://lcor.org/wp-content/uploads/2024/11/Screenshot-2024-11-13-141206.png
END:VEVENT
BEGIN:VEVENT
DTSTART;TZID=UTC:20290701T083000
DTEND;TZID=UTC:20290701T083000
DTSTAMP:20260420T172707
CREATED:20260205T184913Z
LAST-MODIFIED:20260205T184913Z
UID:10008153-1877589000-1877589000@lcor.org
SUMMARY:Contemporary Worship Service
DESCRIPTION:8:30 AM
URL:https://lcor.org/events-calendar/contemporary-worship-service-9/2029-07-01/
CATEGORIES:Worship & Music
ATTACH;FMTTYPE=image/png:https://lcor.org/wp-content/uploads/2024/11/Screenshot-2024-11-13-141206.png
END:VEVENT
BEGIN:VEVENT
DTSTART;TZID=UTC:20290708T083000
DTEND;TZID=UTC:20290708T083000
DTSTAMP:20260420T172707
CREATED:20260205T184913Z
LAST-MODIFIED:20260205T184913Z
UID:10008154-1878193800-1878193800@lcor.org
SUMMARY:Contemporary Worship Service
DESCRIPTION:8:30 AM
URL:https://lcor.org/events-calendar/contemporary-worship-service-9/2029-07-08/
CATEGORIES:Worship & Music
ATTACH;FMTTYPE=image/png:https://lcor.org/wp-content/uploads/2024/11/Screenshot-2024-11-13-141206.png
END:VEVENT
BEGIN:VEVENT
DTSTART;TZID=UTC:20290715T083000
DTEND;TZID=UTC:20290715T083000
DTSTAMP:20260420T172707
CREATED:20260205T184913Z
LAST-MODIFIED:20260205T184913Z
UID:10008155-1878798600-1878798600@lcor.org
SUMMARY:Contemporary Worship Service
DESCRIPTION:8:30 AM
URL:https://lcor.org/events-calendar/contemporary-worship-service-9/2029-07-15/
CATEGORIES:Worship & Music
ATTACH;FMTTYPE=image/png:https://lcor.org/wp-content/uploads/2024/11/Screenshot-2024-11-13-141206.png
END:VEVENT
BEGIN:VEVENT
DTSTART;TZID=UTC:20290722T083000
DTEND;TZID=UTC:20290722T083000
DTSTAMP:20260420T172707
CREATED:20260205T184913Z
LAST-MODIFIED:20260205T184913Z
UID:10008156-1879403400-1879403400@lcor.org
SUMMARY:Contemporary Worship Service
DESCRIPTION:8:30 AM
URL:https://lcor.org/events-calendar/contemporary-worship-service-9/2029-07-22/
CATEGORIES:Worship & Music
ATTACH;FMTTYPE=image/png:https://lcor.org/wp-content/uploads/2024/11/Screenshot-2024-11-13-141206.png
END:VEVENT
BEGIN:VEVENT
DTSTART;TZID=UTC:20290729T083000
DTEND;TZID=UTC:20290729T083000
DTSTAMP:20260420T172707
CREATED:20260205T184913Z
LAST-MODIFIED:20260205T184913Z
UID:10008157-1880008200-1880008200@lcor.org
SUMMARY:Contemporary Worship Service
DESCRIPTION:8:30 AM
URL:https://lcor.org/events-calendar/contemporary-worship-service-9/2029-07-29/
CATEGORIES:Worship & Music
ATTACH;FMTTYPE=image/png:https://lcor.org/wp-content/uploads/2024/11/Screenshot-2024-11-13-141206.png
END:VEVENT
BEGIN:VEVENT
DTSTART;TZID=UTC:20290805T083000
DTEND;TZID=UTC:20290805T083000
DTSTAMP:20260420T172707
CREATED:20260205T184913Z
LAST-MODIFIED:20260205T184913Z
UID:10008158-1880613000-1880613000@lcor.org
SUMMARY:Contemporary Worship Service
DESCRIPTION:8:30 AM
URL:https://lcor.org/events-calendar/contemporary-worship-service-9/2029-08-05/
CATEGORIES:Worship & Music
ATTACH;FMTTYPE=image/png:https://lcor.org/wp-content/uploads/2024/11/Screenshot-2024-11-13-141206.png
END:VEVENT
BEGIN:VEVENT
DTSTART;TZID=UTC:20290812T083000
DTEND;TZID=UTC:20290812T083000
DTSTAMP:20260420T172707
CREATED:20260205T184913Z
LAST-MODIFIED:20260205T184913Z
UID:10008159-1881217800-1881217800@lcor.org
SUMMARY:Contemporary Worship Service
DESCRIPTION:8:30 AM
URL:https://lcor.org/events-calendar/contemporary-worship-service-9/2029-08-12/
CATEGORIES:Worship & Music
ATTACH;FMTTYPE=image/png:https://lcor.org/wp-content/uploads/2024/11/Screenshot-2024-11-13-141206.png
END:VEVENT
BEGIN:VEVENT
DTSTART;TZID=UTC:20290819T083000
DTEND;TZID=UTC:20290819T083000
DTSTAMP:20260420T172707
CREATED:20260205T184913Z
LAST-MODIFIED:20260205T184913Z
UID:10008160-1881822600-1881822600@lcor.org
SUMMARY:Contemporary Worship Service
DESCRIPTION:8:30 AM
URL:https://lcor.org/events-calendar/contemporary-worship-service-9/2029-08-19/
CATEGORIES:Worship & Music
ATTACH;FMTTYPE=image/png:https://lcor.org/wp-content/uploads/2024/11/Screenshot-2024-11-13-141206.png
END:VEVENT
BEGIN:VEVENT
DTSTART;TZID=UTC:20290826T083000
DTEND;TZID=UTC:20290826T083000
DTSTAMP:20260420T172707
CREATED:20260205T184913Z
LAST-MODIFIED:20260205T184913Z
UID:10008161-1882427400-1882427400@lcor.org
SUMMARY:Contemporary Worship Service
DESCRIPTION:8:30 AM
URL:https://lcor.org/events-calendar/contemporary-worship-service-9/2029-08-26/
CATEGORIES:Worship & Music
ATTACH;FMTTYPE=image/png:https://lcor.org/wp-content/uploads/2024/11/Screenshot-2024-11-13-141206.png
END:VEVENT
BEGIN:VEVENT
DTSTART;TZID=UTC:20290902T083000
DTEND;TZID=UTC:20290902T083000
DTSTAMP:20260420T172707
CREATED:20260205T184913Z
LAST-MODIFIED:20260205T184913Z
UID:10008162-1883032200-1883032200@lcor.org
SUMMARY:Contemporary Worship Service
DESCRIPTION:8:30 AM
URL:https://lcor.org/events-calendar/contemporary-worship-service-9/2029-09-02/
CATEGORIES:Worship & Music
ATTACH;FMTTYPE=image/png:https://lcor.org/wp-content/uploads/2024/11/Screenshot-2024-11-13-141206.png
END:VEVENT
BEGIN:VEVENT
DTSTART;TZID=UTC:20290909T083000
DTEND;TZID=UTC:20290909T083000
DTSTAMP:20260420T172707
CREATED:20260205T184913Z
LAST-MODIFIED:20260205T184913Z
UID:10008163-1883637000-1883637000@lcor.org
SUMMARY:Contemporary Worship Service
DESCRIPTION:8:30 AM
URL:https://lcor.org/events-calendar/contemporary-worship-service-9/2029-09-09/
CATEGORIES:Worship & Music
ATTACH;FMTTYPE=image/png:https://lcor.org/wp-content/uploads/2024/11/Screenshot-2024-11-13-141206.png
END:VEVENT
BEGIN:VEVENT
DTSTART;TZID=UTC:20290916T083000
DTEND;TZID=UTC:20290916T083000
DTSTAMP:20260420T172707
CREATED:20260205T184913Z
LAST-MODIFIED:20260205T184913Z
UID:10008164-1884241800-1884241800@lcor.org
SUMMARY:Contemporary Worship Service
DESCRIPTION:8:30 AM
URL:https://lcor.org/events-calendar/contemporary-worship-service-9/2029-09-16/
CATEGORIES:Worship & Music
ATTACH;FMTTYPE=image/png:https://lcor.org/wp-content/uploads/2024/11/Screenshot-2024-11-13-141206.png
END:VEVENT
BEGIN:VEVENT
DTSTART;TZID=UTC:20290923T083000
DTEND;TZID=UTC:20290923T083000
DTSTAMP:20260420T172707
CREATED:20260205T184913Z
LAST-MODIFIED:20260205T184913Z
UID:10008165-1884846600-1884846600@lcor.org
SUMMARY:Contemporary Worship Service
DESCRIPTION:8:30 AM
URL:https://lcor.org/events-calendar/contemporary-worship-service-9/2029-09-23/
CATEGORIES:Worship & Music
ATTACH;FMTTYPE=image/png:https://lcor.org/wp-content/uploads/2024/11/Screenshot-2024-11-13-141206.png
END:VEVENT
BEGIN:VEVENT
DTSTART;TZID=UTC:20290930T083000
DTEND;TZID=UTC:20290930T083000
DTSTAMP:20260420T172707
CREATED:20260205T184913Z
LAST-MODIFIED:20260205T184913Z
UID:10008166-1885451400-1885451400@lcor.org
SUMMARY:Contemporary Worship Service
DESCRIPTION:8:30 AM
URL:https://lcor.org/events-calendar/contemporary-worship-service-9/2029-09-30/
CATEGORIES:Worship & Music
ATTACH;FMTTYPE=image/png:https://lcor.org/wp-content/uploads/2024/11/Screenshot-2024-11-13-141206.png
END:VEVENT
BEGIN:VEVENT
DTSTART;TZID=UTC:20291007T083000
DTEND;TZID=UTC:20291007T083000
DTSTAMP:20260420T172707
CREATED:20260205T184913Z
LAST-MODIFIED:20260205T184913Z
UID:10008167-1886056200-1886056200@lcor.org
SUMMARY:Contemporary Worship Service
DESCRIPTION:8:30 AM
URL:https://lcor.org/events-calendar/contemporary-worship-service-9/2029-10-07/
CATEGORIES:Worship & Music
ATTACH;FMTTYPE=image/png:https://lcor.org/wp-content/uploads/2024/11/Screenshot-2024-11-13-141206.png
END:VEVENT
BEGIN:VEVENT
DTSTART;TZID=UTC:20291014T083000
DTEND;TZID=UTC:20291014T083000
DTSTAMP:20260420T172707
CREATED:20260205T184913Z
LAST-MODIFIED:20260205T184913Z
UID:10008168-1886661000-1886661000@lcor.org
SUMMARY:Contemporary Worship Service
DESCRIPTION:8:30 AM
URL:https://lcor.org/events-calendar/contemporary-worship-service-9/2029-10-14/
CATEGORIES:Worship & Music
ATTACH;FMTTYPE=image/png:https://lcor.org/wp-content/uploads/2024/11/Screenshot-2024-11-13-141206.png
END:VEVENT
BEGIN:VEVENT
DTSTART;TZID=UTC:20291021T083000
DTEND;TZID=UTC:20291021T083000
DTSTAMP:20260420T172707
CREATED:20260205T184913Z
LAST-MODIFIED:20260205T184913Z
UID:10008169-1887265800-1887265800@lcor.org
SUMMARY:Contemporary Worship Service
DESCRIPTION:8:30 AM
URL:https://lcor.org/events-calendar/contemporary-worship-service-9/2029-10-21/
CATEGORIES:Worship & Music
ATTACH;FMTTYPE=image/png:https://lcor.org/wp-content/uploads/2024/11/Screenshot-2024-11-13-141206.png
END:VEVENT
BEGIN:VEVENT
DTSTART;TZID=UTC:20291028T083000
DTEND;TZID=UTC:20291028T083000
DTSTAMP:20260420T172707
CREATED:20260205T184913Z
LAST-MODIFIED:20260205T184913Z
UID:10008170-1887870600-1887870600@lcor.org
SUMMARY:Contemporary Worship Service
DESCRIPTION:8:30 AM
URL:https://lcor.org/events-calendar/contemporary-worship-service-9/2029-10-28/
CATEGORIES:Worship & Music
ATTACH;FMTTYPE=image/png:https://lcor.org/wp-content/uploads/2024/11/Screenshot-2024-11-13-141206.png
END:VEVENT
BEGIN:VEVENT
DTSTART;TZID=UTC:20291104T083000
DTEND;TZID=UTC:20291104T083000
DTSTAMP:20260420T172707
CREATED:20260205T184913Z
LAST-MODIFIED:20260205T184913Z
UID:10008171-1888475400-1888475400@lcor.org
SUMMARY:Contemporary Worship Service
DESCRIPTION:8:30 AM
URL:https://lcor.org/events-calendar/contemporary-worship-service-9/2029-11-04/
CATEGORIES:Worship & Music
ATTACH;FMTTYPE=image/png:https://lcor.org/wp-content/uploads/2024/11/Screenshot-2024-11-13-141206.png
END:VEVENT
BEGIN:VEVENT
DTSTART;TZID=UTC:20291111T083000
DTEND;TZID=UTC:20291111T083000
DTSTAMP:20260420T172707
CREATED:20260205T184913Z
LAST-MODIFIED:20260205T184913Z
UID:10008172-1889080200-1889080200@lcor.org
SUMMARY:Contemporary Worship Service
DESCRIPTION:8:30 AM
URL:https://lcor.org/events-calendar/contemporary-worship-service-9/2029-11-11/
CATEGORIES:Worship & Music
ATTACH;FMTTYPE=image/png:https://lcor.org/wp-content/uploads/2024/11/Screenshot-2024-11-13-141206.png
END:VEVENT
BEGIN:VEVENT
DTSTART;TZID=UTC:20291118T083000
DTEND;TZID=UTC:20291118T083000
DTSTAMP:20260420T172707
CREATED:20260205T184913Z
LAST-MODIFIED:20260205T184913Z
UID:10008173-1889685000-1889685000@lcor.org
SUMMARY:Contemporary Worship Service
DESCRIPTION:8:30 AM
URL:https://lcor.org/events-calendar/contemporary-worship-service-9/2029-11-18/
CATEGORIES:Worship & Music
ATTACH;FMTTYPE=image/png:https://lcor.org/wp-content/uploads/2024/11/Screenshot-2024-11-13-141206.png
END:VEVENT
BEGIN:VEVENT
DTSTART;TZID=UTC:20291125T083000
DTEND;TZID=UTC:20291125T083000
DTSTAMP:20260420T172707
CREATED:20260205T184913Z
LAST-MODIFIED:20260205T184913Z
UID:10008174-1890289800-1890289800@lcor.org
SUMMARY:Contemporary Worship Service
DESCRIPTION:8:30 AM
URL:https://lcor.org/events-calendar/contemporary-worship-service-9/2029-11-25/
CATEGORIES:Worship & Music
ATTACH;FMTTYPE=image/png:https://lcor.org/wp-content/uploads/2024/11/Screenshot-2024-11-13-141206.png
END:VEVENT
BEGIN:VEVENT
DTSTART;TZID=UTC:20291202T083000
DTEND;TZID=UTC:20291202T083000
DTSTAMP:20260420T172707
CREATED:20260205T184913Z
LAST-MODIFIED:20260205T184913Z
UID:10008175-1890894600-1890894600@lcor.org
SUMMARY:Contemporary Worship Service
DESCRIPTION:8:30 AM
URL:https://lcor.org/events-calendar/contemporary-worship-service-9/2029-12-02/
CATEGORIES:Worship & Music
ATTACH;FMTTYPE=image/png:https://lcor.org/wp-content/uploads/2024/11/Screenshot-2024-11-13-141206.png
END:VEVENT
BEGIN:VEVENT
DTSTART;TZID=UTC:20291209T083000
DTEND;TZID=UTC:20291209T083000
DTSTAMP:20260420T172707
CREATED:20260205T184913Z
LAST-MODIFIED:20260205T184913Z
UID:10008176-1891499400-1891499400@lcor.org
SUMMARY:Contemporary Worship Service
DESCRIPTION:8:30 AM
URL:https://lcor.org/events-calendar/contemporary-worship-service-9/2029-12-09/
CATEGORIES:Worship & Music
ATTACH;FMTTYPE=image/png:https://lcor.org/wp-content/uploads/2024/11/Screenshot-2024-11-13-141206.png
END:VEVENT
BEGIN:VEVENT
DTSTART;TZID=UTC:20291216T083000
DTEND;TZID=UTC:20291216T083000
DTSTAMP:20260420T172707
CREATED:20260205T184913Z
LAST-MODIFIED:20260205T184913Z
UID:10008177-1892104200-1892104200@lcor.org
SUMMARY:Contemporary Worship Service
DESCRIPTION:8:30 AM
URL:https://lcor.org/events-calendar/contemporary-worship-service-9/2029-12-16/
CATEGORIES:Worship & Music
ATTACH;FMTTYPE=image/png:https://lcor.org/wp-content/uploads/2024/11/Screenshot-2024-11-13-141206.png
END:VEVENT
BEGIN:VEVENT
DTSTART;TZID=UTC:20291223T083000
DTEND;TZID=UTC:20291223T083000
DTSTAMP:20260420T172707
CREATED:20260205T184913Z
LAST-MODIFIED:20260205T184913Z
UID:10008178-1892709000-1892709000@lcor.org
SUMMARY:Contemporary Worship Service
DESCRIPTION:8:30 AM
URL:https://lcor.org/events-calendar/contemporary-worship-service-9/2029-12-23/
CATEGORIES:Worship & Music
ATTACH;FMTTYPE=image/png:https://lcor.org/wp-content/uploads/2024/11/Screenshot-2024-11-13-141206.png
END:VEVENT
BEGIN:VEVENT
DTSTART;TZID=UTC:20291230T083000
DTEND;TZID=UTC:20291230T083000
DTSTAMP:20260420T172707
CREATED:20260205T184913Z
LAST-MODIFIED:20260205T184913Z
UID:10008179-1893313800-1893313800@lcor.org
SUMMARY:Contemporary Worship Service
DESCRIPTION:8:30 AM
URL:https://lcor.org/events-calendar/contemporary-worship-service-9/2029-12-30/
CATEGORIES:Worship & Music
ATTACH;FMTTYPE=image/png:https://lcor.org/wp-content/uploads/2024/11/Screenshot-2024-11-13-141206.png
END:VEVENT
BEGIN:VEVENT
DTSTART;TZID=UTC:20300106T083000
DTEND;TZID=UTC:20300106T083000
DTSTAMP:20260420T172707
CREATED:20260205T184913Z
LAST-MODIFIED:20260205T184913Z
UID:10008180-1893918600-1893918600@lcor.org
SUMMARY:Contemporary Worship Service
DESCRIPTION:8:30 AM
URL:https://lcor.org/events-calendar/contemporary-worship-service-9/2030-01-06/
CATEGORIES:Worship & Music
ATTACH;FMTTYPE=image/png:https://lcor.org/wp-content/uploads/2024/11/Screenshot-2024-11-13-141206.png
END:VEVENT
END:VCALENDAR