BEGIN:VCALENDAR
VERSION:2.0
PRODID:-//Lutheran Church of Our Redeemer - ECPv6.15.20//NONSGML v1.0//EN
CALSCALE:GREGORIAN
METHOD:PUBLISH
X-ORIGINAL-URL:https://lcor.org
X-WR-CALDESC:Events for Lutheran Church of Our Redeemer
REFRESH-INTERVAL;VALUE=DURATION:PT1H
X-Robots-Tag:noindex
X-PUBLISHED-TTL:PT1H
BEGIN:VTIMEZONE
TZID:UTC
BEGIN:STANDARD
TZOFFSETFROM:+0000
TZOFFSETTO:+0000
TZNAME:UTC
DTSTART:20270101T000000
END:STANDARD
END:VTIMEZONE
BEGIN:VEVENT
DTSTART;TZID=UTC:20281231T083000
DTEND;TZID=UTC:20281231T083000
DTSTAMP:20260420T155654
CREATED:20260205T184913Z
LAST-MODIFIED:20260205T184913Z
UID:10008127-1861864200-1861864200@lcor.org
SUMMARY:Contemporary Worship Service
DESCRIPTION:8:30 AM
URL:https://lcor.org/events-calendar/contemporary-worship-service-9/2028-12-31/
CATEGORIES:Worship & Music
ATTACH;FMTTYPE=image/png:https://lcor.org/wp-content/uploads/2024/11/Screenshot-2024-11-13-141206.png
END:VEVENT
BEGIN:VEVENT
DTSTART;TZID=UTC:20290107T083000
DTEND;TZID=UTC:20290107T083000
DTSTAMP:20260420T155654
CREATED:20260205T184913Z
LAST-MODIFIED:20260205T184913Z
UID:10008128-1862469000-1862469000@lcor.org
SUMMARY:Contemporary Worship Service
DESCRIPTION:8:30 AM
URL:https://lcor.org/events-calendar/contemporary-worship-service-9/2029-01-07/
CATEGORIES:Worship & Music
ATTACH;FMTTYPE=image/png:https://lcor.org/wp-content/uploads/2024/11/Screenshot-2024-11-13-141206.png
END:VEVENT
BEGIN:VEVENT
DTSTART;TZID=UTC:20290114T083000
DTEND;TZID=UTC:20290114T083000
DTSTAMP:20260420T155654
CREATED:20260205T184913Z
LAST-MODIFIED:20260205T184913Z
UID:10008129-1863073800-1863073800@lcor.org
SUMMARY:Contemporary Worship Service
DESCRIPTION:8:30 AM
URL:https://lcor.org/events-calendar/contemporary-worship-service-9/2029-01-14/
CATEGORIES:Worship & Music
ATTACH;FMTTYPE=image/png:https://lcor.org/wp-content/uploads/2024/11/Screenshot-2024-11-13-141206.png
END:VEVENT
BEGIN:VEVENT
DTSTART;TZID=UTC:20290121T083000
DTEND;TZID=UTC:20290121T083000
DTSTAMP:20260420T155654
CREATED:20260205T184913Z
LAST-MODIFIED:20260205T184913Z
UID:10008130-1863678600-1863678600@lcor.org
SUMMARY:Contemporary Worship Service
DESCRIPTION:8:30 AM
URL:https://lcor.org/events-calendar/contemporary-worship-service-9/2029-01-21/
CATEGORIES:Worship & Music
ATTACH;FMTTYPE=image/png:https://lcor.org/wp-content/uploads/2024/11/Screenshot-2024-11-13-141206.png
END:VEVENT
BEGIN:VEVENT
DTSTART;TZID=UTC:20290128T083000
DTEND;TZID=UTC:20290128T083000
DTSTAMP:20260420T155654
CREATED:20260205T184913Z
LAST-MODIFIED:20260205T184913Z
UID:10008131-1864283400-1864283400@lcor.org
SUMMARY:Contemporary Worship Service
DESCRIPTION:8:30 AM
URL:https://lcor.org/events-calendar/contemporary-worship-service-9/2029-01-28/
CATEGORIES:Worship & Music
ATTACH;FMTTYPE=image/png:https://lcor.org/wp-content/uploads/2024/11/Screenshot-2024-11-13-141206.png
END:VEVENT
BEGIN:VEVENT
DTSTART;TZID=UTC:20290204T083000
DTEND;TZID=UTC:20290204T083000
DTSTAMP:20260420T155654
CREATED:20260205T184913Z
LAST-MODIFIED:20260205T184913Z
UID:10008132-1864888200-1864888200@lcor.org
SUMMARY:Contemporary Worship Service
DESCRIPTION:8:30 AM
URL:https://lcor.org/events-calendar/contemporary-worship-service-9/2029-02-04/
CATEGORIES:Worship & Music
ATTACH;FMTTYPE=image/png:https://lcor.org/wp-content/uploads/2024/11/Screenshot-2024-11-13-141206.png
END:VEVENT
BEGIN:VEVENT
DTSTART;TZID=UTC:20290211T083000
DTEND;TZID=UTC:20290211T083000
DTSTAMP:20260420T155654
CREATED:20260205T184913Z
LAST-MODIFIED:20260205T184913Z
UID:10008133-1865493000-1865493000@lcor.org
SUMMARY:Contemporary Worship Service
DESCRIPTION:8:30 AM
URL:https://lcor.org/events-calendar/contemporary-worship-service-9/2029-02-11/
CATEGORIES:Worship & Music
ATTACH;FMTTYPE=image/png:https://lcor.org/wp-content/uploads/2024/11/Screenshot-2024-11-13-141206.png
END:VEVENT
BEGIN:VEVENT
DTSTART;TZID=UTC:20290218T083000
DTEND;TZID=UTC:20290218T083000
DTSTAMP:20260420T155654
CREATED:20260205T184913Z
LAST-MODIFIED:20260205T184913Z
UID:10008134-1866097800-1866097800@lcor.org
SUMMARY:Contemporary Worship Service
DESCRIPTION:8:30 AM
URL:https://lcor.org/events-calendar/contemporary-worship-service-9/2029-02-18/
CATEGORIES:Worship & Music
ATTACH;FMTTYPE=image/png:https://lcor.org/wp-content/uploads/2024/11/Screenshot-2024-11-13-141206.png
END:VEVENT
BEGIN:VEVENT
DTSTART;TZID=UTC:20290225T083000
DTEND;TZID=UTC:20290225T083000
DTSTAMP:20260420T155654
CREATED:20260205T184913Z
LAST-MODIFIED:20260205T184913Z
UID:10008135-1866702600-1866702600@lcor.org
SUMMARY:Contemporary Worship Service
DESCRIPTION:8:30 AM
URL:https://lcor.org/events-calendar/contemporary-worship-service-9/2029-02-25/
CATEGORIES:Worship & Music
ATTACH;FMTTYPE=image/png:https://lcor.org/wp-content/uploads/2024/11/Screenshot-2024-11-13-141206.png
END:VEVENT
BEGIN:VEVENT
DTSTART;TZID=UTC:20290304T083000
DTEND;TZID=UTC:20290304T083000
DTSTAMP:20260420T155654
CREATED:20260205T184913Z
LAST-MODIFIED:20260205T184913Z
UID:10008136-1867307400-1867307400@lcor.org
SUMMARY:Contemporary Worship Service
DESCRIPTION:8:30 AM
URL:https://lcor.org/events-calendar/contemporary-worship-service-9/2029-03-04/
CATEGORIES:Worship & Music
ATTACH;FMTTYPE=image/png:https://lcor.org/wp-content/uploads/2024/11/Screenshot-2024-11-13-141206.png
END:VEVENT
BEGIN:VEVENT
DTSTART;TZID=UTC:20290311T083000
DTEND;TZID=UTC:20290311T083000
DTSTAMP:20260420T155654
CREATED:20260205T184913Z
LAST-MODIFIED:20260205T184913Z
UID:10008137-1867912200-1867912200@lcor.org
SUMMARY:Contemporary Worship Service
DESCRIPTION:8:30 AM
URL:https://lcor.org/events-calendar/contemporary-worship-service-9/2029-03-11/
CATEGORIES:Worship & Music
ATTACH;FMTTYPE=image/png:https://lcor.org/wp-content/uploads/2024/11/Screenshot-2024-11-13-141206.png
END:VEVENT
BEGIN:VEVENT
DTSTART;TZID=UTC:20290318T083000
DTEND;TZID=UTC:20290318T083000
DTSTAMP:20260420T155654
CREATED:20260205T184913Z
LAST-MODIFIED:20260205T184913Z
UID:10008138-1868517000-1868517000@lcor.org
SUMMARY:Contemporary Worship Service
DESCRIPTION:8:30 AM
URL:https://lcor.org/events-calendar/contemporary-worship-service-9/2029-03-18/
CATEGORIES:Worship & Music
ATTACH;FMTTYPE=image/png:https://lcor.org/wp-content/uploads/2024/11/Screenshot-2024-11-13-141206.png
END:VEVENT
BEGIN:VEVENT
DTSTART;TZID=UTC:20290325T083000
DTEND;TZID=UTC:20290325T083000
DTSTAMP:20260420T155654
CREATED:20260205T184913Z
LAST-MODIFIED:20260205T184913Z
UID:10008139-1869121800-1869121800@lcor.org
SUMMARY:Contemporary Worship Service
DESCRIPTION:8:30 AM
URL:https://lcor.org/events-calendar/contemporary-worship-service-9/2029-03-25/
CATEGORIES:Worship & Music
ATTACH;FMTTYPE=image/png:https://lcor.org/wp-content/uploads/2024/11/Screenshot-2024-11-13-141206.png
END:VEVENT
BEGIN:VEVENT
DTSTART;TZID=UTC:20290401T083000
DTEND;TZID=UTC:20290401T083000
DTSTAMP:20260420T155654
CREATED:20260205T184913Z
LAST-MODIFIED:20260205T184913Z
UID:10008140-1869726600-1869726600@lcor.org
SUMMARY:Contemporary Worship Service
DESCRIPTION:8:30 AM
URL:https://lcor.org/events-calendar/contemporary-worship-service-9/2029-04-01/
CATEGORIES:Worship & Music
ATTACH;FMTTYPE=image/png:https://lcor.org/wp-content/uploads/2024/11/Screenshot-2024-11-13-141206.png
END:VEVENT
BEGIN:VEVENT
DTSTART;TZID=UTC:20290408T083000
DTEND;TZID=UTC:20290408T083000
DTSTAMP:20260420T155654
CREATED:20260205T184913Z
LAST-MODIFIED:20260205T184913Z
UID:10008141-1870331400-1870331400@lcor.org
SUMMARY:Contemporary Worship Service
DESCRIPTION:8:30 AM
URL:https://lcor.org/events-calendar/contemporary-worship-service-9/2029-04-08/
CATEGORIES:Worship & Music
ATTACH;FMTTYPE=image/png:https://lcor.org/wp-content/uploads/2024/11/Screenshot-2024-11-13-141206.png
END:VEVENT
BEGIN:VEVENT
DTSTART;TZID=UTC:20290415T083000
DTEND;TZID=UTC:20290415T083000
DTSTAMP:20260420T155654
CREATED:20260205T184913Z
LAST-MODIFIED:20260205T184913Z
UID:10008142-1870936200-1870936200@lcor.org
SUMMARY:Contemporary Worship Service
DESCRIPTION:8:30 AM
URL:https://lcor.org/events-calendar/contemporary-worship-service-9/2029-04-15/
CATEGORIES:Worship & Music
ATTACH;FMTTYPE=image/png:https://lcor.org/wp-content/uploads/2024/11/Screenshot-2024-11-13-141206.png
END:VEVENT
BEGIN:VEVENT
DTSTART;TZID=UTC:20290422T083000
DTEND;TZID=UTC:20290422T083000
DTSTAMP:20260420T155654
CREATED:20260205T184913Z
LAST-MODIFIED:20260205T184913Z
UID:10008143-1871541000-1871541000@lcor.org
SUMMARY:Contemporary Worship Service
DESCRIPTION:8:30 AM
URL:https://lcor.org/events-calendar/contemporary-worship-service-9/2029-04-22/
CATEGORIES:Worship & Music
ATTACH;FMTTYPE=image/png:https://lcor.org/wp-content/uploads/2024/11/Screenshot-2024-11-13-141206.png
END:VEVENT
BEGIN:VEVENT
DTSTART;TZID=UTC:20290429T083000
DTEND;TZID=UTC:20290429T083000
DTSTAMP:20260420T155654
CREATED:20260205T184913Z
LAST-MODIFIED:20260205T184913Z
UID:10008144-1872145800-1872145800@lcor.org
SUMMARY:Contemporary Worship Service
DESCRIPTION:8:30 AM
URL:https://lcor.org/events-calendar/contemporary-worship-service-9/2029-04-29/
CATEGORIES:Worship & Music
ATTACH;FMTTYPE=image/png:https://lcor.org/wp-content/uploads/2024/11/Screenshot-2024-11-13-141206.png
END:VEVENT
BEGIN:VEVENT
DTSTART;TZID=UTC:20290506T083000
DTEND;TZID=UTC:20290506T083000
DTSTAMP:20260420T155654
CREATED:20260205T184913Z
LAST-MODIFIED:20260205T184913Z
UID:10008145-1872750600-1872750600@lcor.org
SUMMARY:Contemporary Worship Service
DESCRIPTION:8:30 AM
URL:https://lcor.org/events-calendar/contemporary-worship-service-9/2029-05-06/
CATEGORIES:Worship & Music
ATTACH;FMTTYPE=image/png:https://lcor.org/wp-content/uploads/2024/11/Screenshot-2024-11-13-141206.png
END:VEVENT
BEGIN:VEVENT
DTSTART;TZID=UTC:20290513T083000
DTEND;TZID=UTC:20290513T083000
DTSTAMP:20260420T155654
CREATED:20260205T184913Z
LAST-MODIFIED:20260205T184913Z
UID:10008146-1873355400-1873355400@lcor.org
SUMMARY:Contemporary Worship Service
DESCRIPTION:8:30 AM
URL:https://lcor.org/events-calendar/contemporary-worship-service-9/2029-05-13/
CATEGORIES:Worship & Music
ATTACH;FMTTYPE=image/png:https://lcor.org/wp-content/uploads/2024/11/Screenshot-2024-11-13-141206.png
END:VEVENT
BEGIN:VEVENT
DTSTART;TZID=UTC:20290520T083000
DTEND;TZID=UTC:20290520T083000
DTSTAMP:20260420T155654
CREATED:20260205T184913Z
LAST-MODIFIED:20260205T184913Z
UID:10008147-1873960200-1873960200@lcor.org
SUMMARY:Contemporary Worship Service
DESCRIPTION:8:30 AM
URL:https://lcor.org/events-calendar/contemporary-worship-service-9/2029-05-20/
CATEGORIES:Worship & Music
ATTACH;FMTTYPE=image/png:https://lcor.org/wp-content/uploads/2024/11/Screenshot-2024-11-13-141206.png
END:VEVENT
BEGIN:VEVENT
DTSTART;TZID=UTC:20290527T083000
DTEND;TZID=UTC:20290527T083000
DTSTAMP:20260420T155654
CREATED:20260205T184913Z
LAST-MODIFIED:20260205T184913Z
UID:10008148-1874565000-1874565000@lcor.org
SUMMARY:Contemporary Worship Service
DESCRIPTION:8:30 AM
URL:https://lcor.org/events-calendar/contemporary-worship-service-9/2029-05-27/
CATEGORIES:Worship & Music
ATTACH;FMTTYPE=image/png:https://lcor.org/wp-content/uploads/2024/11/Screenshot-2024-11-13-141206.png
END:VEVENT
BEGIN:VEVENT
DTSTART;TZID=UTC:20290603T083000
DTEND;TZID=UTC:20290603T083000
DTSTAMP:20260420T155654
CREATED:20260205T184913Z
LAST-MODIFIED:20260205T184913Z
UID:10008149-1875169800-1875169800@lcor.org
SUMMARY:Contemporary Worship Service
DESCRIPTION:8:30 AM
URL:https://lcor.org/events-calendar/contemporary-worship-service-9/2029-06-03/
CATEGORIES:Worship & Music
ATTACH;FMTTYPE=image/png:https://lcor.org/wp-content/uploads/2024/11/Screenshot-2024-11-13-141206.png
END:VEVENT
BEGIN:VEVENT
DTSTART;TZID=UTC:20290610T083000
DTEND;TZID=UTC:20290610T083000
DTSTAMP:20260420T155654
CREATED:20260205T184913Z
LAST-MODIFIED:20260205T184913Z
UID:10008150-1875774600-1875774600@lcor.org
SUMMARY:Contemporary Worship Service
DESCRIPTION:8:30 AM
URL:https://lcor.org/events-calendar/contemporary-worship-service-9/2029-06-10/
CATEGORIES:Worship & Music
ATTACH;FMTTYPE=image/png:https://lcor.org/wp-content/uploads/2024/11/Screenshot-2024-11-13-141206.png
END:VEVENT
BEGIN:VEVENT
DTSTART;TZID=UTC:20290617T083000
DTEND;TZID=UTC:20290617T083000
DTSTAMP:20260420T155654
CREATED:20260205T184913Z
LAST-MODIFIED:20260205T184913Z
UID:10008151-1876379400-1876379400@lcor.org
SUMMARY:Contemporary Worship Service
DESCRIPTION:8:30 AM
URL:https://lcor.org/events-calendar/contemporary-worship-service-9/2029-06-17/
CATEGORIES:Worship & Music
ATTACH;FMTTYPE=image/png:https://lcor.org/wp-content/uploads/2024/11/Screenshot-2024-11-13-141206.png
END:VEVENT
BEGIN:VEVENT
DTSTART;TZID=UTC:20290624T083000
DTEND;TZID=UTC:20290624T083000
DTSTAMP:20260420T155654
CREATED:20260205T184913Z
LAST-MODIFIED:20260205T184913Z
UID:10008152-1876984200-1876984200@lcor.org
SUMMARY:Contemporary Worship Service
DESCRIPTION:8:30 AM
URL:https://lcor.org/events-calendar/contemporary-worship-service-9/2029-06-24/
CATEGORIES:Worship & Music
ATTACH;FMTTYPE=image/png:https://lcor.org/wp-content/uploads/2024/11/Screenshot-2024-11-13-141206.png
END:VEVENT
BEGIN:VEVENT
DTSTART;TZID=UTC:20290701T083000
DTEND;TZID=UTC:20290701T083000
DTSTAMP:20260420T155654
CREATED:20260205T184913Z
LAST-MODIFIED:20260205T184913Z
UID:10008153-1877589000-1877589000@lcor.org
SUMMARY:Contemporary Worship Service
DESCRIPTION:8:30 AM
URL:https://lcor.org/events-calendar/contemporary-worship-service-9/2029-07-01/
CATEGORIES:Worship & Music
ATTACH;FMTTYPE=image/png:https://lcor.org/wp-content/uploads/2024/11/Screenshot-2024-11-13-141206.png
END:VEVENT
BEGIN:VEVENT
DTSTART;TZID=UTC:20290708T083000
DTEND;TZID=UTC:20290708T083000
DTSTAMP:20260420T155654
CREATED:20260205T184913Z
LAST-MODIFIED:20260205T184913Z
UID:10008154-1878193800-1878193800@lcor.org
SUMMARY:Contemporary Worship Service
DESCRIPTION:8:30 AM
URL:https://lcor.org/events-calendar/contemporary-worship-service-9/2029-07-08/
CATEGORIES:Worship & Music
ATTACH;FMTTYPE=image/png:https://lcor.org/wp-content/uploads/2024/11/Screenshot-2024-11-13-141206.png
END:VEVENT
BEGIN:VEVENT
DTSTART;TZID=UTC:20290715T083000
DTEND;TZID=UTC:20290715T083000
DTSTAMP:20260420T155654
CREATED:20260205T184913Z
LAST-MODIFIED:20260205T184913Z
UID:10008155-1878798600-1878798600@lcor.org
SUMMARY:Contemporary Worship Service
DESCRIPTION:8:30 AM
URL:https://lcor.org/events-calendar/contemporary-worship-service-9/2029-07-15/
CATEGORIES:Worship & Music
ATTACH;FMTTYPE=image/png:https://lcor.org/wp-content/uploads/2024/11/Screenshot-2024-11-13-141206.png
END:VEVENT
BEGIN:VEVENT
DTSTART;TZID=UTC:20290722T083000
DTEND;TZID=UTC:20290722T083000
DTSTAMP:20260420T155654
CREATED:20260205T184913Z
LAST-MODIFIED:20260205T184913Z
UID:10008156-1879403400-1879403400@lcor.org
SUMMARY:Contemporary Worship Service
DESCRIPTION:8:30 AM
URL:https://lcor.org/events-calendar/contemporary-worship-service-9/2029-07-22/
CATEGORIES:Worship & Music
ATTACH;FMTTYPE=image/png:https://lcor.org/wp-content/uploads/2024/11/Screenshot-2024-11-13-141206.png
END:VEVENT
END:VCALENDAR