BEGIN:VCALENDAR
VERSION:2.0
PRODID:-//Lutheran Church of Our Redeemer - ECPv6.15.20//NONSGML v1.0//EN
CALSCALE:GREGORIAN
METHOD:PUBLISH
X-WR-CALNAME:Lutheran Church of Our Redeemer
X-ORIGINAL-URL:https://lcor.org
X-WR-CALDESC:Events for Lutheran Church of Our Redeemer
REFRESH-INTERVAL;VALUE=DURATION:PT1H
X-Robots-Tag:noindex
X-PUBLISHED-TTL:PT1H
BEGIN:VTIMEZONE
TZID:UTC
BEGIN:STANDARD
TZOFFSETFROM:+0000
TZOFFSETTO:+0000
TZNAME:UTC
DTSTART:20230101T000000
END:STANDARD
END:VTIMEZONE
BEGIN:VEVENT
DTSTART;TZID=UTC:20240204T093000
DTEND;TZID=UTC:20240204T093000
DTSTAMP:20260423T224930
CREATED:20230802T172728Z
LAST-MODIFIED:20230907T152204Z
UID:10001734-1707039000-1707039000@lcor.org
SUMMARY:Fellowship; Christian Ed.
DESCRIPTION:Join us for an opportunity to connect\, chat\, socialize and learn between our Sunday Worship Services. Visit our Adult Sunday School Page to see the upcoming schedule.
URL:https://lcor.org/events-calendar/coffee-and-fellowship-2023-09-24/2024-02-04/
CATEGORIES:Social Event
END:VEVENT
BEGIN:VEVENT
DTSTART;TZID=UTC:20240211T093000
DTEND;TZID=UTC:20240211T093000
DTSTAMP:20260423T224930
CREATED:20230802T172728Z
LAST-MODIFIED:20230907T152204Z
UID:10001735-1707643800-1707643800@lcor.org
SUMMARY:Fellowship; Christian Ed.
DESCRIPTION:Join us for an opportunity to connect\, chat\, socialize and learn between our Sunday Worship Services. Visit our Adult Sunday School Page to see the upcoming schedule.
URL:https://lcor.org/events-calendar/coffee-and-fellowship-2023-09-24/2024-02-11/
CATEGORIES:Social Event
END:VEVENT
BEGIN:VEVENT
DTSTART;TZID=UTC:20240218T093000
DTEND;TZID=UTC:20240218T093000
DTSTAMP:20260423T224930
CREATED:20230802T172728Z
LAST-MODIFIED:20230907T154748Z
UID:10001749-1708248600-1708248600@lcor.org
SUMMARY:Fellowship
DESCRIPTION:Join us for an opportunity to connect\, chat\, and socialize between our Sunday Worship Services. No Christian Ed.
URL:https://lcor.org/events-calendar/coffee-and-fellowship-2024-02-18/
CATEGORIES:Social Event
END:VEVENT
BEGIN:VEVENT
DTSTART;TZID=UTC:20240225T093000
DTEND;TZID=UTC:20240225T093000
DTSTAMP:20260423T224930
CREATED:20230802T172728Z
LAST-MODIFIED:20230907T154814Z
UID:10001751-1708853400-1708853400@lcor.org
SUMMARY:Fellowship
DESCRIPTION:Join us for an opportunity to connect\, chat\, and socialize between our Sunday Worship Services. No Christian Ed.
URL:https://lcor.org/events-calendar/coffee-and-fellowship-2024-02-25/
CATEGORIES:Social Event
END:VEVENT
END:VCALENDAR