BEGIN:VCALENDAR
VERSION:2.0
PRODID:-//Lutheran Church of Our Redeemer - ECPv6.15.20//NONSGML v1.0//EN
CALSCALE:GREGORIAN
METHOD:PUBLISH
X-WR-CALNAME:Lutheran Church of Our Redeemer
X-ORIGINAL-URL:https://lcor.org
X-WR-CALDESC:Events for Lutheran Church of Our Redeemer
REFRESH-INTERVAL;VALUE=DURATION:PT1H
X-Robots-Tag:noindex
X-PUBLISHED-TTL:PT1H
BEGIN:VTIMEZONE
TZID:UTC
BEGIN:STANDARD
TZOFFSETFROM:+0000
TZOFFSETTO:+0000
TZNAME:UTC
DTSTART:20220101T000000
END:STANDARD
END:VTIMEZONE
BEGIN:VEVENT
DTSTART;TZID=UTC:20231001T093000
DTEND;TZID=UTC:20231001T093000
DTSTAMP:20260424T215515
CREATED:20230802T172728Z
LAST-MODIFIED:20230907T152204Z
UID:10001721-1696152600-1696152600@lcor.org
SUMMARY:Fellowship; Christian Ed.
DESCRIPTION:Join us for an opportunity to connect\, chat\, socialize and learn between our Sunday Worship Services. Visit our Adult Sunday School Page to see the upcoming schedule.
URL:https://lcor.org/events-calendar/coffee-and-fellowship-2023-09-24/2023-10-01/
CATEGORIES:Social Event
END:VEVENT
BEGIN:VEVENT
DTSTART;TZID=UTC:20231008T093000
DTEND;TZID=UTC:20231008T093000
DTSTAMP:20260424T215515
CREATED:20230802T172728Z
LAST-MODIFIED:20230907T154151Z
UID:10001745-1696757400-1696757400@lcor.org
SUMMARY:Fellowship; Adult Sunday School Only
DESCRIPTION:Join us for an opportunity to connect\, chat\, socialize and learn between our Sunday Worship Services. Visit our Adult Sunday School Page to see the upcoming schedule.
URL:https://lcor.org/events-calendar/coffee-and-fellowship-2023-10-08/
CATEGORIES:Social Event
END:VEVENT
BEGIN:VEVENT
DTSTART;TZID=UTC:20231015T093000
DTEND;TZID=UTC:20231015T093000
DTSTAMP:20260424T215515
CREATED:20230802T172728Z
LAST-MODIFIED:20230907T152204Z
UID:10001722-1697362200-1697362200@lcor.org
SUMMARY:Fellowship; Christian Ed.
DESCRIPTION:Join us for an opportunity to connect\, chat\, socialize and learn between our Sunday Worship Services. Visit our Adult Sunday School Page to see the upcoming schedule.
URL:https://lcor.org/events-calendar/coffee-and-fellowship-2023-09-24/2023-10-15/
CATEGORIES:Social Event
END:VEVENT
BEGIN:VEVENT
DTSTART;TZID=UTC:20231022T093000
DTEND;TZID=UTC:20231022T093000
DTSTAMP:20260424T215515
CREATED:20230802T172728Z
LAST-MODIFIED:20230907T152204Z
UID:10001723-1697967000-1697967000@lcor.org
SUMMARY:Fellowship; Christian Ed.
DESCRIPTION:Join us for an opportunity to connect\, chat\, socialize and learn between our Sunday Worship Services. Visit our Adult Sunday School Page to see the upcoming schedule.
URL:https://lcor.org/events-calendar/coffee-and-fellowship-2023-09-24/2023-10-22/
CATEGORIES:Social Event
END:VEVENT
BEGIN:VEVENT
DTSTART;TZID=UTC:20231026T190000
DTEND;TZID=UTC:20231026T190000
DTSTAMP:20260424T215515
CREATED:20230928T164641Z
LAST-MODIFIED:20230928T164641Z
UID:10001777-1698346800-1698346800@lcor.org
SUMMARY:Book Club
DESCRIPTION:Crashing Through: The Extraordinary True Story of the Man Who Dared to See by Robert Kurson. \n For more details\, email us at office@lcor.org
URL:https://lcor.org/events-calendar/book-club/
CATEGORIES:Social Event
END:VEVENT
BEGIN:VEVENT
DTSTART;TZID=UTC:20231029T093000
DTEND;TZID=UTC:20231029T093000
DTSTAMP:20260424T215515
CREATED:20230802T172728Z
LAST-MODIFIED:20230907T152204Z
UID:10001724-1698571800-1698571800@lcor.org
SUMMARY:Fellowship; Christian Ed.
DESCRIPTION:Join us for an opportunity to connect\, chat\, socialize and learn between our Sunday Worship Services. Visit our Adult Sunday School Page to see the upcoming schedule.
URL:https://lcor.org/events-calendar/coffee-and-fellowship-2023-09-24/2023-10-29/
CATEGORIES:Social Event
END:VEVENT
END:VCALENDAR