BEGIN:VCALENDAR
VERSION:2.0
PRODID:-//Lutheran Church of Our Redeemer - ECPv6.15.20//NONSGML v1.0//EN
CALSCALE:GREGORIAN
METHOD:PUBLISH
X-WR-CALNAME:Lutheran Church of Our Redeemer
X-ORIGINAL-URL:https://lcor.org
X-WR-CALDESC:Events for Lutheran Church of Our Redeemer
REFRESH-INTERVAL;VALUE=DURATION:PT1H
X-Robots-Tag:noindex
X-PUBLISHED-TTL:PT1H
BEGIN:VTIMEZONE
TZID:UTC
BEGIN:STANDARD
TZOFFSETFROM:+0000
TZOFFSETTO:+0000
TZNAME:UTC
DTSTART:20220101T000000
END:STANDARD
END:VTIMEZONE
BEGIN:VEVENT
DTSTART;TZID=UTC:20231003T180000
DTEND;TZID=UTC:20231003T180000
DTSTAMP:20260421T105255
CREATED:20230928T161856Z
LAST-MODIFIED:20230928T161856Z
UID:10001454-1696356000-1696356000@lcor.org
SUMMARY:ORCCC Board Meeting
DESCRIPTION:
URL:https://lcor.org/events-calendar/orccc-board-meeting/
CATEGORIES:ORCCC
END:VEVENT
BEGIN:VEVENT
DTSTART;TZID=UTC:20230906T183000
DTEND;TZID=UTC:20230906T183000
DTSTAMP:20260421T105255
CREATED:20230831T140220Z
LAST-MODIFIED:20230831T140220Z
UID:10001718-1694025000-1694025000@lcor.org
SUMMARY:ORCCC Board of Directors Meeting
DESCRIPTION:For more information email us at office@lcor.org
URL:https://lcor.org/events-calendar/orccc-board-of-directors-meeting-3/
CATEGORIES:ORCCC
END:VEVENT
BEGIN:VEVENT
DTSTART;TZID=UTC:20230614T170000
DTEND;TZID=UTC:20230614T200000
DTSTAMP:20260421T105255
CREATED:20230611T015550Z
LAST-MODIFIED:20230611T015608Z
UID:10001412-1686762000-1686772800@lcor.org
SUMMARY:ORCCC Graduation Ceremony
DESCRIPTION:
URL:https://lcor.org/events-calendar/orccc-graduation-ceremony/
CATEGORIES:ORCCC
END:VEVENT
BEGIN:VEVENT
DTSTART;TZID=UTC:20230612T180000
DTEND;TZID=UTC:20230612T190000
DTSTAMP:20260421T105255
CREATED:20230611T015227Z
LAST-MODIFIED:20230611T015227Z
UID:10001410-1686592800-1686596400@lcor.org
SUMMARY:ORCCC BOD Mtg via Zoom
DESCRIPTION:
URL:https://lcor.org/events-calendar/orccc-bod-mtg-via-zoom/
CATEGORIES:ORCCC
END:VEVENT
BEGIN:VEVENT
DTSTART;TZID=UTC:20230502T180000
DTEND;TZID=UTC:20230502T180000
DTSTAMP:20260421T105255
CREATED:20230430T220426Z
LAST-MODIFIED:20230430T220426Z
UID:10001556-1683050400-1683050400@lcor.org
SUMMARY:ORCCC BOD Meeting
DESCRIPTION:
URL:https://lcor.org/events-calendar/orccc-bod-meeting-9/
CATEGORIES:ORCCC
END:VEVENT
BEGIN:VEVENT
DTSTART;TZID=UTC:20230307T180000
DTEND;TZID=UTC:20230307T180000
DTSTAMP:20260421T105255
CREATED:20230226T201059Z
LAST-MODIFIED:20230226T201059Z
UID:10001497-1678212000-1678212000@lcor.org
SUMMARY:ORCCC BOD Meeting
DESCRIPTION:
URL:https://lcor.org/events-calendar/orccc-bod-meeting-8/
CATEGORIES:ORCCC
END:VEVENT
BEGIN:VEVENT
DTSTART;TZID=UTC:20230215T093000
DTEND;TZID=UTC:20230215T093000
DTSTAMP:20260421T105255
CREATED:20230202T144235Z
LAST-MODIFIED:20230202T144235Z
UID:10001365-1676453400-1676453400@lcor.org
SUMMARY:Daycare Chapel Time
DESCRIPTION:
URL:https://lcor.org/events-calendar/daycare-chapel-time/
CATEGORIES:ORCCC
END:VEVENT
BEGIN:VEVENT
DTSTART;TZID=UTC:20230207T180000
DTEND;TZID=UTC:20230207T180000
DTSTAMP:20260421T105255
CREATED:20230202T143855Z
LAST-MODIFIED:20230202T143855Z
UID:10001359-1675792800-1675792800@lcor.org
SUMMARY:ORCCC BOD Meeting
DESCRIPTION:
URL:https://lcor.org/events-calendar/orccc-bod-meeting-7/
CATEGORIES:ORCCC
END:VEVENT
BEGIN:VEVENT
DTSTART;TZID=UTC:20230110T180000
DTEND;TZID=UTC:20230110T180000
DTSTAMP:20260421T105255
CREATED:20221228T034922Z
LAST-MODIFIED:20221228T034922Z
UID:10001482-1673373600-1673373600@lcor.org
SUMMARY:ORCCC BOD Mtg
DESCRIPTION:
URL:https://lcor.org/events-calendar/orccc-bod-mtg/
CATEGORIES:ORCCC
END:VEVENT
END:VCALENDAR