BEGIN:VCALENDAR
VERSION:2.0
PRODID:-//Lutheran Church of Our Redeemer - ECPv6.15.20//NONSGML v1.0//EN
CALSCALE:GREGORIAN
METHOD:PUBLISH
X-WR-CALNAME:Lutheran Church of Our Redeemer
X-ORIGINAL-URL:https://lcor.org
X-WR-CALDESC:Events for Lutheran Church of Our Redeemer
REFRESH-INTERVAL;VALUE=DURATION:PT1H
X-Robots-Tag:noindex
X-PUBLISHED-TTL:PT1H
BEGIN:VTIMEZONE
TZID:UTC
BEGIN:STANDARD
TZOFFSETFROM:+0000
TZOFFSETTO:+0000
TZNAME:UTC
DTSTART:20220101T000000
END:STANDARD
END:VTIMEZONE
BEGIN:VEVENT
DTSTART;TZID=UTC:20241009T190000
DTEND;TZID=UTC:20241009T190000
DTSTAMP:20260419T115350
CREATED:20241005T013932Z
LAST-MODIFIED:20241005T013932Z
UID:10002389-1728500400-1728500400@lcor.org
SUMMARY:Mutual Ministry Meeting
DESCRIPTION:
URL:https://lcor.org/events-calendar/mutual-ministry-meeting-8/
CATEGORIES:Mutual Ministry
END:VEVENT
BEGIN:VEVENT
DTSTART;TZID=UTC:20240626T190000
DTEND;TZID=UTC:20240626T190000
DTSTAMP:20260419T115350
CREATED:20240616T001939Z
LAST-MODIFIED:20240616T003054Z
UID:10001920-1719428400-1719428400@lcor.org
SUMMARY:Mutual Ministry Committee Meeting
DESCRIPTION:
URL:https://lcor.org/events-calendar/mutual-ministry-committee-meeting/
CATEGORIES:Mutual Ministry
END:VEVENT
BEGIN:VEVENT
DTSTART;TZID=UTC:20240410T190000
DTEND;TZID=UTC:20240410T190000
DTSTAMP:20260419T115350
CREATED:20240326T182306Z
LAST-MODIFIED:20240326T182306Z
UID:10001850-1712775600-1712775600@lcor.org
SUMMARY:Mutual Ministry Meeting
DESCRIPTION:
URL:https://lcor.org/events-calendar/mutual-ministry-meeting-7/
CATEGORIES:Mutual Ministry
END:VEVENT
BEGIN:VEVENT
DTSTART;TZID=UTC:20240110T190000
DTEND;TZID=UTC:20240110T190000
DTSTAMP:20260419T115350
CREATED:20231221T144240Z
LAST-MODIFIED:20231221T144240Z
UID:10001805-1704913200-1704913200@lcor.org
SUMMARY:Mutual Ministry Meeting
DESCRIPTION:
URL:https://lcor.org/events-calendar/mutual-ministry-meeting-6/
CATEGORIES:Mutual Ministry
END:VEVENT
BEGIN:VEVENT
DTSTART;TZID=UTC:20231206T190000
DTEND;TZID=UTC:20231206T190000
DTSTAMP:20260419T115350
CREATED:20231130T164306Z
LAST-MODIFIED:20231130T164306Z
UID:10001800-1701889200-1701889200@lcor.org
SUMMARY:Mutual Ministry Meeting
DESCRIPTION:
URL:https://lcor.org/events-calendar/mutual-ministry-meeting-5/
CATEGORIES:Mutual Ministry
END:VEVENT
BEGIN:VEVENT
DTSTART;TZID=UTC:20230906T190000
DTEND;TZID=UTC:20230906T190000
DTSTAMP:20260419T115350
CREATED:20230831T140703Z
LAST-MODIFIED:20230831T140703Z
UID:10001719-1694026800-1694026800@lcor.org
SUMMARY:Mutual Ministry Meeting
DESCRIPTION:For more information email us at office@lcor.org
URL:https://lcor.org/events-calendar/mutual-ministry-meeting-4/
CATEGORIES:Mutual Ministry
END:VEVENT
BEGIN:VEVENT
DTSTART;TZID=UTC:20230503T190000
DTEND;TZID=UTC:20230503T190000
DTSTAMP:20260419T115350
CREATED:20230430T220523Z
LAST-MODIFIED:20230430T220523Z
UID:10001557-1683140400-1683140400@lcor.org
SUMMARY:Mutual Ministry Meeting
DESCRIPTION:
URL:https://lcor.org/events-calendar/mutual-ministry-meeting-3/
CATEGORIES:Mutual Ministry
END:VEVENT
BEGIN:VEVENT
DTSTART;TZID=UTC:20230201T190000
DTEND;TZID=UTC:20230201T190000
DTSTAMP:20260419T115350
CREATED:20230202T144725Z
LAST-MODIFIED:20230202T144725Z
UID:10001489-1675278000-1675278000@lcor.org
SUMMARY:Mutual Ministry
DESCRIPTION:
URL:https://lcor.org/events-calendar/mutual-ministry/
CATEGORIES:Mutual Ministry
END:VEVENT
BEGIN:VEVENT
DTSTART;TZID=UTC:20230201T190000
DTEND;TZID=UTC:20230201T190000
DTSTAMP:20260419T115350
CREATED:20221228T041124Z
LAST-MODIFIED:20221228T041222Z
UID:10001486-1675278000-1675278000@lcor.org
SUMMARY:Mutual Ministry Mtg
DESCRIPTION:
URL:https://lcor.org/events-calendar/mutual-ministry-mtg/
CATEGORIES:Mutual Ministry
END:VEVENT
END:VCALENDAR