BEGIN:VCALENDAR
VERSION:2.0
PRODID:-//Lutheran Church of Our Redeemer - ECPv6.15.20//NONSGML v1.0//EN
CALSCALE:GREGORIAN
METHOD:PUBLISH
X-WR-CALNAME:Lutheran Church of Our Redeemer
X-ORIGINAL-URL:https://lcor.org
X-WR-CALDESC:Events for Lutheran Church of Our Redeemer
REFRESH-INTERVAL;VALUE=DURATION:PT1H
X-Robots-Tag:noindex
X-PUBLISHED-TTL:PT1H
BEGIN:VTIMEZONE
TZID:UTC
BEGIN:STANDARD
TZOFFSETFROM:+0000
TZOFFSETTO:+0000
TZNAME:UTC
DTSTART:20220101T000000
END:STANDARD
END:VTIMEZONE
BEGIN:VEVENT
DTSTART;TZID=UTC:20241008T170000
DTEND;TZID=UTC:20241008T170000
DTSTAMP:20260419T194603
CREATED:20241005T013553Z
LAST-MODIFIED:20241005T015025Z
UID:10002386-1728406800-1728406800@lcor.org
SUMMARY:Finance Committee Meeting
DESCRIPTION:
URL:https://lcor.org/events-calendar/finance-committee/
CATEGORIES:Finance Committee
END:VEVENT
BEGIN:VEVENT
DTSTART;TZID=UTC:20240604T173000
DTEND;TZID=UTC:20240604T173000
DTSTAMP:20260419T194603
CREATED:20240616T002209Z
LAST-MODIFIED:20240616T002209Z
UID:10001921-1717522200-1717522200@lcor.org
SUMMARY:Finance Meeting via Zoom
DESCRIPTION:
URL:https://lcor.org/events-calendar/finance-meeting-via-zoom/
CATEGORIES:Finance Committee
END:VEVENT
BEGIN:VEVENT
DTSTART;TZID=UTC:20240514T180000
DTEND;TZID=UTC:20240514T180000
DTSTAMP:20260419T194603
CREATED:20240501T221250Z
LAST-MODIFIED:20240501T221250Z
UID:10001861-1715709600-1715709600@lcor.org
SUMMARY:Finance Meeting
DESCRIPTION:
URL:https://lcor.org/events-calendar/finance-meeting-11/
CATEGORIES:Finance Committee
END:VEVENT
BEGIN:VEVENT
DTSTART;TZID=UTC:20240409T183000
DTEND;TZID=UTC:20240409T183000
DTSTAMP:20260419T194603
CREATED:20240326T182218Z
LAST-MODIFIED:20240326T182218Z
UID:10001849-1712687400-1712687400@lcor.org
SUMMARY:Finance Meeting
DESCRIPTION:
URL:https://lcor.org/events-calendar/finance-meeting-10/
CATEGORIES:Finance Committee
END:VEVENT
BEGIN:VEVENT
DTSTART;TZID=UTC:20240312T183000
DTEND;TZID=UTC:20240312T183000
DTSTAMP:20260419T194603
CREATED:20240229T223608Z
LAST-MODIFIED:20240229T223608Z
UID:10001835-1710268200-1710268200@lcor.org
SUMMARY:Finance Meeting
DESCRIPTION:For more information\, please contact us at office@lcor.org.
URL:https://lcor.org/events-calendar/finance-meeting-9/
CATEGORIES:Finance Committee
END:VEVENT
BEGIN:VEVENT
DTSTART;TZID=UTC:20240213T183000
DTEND;TZID=UTC:20240213T183000
DTSTAMP:20260419T194603
CREATED:20240131T170057Z
LAST-MODIFIED:20240131T170057Z
UID:10001816-1707849000-1707849000@lcor.org
SUMMARY:Finance Ministry Meeting
DESCRIPTION:For more details\, email us at office@lcor.org.
URL:https://lcor.org/events-calendar/finance-ministry-meeting-2/
CATEGORIES:Finance Committee
END:VEVENT
BEGIN:VEVENT
DTSTART;TZID=UTC:20231114T183000
DTEND;TZID=UTC:20231114T183000
DTSTAMP:20260419T194603
CREATED:20231026T191914Z
LAST-MODIFIED:20231026T191914Z
UID:10001788-1699986600-1699986600@lcor.org
SUMMARY:Finance Ministry Meeting
DESCRIPTION:For more details contact us at office@lcor.org.
URL:https://lcor.org/events-calendar/finance-ministry-meeting/
CATEGORIES:Finance Committee
END:VEVENT
BEGIN:VEVENT
DTSTART;TZID=UTC:20231010T183000
DTEND;TZID=UTC:20231010T183000
DTSTAMP:20260419T194603
CREATED:20230928T162257Z
LAST-MODIFIED:20230928T162257Z
UID:10001458-1696962600-1696962600@lcor.org
SUMMARY:Finance Committee Meeting
DESCRIPTION:For more details\, email us at office@lcor.org.
URL:https://lcor.org/events-calendar/finance-committee-meeting-6/
CATEGORIES:Finance Committee
END:VEVENT
BEGIN:VEVENT
DTSTART;TZID=UTC:20230918T183000
DTEND;TZID=UTC:20230918T183000
DTSTAMP:20260419T194603
CREATED:20230831T143125Z
LAST-MODIFIED:20230831T143125Z
UID:10001759-1695061800-1695061800@lcor.org
SUMMARY:Finance Committee Meeting
DESCRIPTION:For more information email us at office@lcor.org
URL:https://lcor.org/events-calendar/finance-committee-meeting-5/
CATEGORIES:Finance Committee
END:VEVENT
BEGIN:VEVENT
DTSTART;TZID=UTC:20230509T183000
DTEND;TZID=UTC:20230509T183000
DTSTAMP:20260419T194603
CREATED:20230430T220939Z
LAST-MODIFIED:20230430T220939Z
UID:10001559-1683657000-1683657000@lcor.org
SUMMARY:Finance Meeting
DESCRIPTION:
URL:https://lcor.org/events-calendar/finance-meeting-8/
CATEGORIES:Finance Committee
END:VEVENT
BEGIN:VEVENT
DTSTART;TZID=UTC:20230411T190000
DTEND;TZID=UTC:20230411T190000
DTSTAMP:20260419T194603
CREATED:20230329T015134Z
LAST-MODIFIED:20230329T015134Z
UID:10001551-1681239600-1681239600@lcor.org
SUMMARY:Finance Committee Meeting
DESCRIPTION:
URL:https://lcor.org/events-calendar/finance-committee-meeting-4/
CATEGORIES:Finance Committee
END:VEVENT
BEGIN:VEVENT
DTSTART;TZID=UTC:20230314T190000
DTEND;TZID=UTC:20230314T190000
DTSTAMP:20260419T194603
CREATED:20230226T201804Z
LAST-MODIFIED:20230226T201804Z
UID:10001499-1678820400-1678820400@lcor.org
SUMMARY:Finance Committee Meeting
DESCRIPTION:
URL:https://lcor.org/events-calendar/finance-committee-meeting-3/
CATEGORIES:Finance Committee
END:VEVENT
BEGIN:VEVENT
DTSTART;TZID=UTC:20230214T190000
DTEND;TZID=UTC:20230214T190000
DTSTAMP:20260419T194603
CREATED:20230202T144123Z
LAST-MODIFIED:20230202T144123Z
UID:10001363-1676401200-1676401200@lcor.org
SUMMARY:Finance Meeting
DESCRIPTION:
URL:https://lcor.org/events-calendar/finance-meeting-7/
CATEGORIES:Finance Committee
END:VEVENT
BEGIN:VEVENT
DTSTART;TZID=UTC:20230110T190000
DTEND;TZID=UTC:20230110T190000
DTSTAMP:20260419T194603
CREATED:20221228T034730Z
LAST-MODIFIED:20221228T034730Z
UID:10001481-1673377200-1673377200@lcor.org
SUMMARY:Finance Mtg
DESCRIPTION:
URL:https://lcor.org/events-calendar/finance-mtg/
CATEGORIES:Finance Committee
END:VEVENT
END:VCALENDAR