BEGIN:VCALENDAR
VERSION:2.0
PRODID:-//Lutheran Church of Our Redeemer - ECPv6.15.20//NONSGML v1.0//EN
CALSCALE:GREGORIAN
METHOD:PUBLISH
X-WR-CALNAME:Lutheran Church of Our Redeemer
X-ORIGINAL-URL:https://lcor.org
X-WR-CALDESC:Events for Lutheran Church of Our Redeemer
REFRESH-INTERVAL;VALUE=DURATION:PT1H
X-Robots-Tag:noindex
X-PUBLISHED-TTL:PT1H
BEGIN:VTIMEZONE
TZID:UTC
BEGIN:STANDARD
TZOFFSETFROM:+0000
TZOFFSETTO:+0000
TZNAME:UTC
DTSTART:20230101T000000
END:STANDARD
END:VTIMEZONE
BEGIN:VEVENT
DTSTART;TZID=UTC:20241020T091500
DTEND;TZID=UTC:20241020T091500
DTSTAMP:20260422T225126
CREATED:20240907T214829Z
LAST-MODIFIED:20241005T021542Z
UID:10002369-1729415700-1729415700@lcor.org
SUMMARY:Fellowship; Sunday School - 9:30am
DESCRIPTION:
URL:https://lcor.org/events-calendar/fellowship-3/2024-10-20/
CATEGORIES:Christian Education,Community Life
END:VEVENT
END:VCALENDAR