BEGIN:VCALENDAR
VERSION:2.0
PRODID:-//Lutheran Church of Our Redeemer - ECPv6.15.20//NONSGML v1.0//EN
CALSCALE:GREGORIAN
METHOD:PUBLISH
X-WR-CALNAME:Lutheran Church of Our Redeemer
X-ORIGINAL-URL:https://lcor.org
X-WR-CALDESC:Events for Lutheran Church of Our Redeemer
REFRESH-INTERVAL;VALUE=DURATION:PT1H
X-Robots-Tag:noindex
X-PUBLISHED-TTL:PT1H
BEGIN:VTIMEZONE
TZID:UTC
BEGIN:STANDARD
TZOFFSETFROM:+0000
TZOFFSETTO:+0000
TZNAME:UTC
DTSTART:20230101T000000
END:STANDARD
END:VTIMEZONE
BEGIN:VEVENT
DTSTART;TZID=UTC:20241006T114500
DTEND;TZID=UTC:20241006T114500
DTSTAMP:20260422T225128
CREATED:20241005T020342Z
LAST-MODIFIED:20241005T020342Z
UID:10002393-1728215100-1728215100@lcor.org
SUMMARY:Wards Berry Farm - leave LCOR at 11:45am
DESCRIPTION:
URL:https://lcor.org/events-calendar/wards-berry-farm-leave-lcor-at-1145am/
CATEGORIES:Community Life
END:VEVENT
END:VCALENDAR