BEGIN:VCALENDAR
VERSION:2.0
PRODID:-//Lutheran Church of Our Redeemer - ECPv6.15.20//NONSGML v1.0//EN
CALSCALE:GREGORIAN
METHOD:PUBLISH
X-WR-CALNAME:Lutheran Church of Our Redeemer
X-ORIGINAL-URL:https://lcor.org
X-WR-CALDESC:Events for Lutheran Church of Our Redeemer
REFRESH-INTERVAL;VALUE=DURATION:PT1H
X-Robots-Tag:noindex
X-PUBLISHED-TTL:PT1H
BEGIN:VTIMEZONE
TZID:UTC
BEGIN:STANDARD
TZOFFSETFROM:+0000
TZOFFSETTO:+0000
TZNAME:UTC
DTSTART:20230101T000000
END:STANDARD
END:VTIMEZONE
BEGIN:VEVENT
DTSTART;TZID=UTC:20240204T113000
DTEND;TZID=UTC:20240204T113000
DTSTAMP:20260423T061857
CREATED:20240131T165112Z
LAST-MODIFIED:20240131T165112Z
UID:10001812-1707046200-1707046200@lcor.org
SUMMARY:Community Life Events
DESCRIPTION:On Sunday\, February 4th we will be drawing names for our Secret Valentine Event and gathering after the second service for our First of the Month Fellowship Lunch. For more details\, email us at office@lcor.org.
URL:https://lcor.org/events-calendar/community-life-events/
CATEGORIES:Community Life
END:VEVENT
BEGIN:VEVENT
DTSTART;TZID=UTC:20240211T173000
DTEND;TZID=UTC:20240211T173000
DTSTAMP:20260423T061857
CREATED:20240131T165613Z
LAST-MODIFIED:20240131T165613Z
UID:10001814-1707672600-1707672600@lcor.org
SUMMARY:Community Life Superbowl Party
DESCRIPTION:Super Bowl Sunday Party at Pam and Gary’s house. There will be games and prizes before the football game as well as quarter during the game. Every-one can also wear their favorite football team attire if they choose. Sign-up sheet for food and guest count can be found on the church bulletin board or email us at office@lcor.org.
URL:https://lcor.org/events-calendar/community-life-superbowl-party/
CATEGORIES:Community Life
END:VEVENT
BEGIN:VEVENT
DTSTART;TZID=UTC:20240229T190000
DTEND;TZID=UTC:20240229T190000
DTSTAMP:20260423T061857
CREATED:20240131T172858Z
LAST-MODIFIED:20240131T172858Z
UID:10001826-1709233200-1709233200@lcor.org
SUMMARY:Book Club
DESCRIPTION:February’s choice is Lessons in Chemistry by Bonnie Grams. \nFor more information email us at office@lcor.org.
URL:https://lcor.org/events-calendar/book-club-3/
CATEGORIES:Community Life
END:VEVENT
END:VCALENDAR