BEGIN:VCALENDAR
VERSION:2.0
PRODID:-//Lutheran Church of Our Redeemer - ECPv6.15.20//NONSGML v1.0//EN
CALSCALE:GREGORIAN
METHOD:PUBLISH
X-ORIGINAL-URL:https://lcor.org
X-WR-CALDESC:Events for Lutheran Church of Our Redeemer
REFRESH-INTERVAL;VALUE=DURATION:PT1H
X-Robots-Tag:noindex
X-PUBLISHED-TTL:PT1H
BEGIN:VTIMEZONE
TZID:UTC
BEGIN:STANDARD
TZOFFSETFROM:+0000
TZOFFSETTO:+0000
TZNAME:UTC
DTSTART:20230101T000000
END:STANDARD
END:VTIMEZONE
BEGIN:VEVENT
DTSTART;TZID=UTC:20240107T120000
DTEND;TZID=UTC:20240107T120000
DTSTAMP:20260423T101356
CREATED:20231221T143924Z
LAST-MODIFIED:20231221T143924Z
UID:10001803-1704628800-1704628800@lcor.org
SUMMARY:Community Life Lunch
DESCRIPTION:Join us every 1st Sunday of the month for lunch after church. This is an opportunity for good food\, fun and fellowship. For more details\, email us at office@lcor.org.
URL:https://lcor.org/events-calendar/community-life-lunch/
CATEGORIES:Community Life
END:VEVENT
BEGIN:VEVENT
DTSTART;TZID=UTC:20240128T120000
DTEND;TZID=UTC:20240128T120000
DTSTAMP:20260423T101356
CREATED:20231221T145042Z
LAST-MODIFIED:20231221T145042Z
UID:10001811-1706443200-1706443200@lcor.org
SUMMARY:Community Life Game Day after 2nd Service
DESCRIPTION:Join us after the second service. Food will be provided (sandwiches\, pasta salads\, chips\, and drinks) Everyone bring cards\, dominoes\, favorite board games\, etc.  We will set up a tv for our die-hard football fans\, too. Please Sign up on the church bulletin board by January 21st. This will help with food options and planning\, Thanks!
URL:https://lcor.org/events-calendar/community-life-game-day-after-2nd-service/
CATEGORIES:Community Life
END:VEVENT
END:VCALENDAR