BEGIN:VCALENDAR
VERSION:2.0
PRODID:-//Lutheran Church of Our Redeemer - ECPv6.15.20//NONSGML v1.0//EN
CALSCALE:GREGORIAN
METHOD:PUBLISH
X-WR-CALNAME:Lutheran Church of Our Redeemer
X-ORIGINAL-URL:https://lcor.org
X-WR-CALDESC:Events for Lutheran Church of Our Redeemer
REFRESH-INTERVAL;VALUE=DURATION:PT1H
X-Robots-Tag:noindex
X-PUBLISHED-TTL:PT1H
BEGIN:VTIMEZONE
TZID:UTC
BEGIN:STANDARD
TZOFFSETFROM:+0000
TZOFFSETTO:+0000
TZNAME:UTC
DTSTART:20220101T000000
END:STANDARD
END:VTIMEZONE
BEGIN:VEVENT
DTSTART;TZID=UTC:20231130T190000
DTEND;TZID=UTC:20231130T190000
DTSTAMP:20260423T100721
CREATED:20231026T192353Z
LAST-MODIFIED:20231026T192353Z
UID:10001793-1701370800-1701370800@lcor.org
SUMMARY:Book Club
DESCRIPTION:For more details contact us at office@lcor.org.
URL:https://lcor.org/events-calendar/book-club-2/
CATEGORIES:Community Life
END:VEVENT
END:VCALENDAR