BEGIN:VCALENDAR
VERSION:2.0
PRODID:-//Lutheran Church of Our Redeemer - ECPv6.15.20//NONSGML v1.0//EN
CALSCALE:GREGORIAN
METHOD:PUBLISH
X-ORIGINAL-URL:https://lcor.org
X-WR-CALDESC:Events for Lutheran Church of Our Redeemer
REFRESH-INTERVAL;VALUE=DURATION:PT1H
X-Robots-Tag:noindex
X-PUBLISHED-TTL:PT1H
BEGIN:VTIMEZONE
TZID:UTC
BEGIN:STANDARD
TZOFFSETFROM:+0000
TZOFFSETTO:+0000
TZNAME:UTC
DTSTART:20280101T000000
END:STANDARD
END:VTIMEZONE
BEGIN:VEVENT
DTSTART;TZID=UTC:20291018T071500
DTEND;TZID=UTC:20291018T081500
DTSTAMP:20260421T044813
CREATED:20250326T161740Z
LAST-MODIFIED:20250326T161740Z
UID:10004025-1887002100-1887005700@lcor.org
SUMMARY:Ladies Bible Study
DESCRIPTION:Looking for a refreshing pause in the midst of your busy week? Join us for our Ladies Bible Study via Zoom\, where we not only delve into meaningful conversations about faith but also build a supportive and nurturing community. Whether you’re new to Bible study or a seasoned participant\, come as you are\, from the comfort of your home\, and let’s grow spiritually together! We can’t wait to see you there. ✨
URL:https://lcor.org/events-calendar/ladies-bible-study-5/2029-10-18/
CATEGORIES:Bible Study
ATTACH;FMTTYPE=image/png:https://lcor.org/wp-content/uploads/2025/01/Ladies-Bible-study.png
END:VEVENT
BEGIN:VEVENT
DTSTART;TZID=UTC:20291022T071500
DTEND;TZID=UTC:20291022T081500
DTSTAMP:20260421T044813
CREATED:20250326T161740Z
LAST-MODIFIED:20250326T161740Z
UID:10004026-1887347700-1887351300@lcor.org
SUMMARY:Ladies Bible Study
DESCRIPTION:Looking for a refreshing pause in the midst of your busy week? Join us for our Ladies Bible Study via Zoom\, where we not only delve into meaningful conversations about faith but also build a supportive and nurturing community. Whether you’re new to Bible study or a seasoned participant\, come as you are\, from the comfort of your home\, and let’s grow spiritually together! We can’t wait to see you there. ✨
URL:https://lcor.org/events-calendar/ladies-bible-study-5/2029-10-22/
CATEGORIES:Bible Study
ATTACH;FMTTYPE=image/png:https://lcor.org/wp-content/uploads/2025/01/Ladies-Bible-study.png
END:VEVENT
BEGIN:VEVENT
DTSTART;TZID=UTC:20291025T071500
DTEND;TZID=UTC:20291025T081500
DTSTAMP:20260421T044813
CREATED:20250326T161740Z
LAST-MODIFIED:20250326T161740Z
UID:10004027-1887606900-1887610500@lcor.org
SUMMARY:Ladies Bible Study
DESCRIPTION:Looking for a refreshing pause in the midst of your busy week? Join us for our Ladies Bible Study via Zoom\, where we not only delve into meaningful conversations about faith but also build a supportive and nurturing community. Whether you’re new to Bible study or a seasoned participant\, come as you are\, from the comfort of your home\, and let’s grow spiritually together! We can’t wait to see you there. ✨
URL:https://lcor.org/events-calendar/ladies-bible-study-5/2029-10-25/
CATEGORIES:Bible Study
ATTACH;FMTTYPE=image/png:https://lcor.org/wp-content/uploads/2025/01/Ladies-Bible-study.png
END:VEVENT
BEGIN:VEVENT
DTSTART;TZID=UTC:20291029T071500
DTEND;TZID=UTC:20291029T081500
DTSTAMP:20260421T044813
CREATED:20250326T161740Z
LAST-MODIFIED:20250326T161740Z
UID:10004028-1887952500-1887956100@lcor.org
SUMMARY:Ladies Bible Study
DESCRIPTION:Looking for a refreshing pause in the midst of your busy week? Join us for our Ladies Bible Study via Zoom\, where we not only delve into meaningful conversations about faith but also build a supportive and nurturing community. Whether you’re new to Bible study or a seasoned participant\, come as you are\, from the comfort of your home\, and let’s grow spiritually together! We can’t wait to see you there. ✨
URL:https://lcor.org/events-calendar/ladies-bible-study-5/2029-10-29/
CATEGORIES:Bible Study
ATTACH;FMTTYPE=image/png:https://lcor.org/wp-content/uploads/2025/01/Ladies-Bible-study.png
END:VEVENT
BEGIN:VEVENT
DTSTART;TZID=UTC:20291101T071500
DTEND;TZID=UTC:20291101T081500
DTSTAMP:20260421T044813
CREATED:20250326T161740Z
LAST-MODIFIED:20250326T161740Z
UID:10004029-1888211700-1888215300@lcor.org
SUMMARY:Ladies Bible Study
DESCRIPTION:Looking for a refreshing pause in the midst of your busy week? Join us for our Ladies Bible Study via Zoom\, where we not only delve into meaningful conversations about faith but also build a supportive and nurturing community. Whether you’re new to Bible study or a seasoned participant\, come as you are\, from the comfort of your home\, and let’s grow spiritually together! We can’t wait to see you there. ✨
URL:https://lcor.org/events-calendar/ladies-bible-study-5/2029-11-01/
CATEGORIES:Bible Study
ATTACH;FMTTYPE=image/png:https://lcor.org/wp-content/uploads/2025/01/Ladies-Bible-study.png
END:VEVENT
BEGIN:VEVENT
DTSTART;TZID=UTC:20291105T071500
DTEND;TZID=UTC:20291105T081500
DTSTAMP:20260421T044813
CREATED:20250326T161740Z
LAST-MODIFIED:20250326T161740Z
UID:10004030-1888557300-1888560900@lcor.org
SUMMARY:Ladies Bible Study
DESCRIPTION:Looking for a refreshing pause in the midst of your busy week? Join us for our Ladies Bible Study via Zoom\, where we not only delve into meaningful conversations about faith but also build a supportive and nurturing community. Whether you’re new to Bible study or a seasoned participant\, come as you are\, from the comfort of your home\, and let’s grow spiritually together! We can’t wait to see you there. ✨
URL:https://lcor.org/events-calendar/ladies-bible-study-5/2029-11-05/
CATEGORIES:Bible Study
ATTACH;FMTTYPE=image/png:https://lcor.org/wp-content/uploads/2025/01/Ladies-Bible-study.png
END:VEVENT
BEGIN:VEVENT
DTSTART;TZID=UTC:20291108T071500
DTEND;TZID=UTC:20291108T081500
DTSTAMP:20260421T044813
CREATED:20250326T161740Z
LAST-MODIFIED:20250326T161740Z
UID:10004031-1888816500-1888820100@lcor.org
SUMMARY:Ladies Bible Study
DESCRIPTION:Looking for a refreshing pause in the midst of your busy week? Join us for our Ladies Bible Study via Zoom\, where we not only delve into meaningful conversations about faith but also build a supportive and nurturing community. Whether you’re new to Bible study or a seasoned participant\, come as you are\, from the comfort of your home\, and let’s grow spiritually together! We can’t wait to see you there. ✨
URL:https://lcor.org/events-calendar/ladies-bible-study-5/2029-11-08/
CATEGORIES:Bible Study
ATTACH;FMTTYPE=image/png:https://lcor.org/wp-content/uploads/2025/01/Ladies-Bible-study.png
END:VEVENT
BEGIN:VEVENT
DTSTART;TZID=UTC:20291112T071500
DTEND;TZID=UTC:20291112T081500
DTSTAMP:20260421T044813
CREATED:20250326T161740Z
LAST-MODIFIED:20250326T161740Z
UID:10004032-1889162100-1889165700@lcor.org
SUMMARY:Ladies Bible Study
DESCRIPTION:Looking for a refreshing pause in the midst of your busy week? Join us for our Ladies Bible Study via Zoom\, where we not only delve into meaningful conversations about faith but also build a supportive and nurturing community. Whether you’re new to Bible study or a seasoned participant\, come as you are\, from the comfort of your home\, and let’s grow spiritually together! We can’t wait to see you there. ✨
URL:https://lcor.org/events-calendar/ladies-bible-study-5/2029-11-12/
CATEGORIES:Bible Study
ATTACH;FMTTYPE=image/png:https://lcor.org/wp-content/uploads/2025/01/Ladies-Bible-study.png
END:VEVENT
BEGIN:VEVENT
DTSTART;TZID=UTC:20291115T071500
DTEND;TZID=UTC:20291115T081500
DTSTAMP:20260421T044813
CREATED:20250326T161740Z
LAST-MODIFIED:20250326T161740Z
UID:10004033-1889421300-1889424900@lcor.org
SUMMARY:Ladies Bible Study
DESCRIPTION:Looking for a refreshing pause in the midst of your busy week? Join us for our Ladies Bible Study via Zoom\, where we not only delve into meaningful conversations about faith but also build a supportive and nurturing community. Whether you’re new to Bible study or a seasoned participant\, come as you are\, from the comfort of your home\, and let’s grow spiritually together! We can’t wait to see you there. ✨
URL:https://lcor.org/events-calendar/ladies-bible-study-5/2029-11-15/
CATEGORIES:Bible Study
ATTACH;FMTTYPE=image/png:https://lcor.org/wp-content/uploads/2025/01/Ladies-Bible-study.png
END:VEVENT
BEGIN:VEVENT
DTSTART;TZID=UTC:20291119T071500
DTEND;TZID=UTC:20291119T081500
DTSTAMP:20260421T044813
CREATED:20250326T161740Z
LAST-MODIFIED:20250326T161740Z
UID:10004034-1889766900-1889770500@lcor.org
SUMMARY:Ladies Bible Study
DESCRIPTION:Looking for a refreshing pause in the midst of your busy week? Join us for our Ladies Bible Study via Zoom\, where we not only delve into meaningful conversations about faith but also build a supportive and nurturing community. Whether you’re new to Bible study or a seasoned participant\, come as you are\, from the comfort of your home\, and let’s grow spiritually together! We can’t wait to see you there. ✨
URL:https://lcor.org/events-calendar/ladies-bible-study-5/2029-11-19/
CATEGORIES:Bible Study
ATTACH;FMTTYPE=image/png:https://lcor.org/wp-content/uploads/2025/01/Ladies-Bible-study.png
END:VEVENT
BEGIN:VEVENT
DTSTART;TZID=UTC:20291122T071500
DTEND;TZID=UTC:20291122T081500
DTSTAMP:20260421T044813
CREATED:20250326T161740Z
LAST-MODIFIED:20250326T161740Z
UID:10004035-1890026100-1890029700@lcor.org
SUMMARY:Ladies Bible Study
DESCRIPTION:Looking for a refreshing pause in the midst of your busy week? Join us for our Ladies Bible Study via Zoom\, where we not only delve into meaningful conversations about faith but also build a supportive and nurturing community. Whether you’re new to Bible study or a seasoned participant\, come as you are\, from the comfort of your home\, and let’s grow spiritually together! We can’t wait to see you there. ✨
URL:https://lcor.org/events-calendar/ladies-bible-study-5/2029-11-22/
CATEGORIES:Bible Study
ATTACH;FMTTYPE=image/png:https://lcor.org/wp-content/uploads/2025/01/Ladies-Bible-study.png
END:VEVENT
BEGIN:VEVENT
DTSTART;TZID=UTC:20291126T071500
DTEND;TZID=UTC:20291126T081500
DTSTAMP:20260421T044813
CREATED:20250326T161740Z
LAST-MODIFIED:20250326T161740Z
UID:10004036-1890371700-1890375300@lcor.org
SUMMARY:Ladies Bible Study
DESCRIPTION:Looking for a refreshing pause in the midst of your busy week? Join us for our Ladies Bible Study via Zoom\, where we not only delve into meaningful conversations about faith but also build a supportive and nurturing community. Whether you’re new to Bible study or a seasoned participant\, come as you are\, from the comfort of your home\, and let’s grow spiritually together! We can’t wait to see you there. ✨
URL:https://lcor.org/events-calendar/ladies-bible-study-5/2029-11-26/
CATEGORIES:Bible Study
ATTACH;FMTTYPE=image/png:https://lcor.org/wp-content/uploads/2025/01/Ladies-Bible-study.png
END:VEVENT
BEGIN:VEVENT
DTSTART;TZID=UTC:20291129T071500
DTEND;TZID=UTC:20291129T081500
DTSTAMP:20260421T044813
CREATED:20250326T161740Z
LAST-MODIFIED:20250326T161740Z
UID:10004037-1890630900-1890634500@lcor.org
SUMMARY:Ladies Bible Study
DESCRIPTION:Looking for a refreshing pause in the midst of your busy week? Join us for our Ladies Bible Study via Zoom\, where we not only delve into meaningful conversations about faith but also build a supportive and nurturing community. Whether you’re new to Bible study or a seasoned participant\, come as you are\, from the comfort of your home\, and let’s grow spiritually together! We can’t wait to see you there. ✨
URL:https://lcor.org/events-calendar/ladies-bible-study-5/2029-11-29/
CATEGORIES:Bible Study
ATTACH;FMTTYPE=image/png:https://lcor.org/wp-content/uploads/2025/01/Ladies-Bible-study.png
END:VEVENT
BEGIN:VEVENT
DTSTART;TZID=UTC:20291203T071500
DTEND;TZID=UTC:20291203T081500
DTSTAMP:20260421T044813
CREATED:20250326T161740Z
LAST-MODIFIED:20250326T161740Z
UID:10004038-1890976500-1890980100@lcor.org
SUMMARY:Ladies Bible Study
DESCRIPTION:Looking for a refreshing pause in the midst of your busy week? Join us for our Ladies Bible Study via Zoom\, where we not only delve into meaningful conversations about faith but also build a supportive and nurturing community. Whether you’re new to Bible study or a seasoned participant\, come as you are\, from the comfort of your home\, and let’s grow spiritually together! We can’t wait to see you there. ✨
URL:https://lcor.org/events-calendar/ladies-bible-study-5/2029-12-03/
CATEGORIES:Bible Study
ATTACH;FMTTYPE=image/png:https://lcor.org/wp-content/uploads/2025/01/Ladies-Bible-study.png
END:VEVENT
BEGIN:VEVENT
DTSTART;TZID=UTC:20291206T071500
DTEND;TZID=UTC:20291206T081500
DTSTAMP:20260421T044813
CREATED:20250326T161740Z
LAST-MODIFIED:20250326T161740Z
UID:10004039-1891235700-1891239300@lcor.org
SUMMARY:Ladies Bible Study
DESCRIPTION:Looking for a refreshing pause in the midst of your busy week? Join us for our Ladies Bible Study via Zoom\, where we not only delve into meaningful conversations about faith but also build a supportive and nurturing community. Whether you’re new to Bible study or a seasoned participant\, come as you are\, from the comfort of your home\, and let’s grow spiritually together! We can’t wait to see you there. ✨
URL:https://lcor.org/events-calendar/ladies-bible-study-5/2029-12-06/
CATEGORIES:Bible Study
ATTACH;FMTTYPE=image/png:https://lcor.org/wp-content/uploads/2025/01/Ladies-Bible-study.png
END:VEVENT
BEGIN:VEVENT
DTSTART;TZID=UTC:20291210T071500
DTEND;TZID=UTC:20291210T081500
DTSTAMP:20260421T044813
CREATED:20250326T161740Z
LAST-MODIFIED:20250326T161740Z
UID:10004040-1891581300-1891584900@lcor.org
SUMMARY:Ladies Bible Study
DESCRIPTION:Looking for a refreshing pause in the midst of your busy week? Join us for our Ladies Bible Study via Zoom\, where we not only delve into meaningful conversations about faith but also build a supportive and nurturing community. Whether you’re new to Bible study or a seasoned participant\, come as you are\, from the comfort of your home\, and let’s grow spiritually together! We can’t wait to see you there. ✨
URL:https://lcor.org/events-calendar/ladies-bible-study-5/2029-12-10/
CATEGORIES:Bible Study
ATTACH;FMTTYPE=image/png:https://lcor.org/wp-content/uploads/2025/01/Ladies-Bible-study.png
END:VEVENT
BEGIN:VEVENT
DTSTART;TZID=UTC:20291213T071500
DTEND;TZID=UTC:20291213T081500
DTSTAMP:20260421T044813
CREATED:20250326T161740Z
LAST-MODIFIED:20250326T161740Z
UID:10004041-1891840500-1891844100@lcor.org
SUMMARY:Ladies Bible Study
DESCRIPTION:Looking for a refreshing pause in the midst of your busy week? Join us for our Ladies Bible Study via Zoom\, where we not only delve into meaningful conversations about faith but also build a supportive and nurturing community. Whether you’re new to Bible study or a seasoned participant\, come as you are\, from the comfort of your home\, and let’s grow spiritually together! We can’t wait to see you there. ✨
URL:https://lcor.org/events-calendar/ladies-bible-study-5/2029-12-13/
CATEGORIES:Bible Study
ATTACH;FMTTYPE=image/png:https://lcor.org/wp-content/uploads/2025/01/Ladies-Bible-study.png
END:VEVENT
BEGIN:VEVENT
DTSTART;TZID=UTC:20291217T071500
DTEND;TZID=UTC:20291217T081500
DTSTAMP:20260421T044813
CREATED:20250326T161740Z
LAST-MODIFIED:20250326T161740Z
UID:10004042-1892186100-1892189700@lcor.org
SUMMARY:Ladies Bible Study
DESCRIPTION:Looking for a refreshing pause in the midst of your busy week? Join us for our Ladies Bible Study via Zoom\, where we not only delve into meaningful conversations about faith but also build a supportive and nurturing community. Whether you’re new to Bible study or a seasoned participant\, come as you are\, from the comfort of your home\, and let’s grow spiritually together! We can’t wait to see you there. ✨
URL:https://lcor.org/events-calendar/ladies-bible-study-5/2029-12-17/
CATEGORIES:Bible Study
ATTACH;FMTTYPE=image/png:https://lcor.org/wp-content/uploads/2025/01/Ladies-Bible-study.png
END:VEVENT
BEGIN:VEVENT
DTSTART;TZID=UTC:20291220T071500
DTEND;TZID=UTC:20291220T081500
DTSTAMP:20260421T044813
CREATED:20250326T161740Z
LAST-MODIFIED:20250326T161740Z
UID:10004043-1892445300-1892448900@lcor.org
SUMMARY:Ladies Bible Study
DESCRIPTION:Looking for a refreshing pause in the midst of your busy week? Join us for our Ladies Bible Study via Zoom\, where we not only delve into meaningful conversations about faith but also build a supportive and nurturing community. Whether you’re new to Bible study or a seasoned participant\, come as you are\, from the comfort of your home\, and let’s grow spiritually together! We can’t wait to see you there. ✨
URL:https://lcor.org/events-calendar/ladies-bible-study-5/2029-12-20/
CATEGORIES:Bible Study
ATTACH;FMTTYPE=image/png:https://lcor.org/wp-content/uploads/2025/01/Ladies-Bible-study.png
END:VEVENT
BEGIN:VEVENT
DTSTART;TZID=UTC:20291224T071500
DTEND;TZID=UTC:20291224T081500
DTSTAMP:20260421T044813
CREATED:20250326T161740Z
LAST-MODIFIED:20250326T161740Z
UID:10004044-1892790900-1892794500@lcor.org
SUMMARY:Ladies Bible Study
DESCRIPTION:Looking for a refreshing pause in the midst of your busy week? Join us for our Ladies Bible Study via Zoom\, where we not only delve into meaningful conversations about faith but also build a supportive and nurturing community. Whether you’re new to Bible study or a seasoned participant\, come as you are\, from the comfort of your home\, and let’s grow spiritually together! We can’t wait to see you there. ✨
URL:https://lcor.org/events-calendar/ladies-bible-study-5/2029-12-24/
CATEGORIES:Bible Study
ATTACH;FMTTYPE=image/png:https://lcor.org/wp-content/uploads/2025/01/Ladies-Bible-study.png
END:VEVENT
BEGIN:VEVENT
DTSTART;TZID=UTC:20291227T071500
DTEND;TZID=UTC:20291227T081500
DTSTAMP:20260421T044813
CREATED:20250326T161740Z
LAST-MODIFIED:20250326T161740Z
UID:10004045-1893050100-1893053700@lcor.org
SUMMARY:Ladies Bible Study
DESCRIPTION:Looking for a refreshing pause in the midst of your busy week? Join us for our Ladies Bible Study via Zoom\, where we not only delve into meaningful conversations about faith but also build a supportive and nurturing community. Whether you’re new to Bible study or a seasoned participant\, come as you are\, from the comfort of your home\, and let’s grow spiritually together! We can’t wait to see you there. ✨
URL:https://lcor.org/events-calendar/ladies-bible-study-5/2029-12-27/
CATEGORIES:Bible Study
ATTACH;FMTTYPE=image/png:https://lcor.org/wp-content/uploads/2025/01/Ladies-Bible-study.png
END:VEVENT
BEGIN:VEVENT
DTSTART;TZID=UTC:20291231T071500
DTEND;TZID=UTC:20291231T081500
DTSTAMP:20260421T044813
CREATED:20250326T161740Z
LAST-MODIFIED:20250326T161740Z
UID:10004046-1893395700-1893399300@lcor.org
SUMMARY:Ladies Bible Study
DESCRIPTION:Looking for a refreshing pause in the midst of your busy week? Join us for our Ladies Bible Study via Zoom\, where we not only delve into meaningful conversations about faith but also build a supportive and nurturing community. Whether you’re new to Bible study or a seasoned participant\, come as you are\, from the comfort of your home\, and let’s grow spiritually together! We can’t wait to see you there. ✨
URL:https://lcor.org/events-calendar/ladies-bible-study-5/2029-12-31/
CATEGORIES:Bible Study
ATTACH;FMTTYPE=image/png:https://lcor.org/wp-content/uploads/2025/01/Ladies-Bible-study.png
END:VEVENT
BEGIN:VEVENT
DTSTART;TZID=UTC:20300103T071500
DTEND;TZID=UTC:20300103T081500
DTSTAMP:20260421T044813
CREATED:20250326T161740Z
LAST-MODIFIED:20250326T161740Z
UID:10004047-1893654900-1893658500@lcor.org
SUMMARY:Ladies Bible Study
DESCRIPTION:Looking for a refreshing pause in the midst of your busy week? Join us for our Ladies Bible Study via Zoom\, where we not only delve into meaningful conversations about faith but also build a supportive and nurturing community. Whether you’re new to Bible study or a seasoned participant\, come as you are\, from the comfort of your home\, and let’s grow spiritually together! We can’t wait to see you there. ✨
URL:https://lcor.org/events-calendar/ladies-bible-study-5/2030-01-03/
CATEGORIES:Bible Study
ATTACH;FMTTYPE=image/png:https://lcor.org/wp-content/uploads/2025/01/Ladies-Bible-study.png
END:VEVENT
BEGIN:VEVENT
DTSTART;TZID=UTC:20300107T071500
DTEND;TZID=UTC:20300107T081500
DTSTAMP:20260421T044813
CREATED:20250326T161740Z
LAST-MODIFIED:20250326T161740Z
UID:10004048-1894000500-1894004100@lcor.org
SUMMARY:Ladies Bible Study
DESCRIPTION:Looking for a refreshing pause in the midst of your busy week? Join us for our Ladies Bible Study via Zoom\, where we not only delve into meaningful conversations about faith but also build a supportive and nurturing community. Whether you’re new to Bible study or a seasoned participant\, come as you are\, from the comfort of your home\, and let’s grow spiritually together! We can’t wait to see you there. ✨
URL:https://lcor.org/events-calendar/ladies-bible-study-5/2030-01-07/
CATEGORIES:Bible Study
ATTACH;FMTTYPE=image/png:https://lcor.org/wp-content/uploads/2025/01/Ladies-Bible-study.png
END:VEVENT
BEGIN:VEVENT
DTSTART;TZID=UTC:20300110T071500
DTEND;TZID=UTC:20300110T081500
DTSTAMP:20260421T044813
CREATED:20250326T161740Z
LAST-MODIFIED:20250326T161740Z
UID:10004049-1894259700-1894263300@lcor.org
SUMMARY:Ladies Bible Study
DESCRIPTION:Looking for a refreshing pause in the midst of your busy week? Join us for our Ladies Bible Study via Zoom\, where we not only delve into meaningful conversations about faith but also build a supportive and nurturing community. Whether you’re new to Bible study or a seasoned participant\, come as you are\, from the comfort of your home\, and let’s grow spiritually together! We can’t wait to see you there. ✨
URL:https://lcor.org/events-calendar/ladies-bible-study-5/2030-01-10/
CATEGORIES:Bible Study
ATTACH;FMTTYPE=image/png:https://lcor.org/wp-content/uploads/2025/01/Ladies-Bible-study.png
END:VEVENT
BEGIN:VEVENT
DTSTART;TZID=UTC:20300114T071500
DTEND;TZID=UTC:20300114T081500
DTSTAMP:20260421T044813
CREATED:20250326T161740Z
LAST-MODIFIED:20250326T161740Z
UID:10004050-1894605300-1894608900@lcor.org
SUMMARY:Ladies Bible Study
DESCRIPTION:Looking for a refreshing pause in the midst of your busy week? Join us for our Ladies Bible Study via Zoom\, where we not only delve into meaningful conversations about faith but also build a supportive and nurturing community. Whether you’re new to Bible study or a seasoned participant\, come as you are\, from the comfort of your home\, and let’s grow spiritually together! We can’t wait to see you there. ✨
URL:https://lcor.org/events-calendar/ladies-bible-study-5/2030-01-14/
CATEGORIES:Bible Study
ATTACH;FMTTYPE=image/png:https://lcor.org/wp-content/uploads/2025/01/Ladies-Bible-study.png
END:VEVENT
BEGIN:VEVENT
DTSTART;TZID=UTC:20300117T071500
DTEND;TZID=UTC:20300117T081500
DTSTAMP:20260421T044813
CREATED:20250326T161740Z
LAST-MODIFIED:20250326T161740Z
UID:10004051-1894864500-1894868100@lcor.org
SUMMARY:Ladies Bible Study
DESCRIPTION:Looking for a refreshing pause in the midst of your busy week? Join us for our Ladies Bible Study via Zoom\, where we not only delve into meaningful conversations about faith but also build a supportive and nurturing community. Whether you’re new to Bible study or a seasoned participant\, come as you are\, from the comfort of your home\, and let’s grow spiritually together! We can’t wait to see you there. ✨
URL:https://lcor.org/events-calendar/ladies-bible-study-5/2030-01-17/
CATEGORIES:Bible Study
ATTACH;FMTTYPE=image/png:https://lcor.org/wp-content/uploads/2025/01/Ladies-Bible-study.png
END:VEVENT
BEGIN:VEVENT
DTSTART;TZID=UTC:20300121T071500
DTEND;TZID=UTC:20300121T081500
DTSTAMP:20260421T044813
CREATED:20250326T161740Z
LAST-MODIFIED:20250326T161740Z
UID:10004052-1895210100-1895213700@lcor.org
SUMMARY:Ladies Bible Study
DESCRIPTION:Looking for a refreshing pause in the midst of your busy week? Join us for our Ladies Bible Study via Zoom\, where we not only delve into meaningful conversations about faith but also build a supportive and nurturing community. Whether you’re new to Bible study or a seasoned participant\, come as you are\, from the comfort of your home\, and let’s grow spiritually together! We can’t wait to see you there. ✨
URL:https://lcor.org/events-calendar/ladies-bible-study-5/2030-01-21/
CATEGORIES:Bible Study
ATTACH;FMTTYPE=image/png:https://lcor.org/wp-content/uploads/2025/01/Ladies-Bible-study.png
END:VEVENT
BEGIN:VEVENT
DTSTART;TZID=UTC:20300124T071500
DTEND;TZID=UTC:20300124T081500
DTSTAMP:20260421T044813
CREATED:20250326T161740Z
LAST-MODIFIED:20250326T161740Z
UID:10004053-1895469300-1895472900@lcor.org
SUMMARY:Ladies Bible Study
DESCRIPTION:Looking for a refreshing pause in the midst of your busy week? Join us for our Ladies Bible Study via Zoom\, where we not only delve into meaningful conversations about faith but also build a supportive and nurturing community. Whether you’re new to Bible study or a seasoned participant\, come as you are\, from the comfort of your home\, and let’s grow spiritually together! We can’t wait to see you there. ✨
URL:https://lcor.org/events-calendar/ladies-bible-study-5/2030-01-24/
CATEGORIES:Bible Study
ATTACH;FMTTYPE=image/png:https://lcor.org/wp-content/uploads/2025/01/Ladies-Bible-study.png
END:VEVENT
BEGIN:VEVENT
DTSTART;TZID=UTC:20300128T071500
DTEND;TZID=UTC:20300128T081500
DTSTAMP:20260421T044813
CREATED:20250326T161740Z
LAST-MODIFIED:20250326T161740Z
UID:10004054-1895814900-1895818500@lcor.org
SUMMARY:Ladies Bible Study
DESCRIPTION:Looking for a refreshing pause in the midst of your busy week? Join us for our Ladies Bible Study via Zoom\, where we not only delve into meaningful conversations about faith but also build a supportive and nurturing community. Whether you’re new to Bible study or a seasoned participant\, come as you are\, from the comfort of your home\, and let’s grow spiritually together! We can’t wait to see you there. ✨
URL:https://lcor.org/events-calendar/ladies-bible-study-5/2030-01-28/
CATEGORIES:Bible Study
ATTACH;FMTTYPE=image/png:https://lcor.org/wp-content/uploads/2025/01/Ladies-Bible-study.png
END:VEVENT
END:VCALENDAR