BEGIN:VCALENDAR
VERSION:2.0
PRODID:-//Lutheran Church of Our Redeemer - ECPv6.15.20//NONSGML v1.0//EN
CALSCALE:GREGORIAN
METHOD:PUBLISH
X-WR-CALNAME:Lutheran Church of Our Redeemer
X-ORIGINAL-URL:https://lcor.org
X-WR-CALDESC:Events for Lutheran Church of Our Redeemer
REFRESH-INTERVAL;VALUE=DURATION:PT1H
X-Robots-Tag:noindex
X-PUBLISHED-TTL:PT1H
BEGIN:VTIMEZONE
TZID:UTC
BEGIN:STANDARD
TZOFFSETFROM:+0000
TZOFFSETTO:+0000
TZNAME:UTC
DTSTART:20280101T000000
END:STANDARD
END:VTIMEZONE
BEGIN:VEVENT
DTSTART;TZID=UTC:20290709T071500
DTEND;TZID=UTC:20290709T081500
DTSTAMP:20260420T224636
CREATED:20250326T161740Z
LAST-MODIFIED:20250326T161740Z
UID:10003996-1878275700-1878279300@lcor.org
SUMMARY:Ladies Bible Study
DESCRIPTION:Looking for a refreshing pause in the midst of your busy week? Join us for our Ladies Bible Study via Zoom\, where we not only delve into meaningful conversations about faith but also build a supportive and nurturing community. Whether you’re new to Bible study or a seasoned participant\, come as you are\, from the comfort of your home\, and let’s grow spiritually together! We can’t wait to see you there. ✨
URL:https://lcor.org/events-calendar/ladies-bible-study-5/2029-07-09/
CATEGORIES:Bible Study
ATTACH;FMTTYPE=image/png:https://lcor.org/wp-content/uploads/2025/01/Ladies-Bible-study.png
END:VEVENT
BEGIN:VEVENT
DTSTART;TZID=UTC:20290712T071500
DTEND;TZID=UTC:20290712T081500
DTSTAMP:20260420T224636
CREATED:20250326T161740Z
LAST-MODIFIED:20250326T161740Z
UID:10003997-1878534900-1878538500@lcor.org
SUMMARY:Ladies Bible Study
DESCRIPTION:Looking for a refreshing pause in the midst of your busy week? Join us for our Ladies Bible Study via Zoom\, where we not only delve into meaningful conversations about faith but also build a supportive and nurturing community. Whether you’re new to Bible study or a seasoned participant\, come as you are\, from the comfort of your home\, and let’s grow spiritually together! We can’t wait to see you there. ✨
URL:https://lcor.org/events-calendar/ladies-bible-study-5/2029-07-12/
CATEGORIES:Bible Study
ATTACH;FMTTYPE=image/png:https://lcor.org/wp-content/uploads/2025/01/Ladies-Bible-study.png
END:VEVENT
BEGIN:VEVENT
DTSTART;TZID=UTC:20290716T071500
DTEND;TZID=UTC:20290716T081500
DTSTAMP:20260420T224636
CREATED:20250326T161740Z
LAST-MODIFIED:20250326T161740Z
UID:10003998-1878880500-1878884100@lcor.org
SUMMARY:Ladies Bible Study
DESCRIPTION:Looking for a refreshing pause in the midst of your busy week? Join us for our Ladies Bible Study via Zoom\, where we not only delve into meaningful conversations about faith but also build a supportive and nurturing community. Whether you’re new to Bible study or a seasoned participant\, come as you are\, from the comfort of your home\, and let’s grow spiritually together! We can’t wait to see you there. ✨
URL:https://lcor.org/events-calendar/ladies-bible-study-5/2029-07-16/
CATEGORIES:Bible Study
ATTACH;FMTTYPE=image/png:https://lcor.org/wp-content/uploads/2025/01/Ladies-Bible-study.png
END:VEVENT
BEGIN:VEVENT
DTSTART;TZID=UTC:20290719T071500
DTEND;TZID=UTC:20290719T081500
DTSTAMP:20260420T224636
CREATED:20250326T161740Z
LAST-MODIFIED:20250326T161740Z
UID:10003999-1879139700-1879143300@lcor.org
SUMMARY:Ladies Bible Study
DESCRIPTION:Looking for a refreshing pause in the midst of your busy week? Join us for our Ladies Bible Study via Zoom\, where we not only delve into meaningful conversations about faith but also build a supportive and nurturing community. Whether you’re new to Bible study or a seasoned participant\, come as you are\, from the comfort of your home\, and let’s grow spiritually together! We can’t wait to see you there. ✨
URL:https://lcor.org/events-calendar/ladies-bible-study-5/2029-07-19/
CATEGORIES:Bible Study
ATTACH;FMTTYPE=image/png:https://lcor.org/wp-content/uploads/2025/01/Ladies-Bible-study.png
END:VEVENT
BEGIN:VEVENT
DTSTART;TZID=UTC:20290723T071500
DTEND;TZID=UTC:20290723T081500
DTSTAMP:20260420T224636
CREATED:20250326T161740Z
LAST-MODIFIED:20250326T161740Z
UID:10004000-1879485300-1879488900@lcor.org
SUMMARY:Ladies Bible Study
DESCRIPTION:Looking for a refreshing pause in the midst of your busy week? Join us for our Ladies Bible Study via Zoom\, where we not only delve into meaningful conversations about faith but also build a supportive and nurturing community. Whether you’re new to Bible study or a seasoned participant\, come as you are\, from the comfort of your home\, and let’s grow spiritually together! We can’t wait to see you there. ✨
URL:https://lcor.org/events-calendar/ladies-bible-study-5/2029-07-23/
CATEGORIES:Bible Study
ATTACH;FMTTYPE=image/png:https://lcor.org/wp-content/uploads/2025/01/Ladies-Bible-study.png
END:VEVENT
BEGIN:VEVENT
DTSTART;TZID=UTC:20290726T071500
DTEND;TZID=UTC:20290726T081500
DTSTAMP:20260420T224636
CREATED:20250326T161740Z
LAST-MODIFIED:20250326T161740Z
UID:10004001-1879744500-1879748100@lcor.org
SUMMARY:Ladies Bible Study
DESCRIPTION:Looking for a refreshing pause in the midst of your busy week? Join us for our Ladies Bible Study via Zoom\, where we not only delve into meaningful conversations about faith but also build a supportive and nurturing community. Whether you’re new to Bible study or a seasoned participant\, come as you are\, from the comfort of your home\, and let’s grow spiritually together! We can’t wait to see you there. ✨
URL:https://lcor.org/events-calendar/ladies-bible-study-5/2029-07-26/
CATEGORIES:Bible Study
ATTACH;FMTTYPE=image/png:https://lcor.org/wp-content/uploads/2025/01/Ladies-Bible-study.png
END:VEVENT
BEGIN:VEVENT
DTSTART;TZID=UTC:20290730T071500
DTEND;TZID=UTC:20290730T081500
DTSTAMP:20260420T224636
CREATED:20250326T161740Z
LAST-MODIFIED:20250326T161740Z
UID:10004002-1880090100-1880093700@lcor.org
SUMMARY:Ladies Bible Study
DESCRIPTION:Looking for a refreshing pause in the midst of your busy week? Join us for our Ladies Bible Study via Zoom\, where we not only delve into meaningful conversations about faith but also build a supportive and nurturing community. Whether you’re new to Bible study or a seasoned participant\, come as you are\, from the comfort of your home\, and let’s grow spiritually together! We can’t wait to see you there. ✨
URL:https://lcor.org/events-calendar/ladies-bible-study-5/2029-07-30/
CATEGORIES:Bible Study
ATTACH;FMTTYPE=image/png:https://lcor.org/wp-content/uploads/2025/01/Ladies-Bible-study.png
END:VEVENT
BEGIN:VEVENT
DTSTART;TZID=UTC:20290802T071500
DTEND;TZID=UTC:20290802T081500
DTSTAMP:20260420T224636
CREATED:20250326T161740Z
LAST-MODIFIED:20250326T161740Z
UID:10004003-1880349300-1880352900@lcor.org
SUMMARY:Ladies Bible Study
DESCRIPTION:Looking for a refreshing pause in the midst of your busy week? Join us for our Ladies Bible Study via Zoom\, where we not only delve into meaningful conversations about faith but also build a supportive and nurturing community. Whether you’re new to Bible study or a seasoned participant\, come as you are\, from the comfort of your home\, and let’s grow spiritually together! We can’t wait to see you there. ✨
URL:https://lcor.org/events-calendar/ladies-bible-study-5/2029-08-02/
CATEGORIES:Bible Study
ATTACH;FMTTYPE=image/png:https://lcor.org/wp-content/uploads/2025/01/Ladies-Bible-study.png
END:VEVENT
BEGIN:VEVENT
DTSTART;TZID=UTC:20290806T071500
DTEND;TZID=UTC:20290806T081500
DTSTAMP:20260420T224636
CREATED:20250326T161740Z
LAST-MODIFIED:20250326T161740Z
UID:10004004-1880694900-1880698500@lcor.org
SUMMARY:Ladies Bible Study
DESCRIPTION:Looking for a refreshing pause in the midst of your busy week? Join us for our Ladies Bible Study via Zoom\, where we not only delve into meaningful conversations about faith but also build a supportive and nurturing community. Whether you’re new to Bible study or a seasoned participant\, come as you are\, from the comfort of your home\, and let’s grow spiritually together! We can’t wait to see you there. ✨
URL:https://lcor.org/events-calendar/ladies-bible-study-5/2029-08-06/
CATEGORIES:Bible Study
ATTACH;FMTTYPE=image/png:https://lcor.org/wp-content/uploads/2025/01/Ladies-Bible-study.png
END:VEVENT
BEGIN:VEVENT
DTSTART;TZID=UTC:20290809T071500
DTEND;TZID=UTC:20290809T081500
DTSTAMP:20260420T224636
CREATED:20250326T161740Z
LAST-MODIFIED:20250326T161740Z
UID:10004005-1880954100-1880957700@lcor.org
SUMMARY:Ladies Bible Study
DESCRIPTION:Looking for a refreshing pause in the midst of your busy week? Join us for our Ladies Bible Study via Zoom\, where we not only delve into meaningful conversations about faith but also build a supportive and nurturing community. Whether you’re new to Bible study or a seasoned participant\, come as you are\, from the comfort of your home\, and let’s grow spiritually together! We can’t wait to see you there. ✨
URL:https://lcor.org/events-calendar/ladies-bible-study-5/2029-08-09/
CATEGORIES:Bible Study
ATTACH;FMTTYPE=image/png:https://lcor.org/wp-content/uploads/2025/01/Ladies-Bible-study.png
END:VEVENT
BEGIN:VEVENT
DTSTART;TZID=UTC:20290813T071500
DTEND;TZID=UTC:20290813T081500
DTSTAMP:20260420T224636
CREATED:20250326T161740Z
LAST-MODIFIED:20250326T161740Z
UID:10004006-1881299700-1881303300@lcor.org
SUMMARY:Ladies Bible Study
DESCRIPTION:Looking for a refreshing pause in the midst of your busy week? Join us for our Ladies Bible Study via Zoom\, where we not only delve into meaningful conversations about faith but also build a supportive and nurturing community. Whether you’re new to Bible study or a seasoned participant\, come as you are\, from the comfort of your home\, and let’s grow spiritually together! We can’t wait to see you there. ✨
URL:https://lcor.org/events-calendar/ladies-bible-study-5/2029-08-13/
CATEGORIES:Bible Study
ATTACH;FMTTYPE=image/png:https://lcor.org/wp-content/uploads/2025/01/Ladies-Bible-study.png
END:VEVENT
BEGIN:VEVENT
DTSTART;TZID=UTC:20290816T071500
DTEND;TZID=UTC:20290816T081500
DTSTAMP:20260420T224636
CREATED:20250326T161740Z
LAST-MODIFIED:20250326T161740Z
UID:10004007-1881558900-1881562500@lcor.org
SUMMARY:Ladies Bible Study
DESCRIPTION:Looking for a refreshing pause in the midst of your busy week? Join us for our Ladies Bible Study via Zoom\, where we not only delve into meaningful conversations about faith but also build a supportive and nurturing community. Whether you’re new to Bible study or a seasoned participant\, come as you are\, from the comfort of your home\, and let’s grow spiritually together! We can’t wait to see you there. ✨
URL:https://lcor.org/events-calendar/ladies-bible-study-5/2029-08-16/
CATEGORIES:Bible Study
ATTACH;FMTTYPE=image/png:https://lcor.org/wp-content/uploads/2025/01/Ladies-Bible-study.png
END:VEVENT
BEGIN:VEVENT
DTSTART;TZID=UTC:20290820T071500
DTEND;TZID=UTC:20290820T081500
DTSTAMP:20260420T224636
CREATED:20250326T161740Z
LAST-MODIFIED:20250326T161740Z
UID:10004008-1881904500-1881908100@lcor.org
SUMMARY:Ladies Bible Study
DESCRIPTION:Looking for a refreshing pause in the midst of your busy week? Join us for our Ladies Bible Study via Zoom\, where we not only delve into meaningful conversations about faith but also build a supportive and nurturing community. Whether you’re new to Bible study or a seasoned participant\, come as you are\, from the comfort of your home\, and let’s grow spiritually together! We can’t wait to see you there. ✨
URL:https://lcor.org/events-calendar/ladies-bible-study-5/2029-08-20/
CATEGORIES:Bible Study
ATTACH;FMTTYPE=image/png:https://lcor.org/wp-content/uploads/2025/01/Ladies-Bible-study.png
END:VEVENT
BEGIN:VEVENT
DTSTART;TZID=UTC:20290823T071500
DTEND;TZID=UTC:20290823T081500
DTSTAMP:20260420T224636
CREATED:20250326T161740Z
LAST-MODIFIED:20250326T161740Z
UID:10004009-1882163700-1882167300@lcor.org
SUMMARY:Ladies Bible Study
DESCRIPTION:Looking for a refreshing pause in the midst of your busy week? Join us for our Ladies Bible Study via Zoom\, where we not only delve into meaningful conversations about faith but also build a supportive and nurturing community. Whether you’re new to Bible study or a seasoned participant\, come as you are\, from the comfort of your home\, and let’s grow spiritually together! We can’t wait to see you there. ✨
URL:https://lcor.org/events-calendar/ladies-bible-study-5/2029-08-23/
CATEGORIES:Bible Study
ATTACH;FMTTYPE=image/png:https://lcor.org/wp-content/uploads/2025/01/Ladies-Bible-study.png
END:VEVENT
BEGIN:VEVENT
DTSTART;TZID=UTC:20290827T071500
DTEND;TZID=UTC:20290827T081500
DTSTAMP:20260420T224636
CREATED:20250326T161740Z
LAST-MODIFIED:20250326T161740Z
UID:10004010-1882509300-1882512900@lcor.org
SUMMARY:Ladies Bible Study
DESCRIPTION:Looking for a refreshing pause in the midst of your busy week? Join us for our Ladies Bible Study via Zoom\, where we not only delve into meaningful conversations about faith but also build a supportive and nurturing community. Whether you’re new to Bible study or a seasoned participant\, come as you are\, from the comfort of your home\, and let’s grow spiritually together! We can’t wait to see you there. ✨
URL:https://lcor.org/events-calendar/ladies-bible-study-5/2029-08-27/
CATEGORIES:Bible Study
ATTACH;FMTTYPE=image/png:https://lcor.org/wp-content/uploads/2025/01/Ladies-Bible-study.png
END:VEVENT
BEGIN:VEVENT
DTSTART;TZID=UTC:20290830T071500
DTEND;TZID=UTC:20290830T081500
DTSTAMP:20260420T224636
CREATED:20250326T161740Z
LAST-MODIFIED:20250326T161740Z
UID:10004011-1882768500-1882772100@lcor.org
SUMMARY:Ladies Bible Study
DESCRIPTION:Looking for a refreshing pause in the midst of your busy week? Join us for our Ladies Bible Study via Zoom\, where we not only delve into meaningful conversations about faith but also build a supportive and nurturing community. Whether you’re new to Bible study or a seasoned participant\, come as you are\, from the comfort of your home\, and let’s grow spiritually together! We can’t wait to see you there. ✨
URL:https://lcor.org/events-calendar/ladies-bible-study-5/2029-08-30/
CATEGORIES:Bible Study
ATTACH;FMTTYPE=image/png:https://lcor.org/wp-content/uploads/2025/01/Ladies-Bible-study.png
END:VEVENT
BEGIN:VEVENT
DTSTART;TZID=UTC:20290903T071500
DTEND;TZID=UTC:20290903T081500
DTSTAMP:20260420T224636
CREATED:20250326T161740Z
LAST-MODIFIED:20250326T161740Z
UID:10004012-1883114100-1883117700@lcor.org
SUMMARY:Ladies Bible Study
DESCRIPTION:Looking for a refreshing pause in the midst of your busy week? Join us for our Ladies Bible Study via Zoom\, where we not only delve into meaningful conversations about faith but also build a supportive and nurturing community. Whether you’re new to Bible study or a seasoned participant\, come as you are\, from the comfort of your home\, and let’s grow spiritually together! We can’t wait to see you there. ✨
URL:https://lcor.org/events-calendar/ladies-bible-study-5/2029-09-03/
CATEGORIES:Bible Study
ATTACH;FMTTYPE=image/png:https://lcor.org/wp-content/uploads/2025/01/Ladies-Bible-study.png
END:VEVENT
BEGIN:VEVENT
DTSTART;TZID=UTC:20290906T071500
DTEND;TZID=UTC:20290906T081500
DTSTAMP:20260420T224636
CREATED:20250326T161740Z
LAST-MODIFIED:20250326T161740Z
UID:10004013-1883373300-1883376900@lcor.org
SUMMARY:Ladies Bible Study
DESCRIPTION:Looking for a refreshing pause in the midst of your busy week? Join us for our Ladies Bible Study via Zoom\, where we not only delve into meaningful conversations about faith but also build a supportive and nurturing community. Whether you’re new to Bible study or a seasoned participant\, come as you are\, from the comfort of your home\, and let’s grow spiritually together! We can’t wait to see you there. ✨
URL:https://lcor.org/events-calendar/ladies-bible-study-5/2029-09-06/
CATEGORIES:Bible Study
ATTACH;FMTTYPE=image/png:https://lcor.org/wp-content/uploads/2025/01/Ladies-Bible-study.png
END:VEVENT
BEGIN:VEVENT
DTSTART;TZID=UTC:20290910T071500
DTEND;TZID=UTC:20290910T081500
DTSTAMP:20260420T224636
CREATED:20250326T161740Z
LAST-MODIFIED:20250326T161740Z
UID:10004014-1883718900-1883722500@lcor.org
SUMMARY:Ladies Bible Study
DESCRIPTION:Looking for a refreshing pause in the midst of your busy week? Join us for our Ladies Bible Study via Zoom\, where we not only delve into meaningful conversations about faith but also build a supportive and nurturing community. Whether you’re new to Bible study or a seasoned participant\, come as you are\, from the comfort of your home\, and let’s grow spiritually together! We can’t wait to see you there. ✨
URL:https://lcor.org/events-calendar/ladies-bible-study-5/2029-09-10/
CATEGORIES:Bible Study
ATTACH;FMTTYPE=image/png:https://lcor.org/wp-content/uploads/2025/01/Ladies-Bible-study.png
END:VEVENT
BEGIN:VEVENT
DTSTART;TZID=UTC:20290913T071500
DTEND;TZID=UTC:20290913T081500
DTSTAMP:20260420T224636
CREATED:20250326T161740Z
LAST-MODIFIED:20250326T161740Z
UID:10004015-1883978100-1883981700@lcor.org
SUMMARY:Ladies Bible Study
DESCRIPTION:Looking for a refreshing pause in the midst of your busy week? Join us for our Ladies Bible Study via Zoom\, where we not only delve into meaningful conversations about faith but also build a supportive and nurturing community. Whether you’re new to Bible study or a seasoned participant\, come as you are\, from the comfort of your home\, and let’s grow spiritually together! We can’t wait to see you there. ✨
URL:https://lcor.org/events-calendar/ladies-bible-study-5/2029-09-13/
CATEGORIES:Bible Study
ATTACH;FMTTYPE=image/png:https://lcor.org/wp-content/uploads/2025/01/Ladies-Bible-study.png
END:VEVENT
BEGIN:VEVENT
DTSTART;TZID=UTC:20290917T071500
DTEND;TZID=UTC:20290917T081500
DTSTAMP:20260420T224636
CREATED:20250326T161740Z
LAST-MODIFIED:20250326T161740Z
UID:10004016-1884323700-1884327300@lcor.org
SUMMARY:Ladies Bible Study
DESCRIPTION:Looking for a refreshing pause in the midst of your busy week? Join us for our Ladies Bible Study via Zoom\, where we not only delve into meaningful conversations about faith but also build a supportive and nurturing community. Whether you’re new to Bible study or a seasoned participant\, come as you are\, from the comfort of your home\, and let’s grow spiritually together! We can’t wait to see you there. ✨
URL:https://lcor.org/events-calendar/ladies-bible-study-5/2029-09-17/
CATEGORIES:Bible Study
ATTACH;FMTTYPE=image/png:https://lcor.org/wp-content/uploads/2025/01/Ladies-Bible-study.png
END:VEVENT
BEGIN:VEVENT
DTSTART;TZID=UTC:20290920T071500
DTEND;TZID=UTC:20290920T081500
DTSTAMP:20260420T224636
CREATED:20250326T161740Z
LAST-MODIFIED:20250326T161740Z
UID:10004017-1884582900-1884586500@lcor.org
SUMMARY:Ladies Bible Study
DESCRIPTION:Looking for a refreshing pause in the midst of your busy week? Join us for our Ladies Bible Study via Zoom\, where we not only delve into meaningful conversations about faith but also build a supportive and nurturing community. Whether you’re new to Bible study or a seasoned participant\, come as you are\, from the comfort of your home\, and let’s grow spiritually together! We can’t wait to see you there. ✨
URL:https://lcor.org/events-calendar/ladies-bible-study-5/2029-09-20/
CATEGORIES:Bible Study
ATTACH;FMTTYPE=image/png:https://lcor.org/wp-content/uploads/2025/01/Ladies-Bible-study.png
END:VEVENT
BEGIN:VEVENT
DTSTART;TZID=UTC:20290924T071500
DTEND;TZID=UTC:20290924T081500
DTSTAMP:20260420T224636
CREATED:20250326T161740Z
LAST-MODIFIED:20250326T161740Z
UID:10004018-1884928500-1884932100@lcor.org
SUMMARY:Ladies Bible Study
DESCRIPTION:Looking for a refreshing pause in the midst of your busy week? Join us for our Ladies Bible Study via Zoom\, where we not only delve into meaningful conversations about faith but also build a supportive and nurturing community. Whether you’re new to Bible study or a seasoned participant\, come as you are\, from the comfort of your home\, and let’s grow spiritually together! We can’t wait to see you there. ✨
URL:https://lcor.org/events-calendar/ladies-bible-study-5/2029-09-24/
CATEGORIES:Bible Study
ATTACH;FMTTYPE=image/png:https://lcor.org/wp-content/uploads/2025/01/Ladies-Bible-study.png
END:VEVENT
BEGIN:VEVENT
DTSTART;TZID=UTC:20290927T071500
DTEND;TZID=UTC:20290927T081500
DTSTAMP:20260420T224636
CREATED:20250326T161740Z
LAST-MODIFIED:20250326T161740Z
UID:10004019-1885187700-1885191300@lcor.org
SUMMARY:Ladies Bible Study
DESCRIPTION:Looking for a refreshing pause in the midst of your busy week? Join us for our Ladies Bible Study via Zoom\, where we not only delve into meaningful conversations about faith but also build a supportive and nurturing community. Whether you’re new to Bible study or a seasoned participant\, come as you are\, from the comfort of your home\, and let’s grow spiritually together! We can’t wait to see you there. ✨
URL:https://lcor.org/events-calendar/ladies-bible-study-5/2029-09-27/
CATEGORIES:Bible Study
ATTACH;FMTTYPE=image/png:https://lcor.org/wp-content/uploads/2025/01/Ladies-Bible-study.png
END:VEVENT
BEGIN:VEVENT
DTSTART;TZID=UTC:20291001T071500
DTEND;TZID=UTC:20291001T081500
DTSTAMP:20260420T224636
CREATED:20250326T161740Z
LAST-MODIFIED:20250326T161740Z
UID:10004020-1885533300-1885536900@lcor.org
SUMMARY:Ladies Bible Study
DESCRIPTION:Looking for a refreshing pause in the midst of your busy week? Join us for our Ladies Bible Study via Zoom\, where we not only delve into meaningful conversations about faith but also build a supportive and nurturing community. Whether you’re new to Bible study or a seasoned participant\, come as you are\, from the comfort of your home\, and let’s grow spiritually together! We can’t wait to see you there. ✨
URL:https://lcor.org/events-calendar/ladies-bible-study-5/2029-10-01/
CATEGORIES:Bible Study
ATTACH;FMTTYPE=image/png:https://lcor.org/wp-content/uploads/2025/01/Ladies-Bible-study.png
END:VEVENT
BEGIN:VEVENT
DTSTART;TZID=UTC:20291004T071500
DTEND;TZID=UTC:20291004T081500
DTSTAMP:20260420T224636
CREATED:20250326T161740Z
LAST-MODIFIED:20250326T161740Z
UID:10004021-1885792500-1885796100@lcor.org
SUMMARY:Ladies Bible Study
DESCRIPTION:Looking for a refreshing pause in the midst of your busy week? Join us for our Ladies Bible Study via Zoom\, where we not only delve into meaningful conversations about faith but also build a supportive and nurturing community. Whether you’re new to Bible study or a seasoned participant\, come as you are\, from the comfort of your home\, and let’s grow spiritually together! We can’t wait to see you there. ✨
URL:https://lcor.org/events-calendar/ladies-bible-study-5/2029-10-04/
CATEGORIES:Bible Study
ATTACH;FMTTYPE=image/png:https://lcor.org/wp-content/uploads/2025/01/Ladies-Bible-study.png
END:VEVENT
BEGIN:VEVENT
DTSTART;TZID=UTC:20291008T071500
DTEND;TZID=UTC:20291008T081500
DTSTAMP:20260420T224636
CREATED:20250326T161740Z
LAST-MODIFIED:20250326T161740Z
UID:10004022-1886138100-1886141700@lcor.org
SUMMARY:Ladies Bible Study
DESCRIPTION:Looking for a refreshing pause in the midst of your busy week? Join us for our Ladies Bible Study via Zoom\, where we not only delve into meaningful conversations about faith but also build a supportive and nurturing community. Whether you’re new to Bible study or a seasoned participant\, come as you are\, from the comfort of your home\, and let’s grow spiritually together! We can’t wait to see you there. ✨
URL:https://lcor.org/events-calendar/ladies-bible-study-5/2029-10-08/
CATEGORIES:Bible Study
ATTACH;FMTTYPE=image/png:https://lcor.org/wp-content/uploads/2025/01/Ladies-Bible-study.png
END:VEVENT
BEGIN:VEVENT
DTSTART;TZID=UTC:20291011T071500
DTEND;TZID=UTC:20291011T081500
DTSTAMP:20260420T224636
CREATED:20250326T161740Z
LAST-MODIFIED:20250326T161740Z
UID:10004023-1886397300-1886400900@lcor.org
SUMMARY:Ladies Bible Study
DESCRIPTION:Looking for a refreshing pause in the midst of your busy week? Join us for our Ladies Bible Study via Zoom\, where we not only delve into meaningful conversations about faith but also build a supportive and nurturing community. Whether you’re new to Bible study or a seasoned participant\, come as you are\, from the comfort of your home\, and let’s grow spiritually together! We can’t wait to see you there. ✨
URL:https://lcor.org/events-calendar/ladies-bible-study-5/2029-10-11/
CATEGORIES:Bible Study
ATTACH;FMTTYPE=image/png:https://lcor.org/wp-content/uploads/2025/01/Ladies-Bible-study.png
END:VEVENT
BEGIN:VEVENT
DTSTART;TZID=UTC:20291015T071500
DTEND;TZID=UTC:20291015T081500
DTSTAMP:20260420T224636
CREATED:20250326T161740Z
LAST-MODIFIED:20250326T161740Z
UID:10004024-1886742900-1886746500@lcor.org
SUMMARY:Ladies Bible Study
DESCRIPTION:Looking for a refreshing pause in the midst of your busy week? Join us for our Ladies Bible Study via Zoom\, where we not only delve into meaningful conversations about faith but also build a supportive and nurturing community. Whether you’re new to Bible study or a seasoned participant\, come as you are\, from the comfort of your home\, and let’s grow spiritually together! We can’t wait to see you there. ✨
URL:https://lcor.org/events-calendar/ladies-bible-study-5/2029-10-15/
CATEGORIES:Bible Study
ATTACH;FMTTYPE=image/png:https://lcor.org/wp-content/uploads/2025/01/Ladies-Bible-study.png
END:VEVENT
BEGIN:VEVENT
DTSTART;TZID=UTC:20291018T071500
DTEND;TZID=UTC:20291018T081500
DTSTAMP:20260420T224636
CREATED:20250326T161740Z
LAST-MODIFIED:20250326T161740Z
UID:10004025-1887002100-1887005700@lcor.org
SUMMARY:Ladies Bible Study
DESCRIPTION:Looking for a refreshing pause in the midst of your busy week? Join us for our Ladies Bible Study via Zoom\, where we not only delve into meaningful conversations about faith but also build a supportive and nurturing community. Whether you’re new to Bible study or a seasoned participant\, come as you are\, from the comfort of your home\, and let’s grow spiritually together! We can’t wait to see you there. ✨
URL:https://lcor.org/events-calendar/ladies-bible-study-5/2029-10-18/
CATEGORIES:Bible Study
ATTACH;FMTTYPE=image/png:https://lcor.org/wp-content/uploads/2025/01/Ladies-Bible-study.png
END:VEVENT
END:VCALENDAR