BEGIN:VCALENDAR
VERSION:2.0
PRODID:-//Lutheran Church of Our Redeemer - ECPv6.15.20//NONSGML v1.0//EN
CALSCALE:GREGORIAN
METHOD:PUBLISH
X-WR-CALNAME:Lutheran Church of Our Redeemer
X-ORIGINAL-URL:https://lcor.org
X-WR-CALDESC:Events for Lutheran Church of Our Redeemer
REFRESH-INTERVAL;VALUE=DURATION:PT1H
X-Robots-Tag:noindex
X-PUBLISHED-TTL:PT1H
BEGIN:VTIMEZONE
TZID:UTC
BEGIN:STANDARD
TZOFFSETFROM:+0000
TZOFFSETTO:+0000
TZNAME:UTC
DTSTART:20280101T000000
END:STANDARD
END:VTIMEZONE
BEGIN:VEVENT
DTSTART;TZID=UTC:20290405T071500
DTEND;TZID=UTC:20290405T081500
DTSTAMP:20260421T054438
CREATED:20250326T161740Z
LAST-MODIFIED:20250326T161740Z
UID:10003969-1870067700-1870071300@lcor.org
SUMMARY:Ladies Bible Study
DESCRIPTION:Looking for a refreshing pause in the midst of your busy week? Join us for our Ladies Bible Study via Zoom\, where we not only delve into meaningful conversations about faith but also build a supportive and nurturing community. Whether you’re new to Bible study or a seasoned participant\, come as you are\, from the comfort of your home\, and let’s grow spiritually together! We can’t wait to see you there. ✨
URL:https://lcor.org/events-calendar/ladies-bible-study-5/2029-04-05/
CATEGORIES:Bible Study
ATTACH;FMTTYPE=image/png:https://lcor.org/wp-content/uploads/2025/01/Ladies-Bible-study.png
END:VEVENT
BEGIN:VEVENT
DTSTART;TZID=UTC:20290409T071500
DTEND;TZID=UTC:20290409T081500
DTSTAMP:20260421T054438
CREATED:20250326T161740Z
LAST-MODIFIED:20250326T161740Z
UID:10003970-1870413300-1870416900@lcor.org
SUMMARY:Ladies Bible Study
DESCRIPTION:Looking for a refreshing pause in the midst of your busy week? Join us for our Ladies Bible Study via Zoom\, where we not only delve into meaningful conversations about faith but also build a supportive and nurturing community. Whether you’re new to Bible study or a seasoned participant\, come as you are\, from the comfort of your home\, and let’s grow spiritually together! We can’t wait to see you there. ✨
URL:https://lcor.org/events-calendar/ladies-bible-study-5/2029-04-09/
CATEGORIES:Bible Study
ATTACH;FMTTYPE=image/png:https://lcor.org/wp-content/uploads/2025/01/Ladies-Bible-study.png
END:VEVENT
BEGIN:VEVENT
DTSTART;TZID=UTC:20290412T071500
DTEND;TZID=UTC:20290412T081500
DTSTAMP:20260421T054438
CREATED:20250326T161740Z
LAST-MODIFIED:20250326T161740Z
UID:10003971-1870672500-1870676100@lcor.org
SUMMARY:Ladies Bible Study
DESCRIPTION:Looking for a refreshing pause in the midst of your busy week? Join us for our Ladies Bible Study via Zoom\, where we not only delve into meaningful conversations about faith but also build a supportive and nurturing community. Whether you’re new to Bible study or a seasoned participant\, come as you are\, from the comfort of your home\, and let’s grow spiritually together! We can’t wait to see you there. ✨
URL:https://lcor.org/events-calendar/ladies-bible-study-5/2029-04-12/
CATEGORIES:Bible Study
ATTACH;FMTTYPE=image/png:https://lcor.org/wp-content/uploads/2025/01/Ladies-Bible-study.png
END:VEVENT
BEGIN:VEVENT
DTSTART;TZID=UTC:20290416T071500
DTEND;TZID=UTC:20290416T081500
DTSTAMP:20260421T054438
CREATED:20250326T161740Z
LAST-MODIFIED:20250326T161740Z
UID:10003972-1871018100-1871021700@lcor.org
SUMMARY:Ladies Bible Study
DESCRIPTION:Looking for a refreshing pause in the midst of your busy week? Join us for our Ladies Bible Study via Zoom\, where we not only delve into meaningful conversations about faith but also build a supportive and nurturing community. Whether you’re new to Bible study or a seasoned participant\, come as you are\, from the comfort of your home\, and let’s grow spiritually together! We can’t wait to see you there. ✨
URL:https://lcor.org/events-calendar/ladies-bible-study-5/2029-04-16/
CATEGORIES:Bible Study
ATTACH;FMTTYPE=image/png:https://lcor.org/wp-content/uploads/2025/01/Ladies-Bible-study.png
END:VEVENT
BEGIN:VEVENT
DTSTART;TZID=UTC:20290419T071500
DTEND;TZID=UTC:20290419T081500
DTSTAMP:20260421T054438
CREATED:20250326T161740Z
LAST-MODIFIED:20250326T161740Z
UID:10003973-1871277300-1871280900@lcor.org
SUMMARY:Ladies Bible Study
DESCRIPTION:Looking for a refreshing pause in the midst of your busy week? Join us for our Ladies Bible Study via Zoom\, where we not only delve into meaningful conversations about faith but also build a supportive and nurturing community. Whether you’re new to Bible study or a seasoned participant\, come as you are\, from the comfort of your home\, and let’s grow spiritually together! We can’t wait to see you there. ✨
URL:https://lcor.org/events-calendar/ladies-bible-study-5/2029-04-19/
CATEGORIES:Bible Study
ATTACH;FMTTYPE=image/png:https://lcor.org/wp-content/uploads/2025/01/Ladies-Bible-study.png
END:VEVENT
BEGIN:VEVENT
DTSTART;TZID=UTC:20290423T071500
DTEND;TZID=UTC:20290423T081500
DTSTAMP:20260421T054438
CREATED:20250326T161740Z
LAST-MODIFIED:20250326T161740Z
UID:10003974-1871622900-1871626500@lcor.org
SUMMARY:Ladies Bible Study
DESCRIPTION:Looking for a refreshing pause in the midst of your busy week? Join us for our Ladies Bible Study via Zoom\, where we not only delve into meaningful conversations about faith but also build a supportive and nurturing community. Whether you’re new to Bible study or a seasoned participant\, come as you are\, from the comfort of your home\, and let’s grow spiritually together! We can’t wait to see you there. ✨
URL:https://lcor.org/events-calendar/ladies-bible-study-5/2029-04-23/
CATEGORIES:Bible Study
ATTACH;FMTTYPE=image/png:https://lcor.org/wp-content/uploads/2025/01/Ladies-Bible-study.png
END:VEVENT
BEGIN:VEVENT
DTSTART;TZID=UTC:20290426T071500
DTEND;TZID=UTC:20290426T081500
DTSTAMP:20260421T054438
CREATED:20250326T161740Z
LAST-MODIFIED:20250326T161740Z
UID:10003975-1871882100-1871885700@lcor.org
SUMMARY:Ladies Bible Study
DESCRIPTION:Looking for a refreshing pause in the midst of your busy week? Join us for our Ladies Bible Study via Zoom\, where we not only delve into meaningful conversations about faith but also build a supportive and nurturing community. Whether you’re new to Bible study or a seasoned participant\, come as you are\, from the comfort of your home\, and let’s grow spiritually together! We can’t wait to see you there. ✨
URL:https://lcor.org/events-calendar/ladies-bible-study-5/2029-04-26/
CATEGORIES:Bible Study
ATTACH;FMTTYPE=image/png:https://lcor.org/wp-content/uploads/2025/01/Ladies-Bible-study.png
END:VEVENT
BEGIN:VEVENT
DTSTART;TZID=UTC:20290430T071500
DTEND;TZID=UTC:20290430T081500
DTSTAMP:20260421T054438
CREATED:20250326T161740Z
LAST-MODIFIED:20250326T161740Z
UID:10003976-1872227700-1872231300@lcor.org
SUMMARY:Ladies Bible Study
DESCRIPTION:Looking for a refreshing pause in the midst of your busy week? Join us for our Ladies Bible Study via Zoom\, where we not only delve into meaningful conversations about faith but also build a supportive and nurturing community. Whether you’re new to Bible study or a seasoned participant\, come as you are\, from the comfort of your home\, and let’s grow spiritually together! We can’t wait to see you there. ✨
URL:https://lcor.org/events-calendar/ladies-bible-study-5/2029-04-30/
CATEGORIES:Bible Study
ATTACH;FMTTYPE=image/png:https://lcor.org/wp-content/uploads/2025/01/Ladies-Bible-study.png
END:VEVENT
BEGIN:VEVENT
DTSTART;TZID=UTC:20290503T071500
DTEND;TZID=UTC:20290503T081500
DTSTAMP:20260421T054438
CREATED:20250326T161740Z
LAST-MODIFIED:20250326T161740Z
UID:10003977-1872486900-1872490500@lcor.org
SUMMARY:Ladies Bible Study
DESCRIPTION:Looking for a refreshing pause in the midst of your busy week? Join us for our Ladies Bible Study via Zoom\, where we not only delve into meaningful conversations about faith but also build a supportive and nurturing community. Whether you’re new to Bible study or a seasoned participant\, come as you are\, from the comfort of your home\, and let’s grow spiritually together! We can’t wait to see you there. ✨
URL:https://lcor.org/events-calendar/ladies-bible-study-5/2029-05-03/
CATEGORIES:Bible Study
ATTACH;FMTTYPE=image/png:https://lcor.org/wp-content/uploads/2025/01/Ladies-Bible-study.png
END:VEVENT
BEGIN:VEVENT
DTSTART;TZID=UTC:20290507T071500
DTEND;TZID=UTC:20290507T081500
DTSTAMP:20260421T054438
CREATED:20250326T161740Z
LAST-MODIFIED:20250326T161740Z
UID:10003978-1872832500-1872836100@lcor.org
SUMMARY:Ladies Bible Study
DESCRIPTION:Looking for a refreshing pause in the midst of your busy week? Join us for our Ladies Bible Study via Zoom\, where we not only delve into meaningful conversations about faith but also build a supportive and nurturing community. Whether you’re new to Bible study or a seasoned participant\, come as you are\, from the comfort of your home\, and let’s grow spiritually together! We can’t wait to see you there. ✨
URL:https://lcor.org/events-calendar/ladies-bible-study-5/2029-05-07/
CATEGORIES:Bible Study
ATTACH;FMTTYPE=image/png:https://lcor.org/wp-content/uploads/2025/01/Ladies-Bible-study.png
END:VEVENT
BEGIN:VEVENT
DTSTART;TZID=UTC:20290510T071500
DTEND;TZID=UTC:20290510T081500
DTSTAMP:20260421T054438
CREATED:20250326T161740Z
LAST-MODIFIED:20250326T161740Z
UID:10003979-1873091700-1873095300@lcor.org
SUMMARY:Ladies Bible Study
DESCRIPTION:Looking for a refreshing pause in the midst of your busy week? Join us for our Ladies Bible Study via Zoom\, where we not only delve into meaningful conversations about faith but also build a supportive and nurturing community. Whether you’re new to Bible study or a seasoned participant\, come as you are\, from the comfort of your home\, and let’s grow spiritually together! We can’t wait to see you there. ✨
URL:https://lcor.org/events-calendar/ladies-bible-study-5/2029-05-10/
CATEGORIES:Bible Study
ATTACH;FMTTYPE=image/png:https://lcor.org/wp-content/uploads/2025/01/Ladies-Bible-study.png
END:VEVENT
BEGIN:VEVENT
DTSTART;TZID=UTC:20290514T071500
DTEND;TZID=UTC:20290514T081500
DTSTAMP:20260421T054438
CREATED:20250326T161740Z
LAST-MODIFIED:20250326T161740Z
UID:10003980-1873437300-1873440900@lcor.org
SUMMARY:Ladies Bible Study
DESCRIPTION:Looking for a refreshing pause in the midst of your busy week? Join us for our Ladies Bible Study via Zoom\, where we not only delve into meaningful conversations about faith but also build a supportive and nurturing community. Whether you’re new to Bible study or a seasoned participant\, come as you are\, from the comfort of your home\, and let’s grow spiritually together! We can’t wait to see you there. ✨
URL:https://lcor.org/events-calendar/ladies-bible-study-5/2029-05-14/
CATEGORIES:Bible Study
ATTACH;FMTTYPE=image/png:https://lcor.org/wp-content/uploads/2025/01/Ladies-Bible-study.png
END:VEVENT
BEGIN:VEVENT
DTSTART;TZID=UTC:20290517T071500
DTEND;TZID=UTC:20290517T081500
DTSTAMP:20260421T054438
CREATED:20250326T161740Z
LAST-MODIFIED:20250326T161740Z
UID:10003981-1873696500-1873700100@lcor.org
SUMMARY:Ladies Bible Study
DESCRIPTION:Looking for a refreshing pause in the midst of your busy week? Join us for our Ladies Bible Study via Zoom\, where we not only delve into meaningful conversations about faith but also build a supportive and nurturing community. Whether you’re new to Bible study or a seasoned participant\, come as you are\, from the comfort of your home\, and let’s grow spiritually together! We can’t wait to see you there. ✨
URL:https://lcor.org/events-calendar/ladies-bible-study-5/2029-05-17/
CATEGORIES:Bible Study
ATTACH;FMTTYPE=image/png:https://lcor.org/wp-content/uploads/2025/01/Ladies-Bible-study.png
END:VEVENT
BEGIN:VEVENT
DTSTART;TZID=UTC:20290521T071500
DTEND;TZID=UTC:20290521T081500
DTSTAMP:20260421T054438
CREATED:20250326T161740Z
LAST-MODIFIED:20250326T161740Z
UID:10003982-1874042100-1874045700@lcor.org
SUMMARY:Ladies Bible Study
DESCRIPTION:Looking for a refreshing pause in the midst of your busy week? Join us for our Ladies Bible Study via Zoom\, where we not only delve into meaningful conversations about faith but also build a supportive and nurturing community. Whether you’re new to Bible study or a seasoned participant\, come as you are\, from the comfort of your home\, and let’s grow spiritually together! We can’t wait to see you there. ✨
URL:https://lcor.org/events-calendar/ladies-bible-study-5/2029-05-21/
CATEGORIES:Bible Study
ATTACH;FMTTYPE=image/png:https://lcor.org/wp-content/uploads/2025/01/Ladies-Bible-study.png
END:VEVENT
BEGIN:VEVENT
DTSTART;TZID=UTC:20290524T071500
DTEND;TZID=UTC:20290524T081500
DTSTAMP:20260421T054438
CREATED:20250326T161740Z
LAST-MODIFIED:20250326T161740Z
UID:10003983-1874301300-1874304900@lcor.org
SUMMARY:Ladies Bible Study
DESCRIPTION:Looking for a refreshing pause in the midst of your busy week? Join us for our Ladies Bible Study via Zoom\, where we not only delve into meaningful conversations about faith but also build a supportive and nurturing community. Whether you’re new to Bible study or a seasoned participant\, come as you are\, from the comfort of your home\, and let’s grow spiritually together! We can’t wait to see you there. ✨
URL:https://lcor.org/events-calendar/ladies-bible-study-5/2029-05-24/
CATEGORIES:Bible Study
ATTACH;FMTTYPE=image/png:https://lcor.org/wp-content/uploads/2025/01/Ladies-Bible-study.png
END:VEVENT
BEGIN:VEVENT
DTSTART;TZID=UTC:20290528T071500
DTEND;TZID=UTC:20290528T081500
DTSTAMP:20260421T054438
CREATED:20250326T161740Z
LAST-MODIFIED:20250326T161740Z
UID:10003984-1874646900-1874650500@lcor.org
SUMMARY:Ladies Bible Study
DESCRIPTION:Looking for a refreshing pause in the midst of your busy week? Join us for our Ladies Bible Study via Zoom\, where we not only delve into meaningful conversations about faith but also build a supportive and nurturing community. Whether you’re new to Bible study or a seasoned participant\, come as you are\, from the comfort of your home\, and let’s grow spiritually together! We can’t wait to see you there. ✨
URL:https://lcor.org/events-calendar/ladies-bible-study-5/2029-05-28/
CATEGORIES:Bible Study
ATTACH;FMTTYPE=image/png:https://lcor.org/wp-content/uploads/2025/01/Ladies-Bible-study.png
END:VEVENT
BEGIN:VEVENT
DTSTART;TZID=UTC:20290531T071500
DTEND;TZID=UTC:20290531T081500
DTSTAMP:20260421T054438
CREATED:20250326T161740Z
LAST-MODIFIED:20250326T161740Z
UID:10003985-1874906100-1874909700@lcor.org
SUMMARY:Ladies Bible Study
DESCRIPTION:Looking for a refreshing pause in the midst of your busy week? Join us for our Ladies Bible Study via Zoom\, where we not only delve into meaningful conversations about faith but also build a supportive and nurturing community. Whether you’re new to Bible study or a seasoned participant\, come as you are\, from the comfort of your home\, and let’s grow spiritually together! We can’t wait to see you there. ✨
URL:https://lcor.org/events-calendar/ladies-bible-study-5/2029-05-31/
CATEGORIES:Bible Study
ATTACH;FMTTYPE=image/png:https://lcor.org/wp-content/uploads/2025/01/Ladies-Bible-study.png
END:VEVENT
BEGIN:VEVENT
DTSTART;TZID=UTC:20290604T071500
DTEND;TZID=UTC:20290604T081500
DTSTAMP:20260421T054438
CREATED:20250326T161740Z
LAST-MODIFIED:20250326T161740Z
UID:10003986-1875251700-1875255300@lcor.org
SUMMARY:Ladies Bible Study
DESCRIPTION:Looking for a refreshing pause in the midst of your busy week? Join us for our Ladies Bible Study via Zoom\, where we not only delve into meaningful conversations about faith but also build a supportive and nurturing community. Whether you’re new to Bible study or a seasoned participant\, come as you are\, from the comfort of your home\, and let’s grow spiritually together! We can’t wait to see you there. ✨
URL:https://lcor.org/events-calendar/ladies-bible-study-5/2029-06-04/
CATEGORIES:Bible Study
ATTACH;FMTTYPE=image/png:https://lcor.org/wp-content/uploads/2025/01/Ladies-Bible-study.png
END:VEVENT
BEGIN:VEVENT
DTSTART;TZID=UTC:20290607T071500
DTEND;TZID=UTC:20290607T081500
DTSTAMP:20260421T054438
CREATED:20250326T161740Z
LAST-MODIFIED:20250326T161740Z
UID:10003987-1875510900-1875514500@lcor.org
SUMMARY:Ladies Bible Study
DESCRIPTION:Looking for a refreshing pause in the midst of your busy week? Join us for our Ladies Bible Study via Zoom\, where we not only delve into meaningful conversations about faith but also build a supportive and nurturing community. Whether you’re new to Bible study or a seasoned participant\, come as you are\, from the comfort of your home\, and let’s grow spiritually together! We can’t wait to see you there. ✨
URL:https://lcor.org/events-calendar/ladies-bible-study-5/2029-06-07/
CATEGORIES:Bible Study
ATTACH;FMTTYPE=image/png:https://lcor.org/wp-content/uploads/2025/01/Ladies-Bible-study.png
END:VEVENT
BEGIN:VEVENT
DTSTART;TZID=UTC:20290611T071500
DTEND;TZID=UTC:20290611T081500
DTSTAMP:20260421T054438
CREATED:20250326T161740Z
LAST-MODIFIED:20250326T161740Z
UID:10003988-1875856500-1875860100@lcor.org
SUMMARY:Ladies Bible Study
DESCRIPTION:Looking for a refreshing pause in the midst of your busy week? Join us for our Ladies Bible Study via Zoom\, where we not only delve into meaningful conversations about faith but also build a supportive and nurturing community. Whether you’re new to Bible study or a seasoned participant\, come as you are\, from the comfort of your home\, and let’s grow spiritually together! We can’t wait to see you there. ✨
URL:https://lcor.org/events-calendar/ladies-bible-study-5/2029-06-11/
CATEGORIES:Bible Study
ATTACH;FMTTYPE=image/png:https://lcor.org/wp-content/uploads/2025/01/Ladies-Bible-study.png
END:VEVENT
BEGIN:VEVENT
DTSTART;TZID=UTC:20290614T071500
DTEND;TZID=UTC:20290614T081500
DTSTAMP:20260421T054438
CREATED:20250326T161740Z
LAST-MODIFIED:20250326T161740Z
UID:10003989-1876115700-1876119300@lcor.org
SUMMARY:Ladies Bible Study
DESCRIPTION:Looking for a refreshing pause in the midst of your busy week? Join us for our Ladies Bible Study via Zoom\, where we not only delve into meaningful conversations about faith but also build a supportive and nurturing community. Whether you’re new to Bible study or a seasoned participant\, come as you are\, from the comfort of your home\, and let’s grow spiritually together! We can’t wait to see you there. ✨
URL:https://lcor.org/events-calendar/ladies-bible-study-5/2029-06-14/
CATEGORIES:Bible Study
ATTACH;FMTTYPE=image/png:https://lcor.org/wp-content/uploads/2025/01/Ladies-Bible-study.png
END:VEVENT
BEGIN:VEVENT
DTSTART;TZID=UTC:20290618T071500
DTEND;TZID=UTC:20290618T081500
DTSTAMP:20260421T054438
CREATED:20250326T161740Z
LAST-MODIFIED:20250326T161740Z
UID:10003990-1876461300-1876464900@lcor.org
SUMMARY:Ladies Bible Study
DESCRIPTION:Looking for a refreshing pause in the midst of your busy week? Join us for our Ladies Bible Study via Zoom\, where we not only delve into meaningful conversations about faith but also build a supportive and nurturing community. Whether you’re new to Bible study or a seasoned participant\, come as you are\, from the comfort of your home\, and let’s grow spiritually together! We can’t wait to see you there. ✨
URL:https://lcor.org/events-calendar/ladies-bible-study-5/2029-06-18/
CATEGORIES:Bible Study
ATTACH;FMTTYPE=image/png:https://lcor.org/wp-content/uploads/2025/01/Ladies-Bible-study.png
END:VEVENT
BEGIN:VEVENT
DTSTART;TZID=UTC:20290621T071500
DTEND;TZID=UTC:20290621T081500
DTSTAMP:20260421T054438
CREATED:20250326T161740Z
LAST-MODIFIED:20250326T161740Z
UID:10003991-1876720500-1876724100@lcor.org
SUMMARY:Ladies Bible Study
DESCRIPTION:Looking for a refreshing pause in the midst of your busy week? Join us for our Ladies Bible Study via Zoom\, where we not only delve into meaningful conversations about faith but also build a supportive and nurturing community. Whether you’re new to Bible study or a seasoned participant\, come as you are\, from the comfort of your home\, and let’s grow spiritually together! We can’t wait to see you there. ✨
URL:https://lcor.org/events-calendar/ladies-bible-study-5/2029-06-21/
CATEGORIES:Bible Study
ATTACH;FMTTYPE=image/png:https://lcor.org/wp-content/uploads/2025/01/Ladies-Bible-study.png
END:VEVENT
BEGIN:VEVENT
DTSTART;TZID=UTC:20290625T071500
DTEND;TZID=UTC:20290625T081500
DTSTAMP:20260421T054438
CREATED:20250326T161740Z
LAST-MODIFIED:20250326T161740Z
UID:10003992-1877066100-1877069700@lcor.org
SUMMARY:Ladies Bible Study
DESCRIPTION:Looking for a refreshing pause in the midst of your busy week? Join us for our Ladies Bible Study via Zoom\, where we not only delve into meaningful conversations about faith but also build a supportive and nurturing community. Whether you’re new to Bible study or a seasoned participant\, come as you are\, from the comfort of your home\, and let’s grow spiritually together! We can’t wait to see you there. ✨
URL:https://lcor.org/events-calendar/ladies-bible-study-5/2029-06-25/
CATEGORIES:Bible Study
ATTACH;FMTTYPE=image/png:https://lcor.org/wp-content/uploads/2025/01/Ladies-Bible-study.png
END:VEVENT
BEGIN:VEVENT
DTSTART;TZID=UTC:20290628T071500
DTEND;TZID=UTC:20290628T081500
DTSTAMP:20260421T054438
CREATED:20250326T161740Z
LAST-MODIFIED:20250326T161740Z
UID:10003993-1877325300-1877328900@lcor.org
SUMMARY:Ladies Bible Study
DESCRIPTION:Looking for a refreshing pause in the midst of your busy week? Join us for our Ladies Bible Study via Zoom\, where we not only delve into meaningful conversations about faith but also build a supportive and nurturing community. Whether you’re new to Bible study or a seasoned participant\, come as you are\, from the comfort of your home\, and let’s grow spiritually together! We can’t wait to see you there. ✨
URL:https://lcor.org/events-calendar/ladies-bible-study-5/2029-06-28/
CATEGORIES:Bible Study
ATTACH;FMTTYPE=image/png:https://lcor.org/wp-content/uploads/2025/01/Ladies-Bible-study.png
END:VEVENT
BEGIN:VEVENT
DTSTART;TZID=UTC:20290702T071500
DTEND;TZID=UTC:20290702T081500
DTSTAMP:20260421T054438
CREATED:20250326T161740Z
LAST-MODIFIED:20250326T161740Z
UID:10003994-1877670900-1877674500@lcor.org
SUMMARY:Ladies Bible Study
DESCRIPTION:Looking for a refreshing pause in the midst of your busy week? Join us for our Ladies Bible Study via Zoom\, where we not only delve into meaningful conversations about faith but also build a supportive and nurturing community. Whether you’re new to Bible study or a seasoned participant\, come as you are\, from the comfort of your home\, and let’s grow spiritually together! We can’t wait to see you there. ✨
URL:https://lcor.org/events-calendar/ladies-bible-study-5/2029-07-02/
CATEGORIES:Bible Study
ATTACH;FMTTYPE=image/png:https://lcor.org/wp-content/uploads/2025/01/Ladies-Bible-study.png
END:VEVENT
BEGIN:VEVENT
DTSTART;TZID=UTC:20290705T071500
DTEND;TZID=UTC:20290705T081500
DTSTAMP:20260421T054438
CREATED:20250326T161740Z
LAST-MODIFIED:20250326T161740Z
UID:10003995-1877930100-1877933700@lcor.org
SUMMARY:Ladies Bible Study
DESCRIPTION:Looking for a refreshing pause in the midst of your busy week? Join us for our Ladies Bible Study via Zoom\, where we not only delve into meaningful conversations about faith but also build a supportive and nurturing community. Whether you’re new to Bible study or a seasoned participant\, come as you are\, from the comfort of your home\, and let’s grow spiritually together! We can’t wait to see you there. ✨
URL:https://lcor.org/events-calendar/ladies-bible-study-5/2029-07-05/
CATEGORIES:Bible Study
ATTACH;FMTTYPE=image/png:https://lcor.org/wp-content/uploads/2025/01/Ladies-Bible-study.png
END:VEVENT
BEGIN:VEVENT
DTSTART;TZID=UTC:20290709T071500
DTEND;TZID=UTC:20290709T081500
DTSTAMP:20260421T054438
CREATED:20250326T161740Z
LAST-MODIFIED:20250326T161740Z
UID:10003996-1878275700-1878279300@lcor.org
SUMMARY:Ladies Bible Study
DESCRIPTION:Looking for a refreshing pause in the midst of your busy week? Join us for our Ladies Bible Study via Zoom\, where we not only delve into meaningful conversations about faith but also build a supportive and nurturing community. Whether you’re new to Bible study or a seasoned participant\, come as you are\, from the comfort of your home\, and let’s grow spiritually together! We can’t wait to see you there. ✨
URL:https://lcor.org/events-calendar/ladies-bible-study-5/2029-07-09/
CATEGORIES:Bible Study
ATTACH;FMTTYPE=image/png:https://lcor.org/wp-content/uploads/2025/01/Ladies-Bible-study.png
END:VEVENT
BEGIN:VEVENT
DTSTART;TZID=UTC:20290712T071500
DTEND;TZID=UTC:20290712T081500
DTSTAMP:20260421T054438
CREATED:20250326T161740Z
LAST-MODIFIED:20250326T161740Z
UID:10003997-1878534900-1878538500@lcor.org
SUMMARY:Ladies Bible Study
DESCRIPTION:Looking for a refreshing pause in the midst of your busy week? Join us for our Ladies Bible Study via Zoom\, where we not only delve into meaningful conversations about faith but also build a supportive and nurturing community. Whether you’re new to Bible study or a seasoned participant\, come as you are\, from the comfort of your home\, and let’s grow spiritually together! We can’t wait to see you there. ✨
URL:https://lcor.org/events-calendar/ladies-bible-study-5/2029-07-12/
CATEGORIES:Bible Study
ATTACH;FMTTYPE=image/png:https://lcor.org/wp-content/uploads/2025/01/Ladies-Bible-study.png
END:VEVENT
BEGIN:VEVENT
DTSTART;TZID=UTC:20290716T071500
DTEND;TZID=UTC:20290716T081500
DTSTAMP:20260421T054438
CREATED:20250326T161740Z
LAST-MODIFIED:20250326T161740Z
UID:10003998-1878880500-1878884100@lcor.org
SUMMARY:Ladies Bible Study
DESCRIPTION:Looking for a refreshing pause in the midst of your busy week? Join us for our Ladies Bible Study via Zoom\, where we not only delve into meaningful conversations about faith but also build a supportive and nurturing community. Whether you’re new to Bible study or a seasoned participant\, come as you are\, from the comfort of your home\, and let’s grow spiritually together! We can’t wait to see you there. ✨
URL:https://lcor.org/events-calendar/ladies-bible-study-5/2029-07-16/
CATEGORIES:Bible Study
ATTACH;FMTTYPE=image/png:https://lcor.org/wp-content/uploads/2025/01/Ladies-Bible-study.png
END:VEVENT
END:VCALENDAR