BEGIN:VCALENDAR
VERSION:2.0
PRODID:-//Lutheran Church of Our Redeemer - ECPv6.15.20//NONSGML v1.0//EN
CALSCALE:GREGORIAN
METHOD:PUBLISH
X-WR-CALNAME:Lutheran Church of Our Redeemer
X-ORIGINAL-URL:https://lcor.org
X-WR-CALDESC:Events for Lutheran Church of Our Redeemer
REFRESH-INTERVAL;VALUE=DURATION:PT1H
X-Robots-Tag:noindex
X-PUBLISHED-TTL:PT1H
BEGIN:VTIMEZONE
TZID:UTC
BEGIN:STANDARD
TZOFFSETFROM:+0000
TZOFFSETTO:+0000
TZNAME:UTC
DTSTART:20280101T000000
END:STANDARD
END:VTIMEZONE
BEGIN:VEVENT
DTSTART;TZID=UTC:20290101T071500
DTEND;TZID=UTC:20290101T081500
DTSTAMP:20260423T084730
CREATED:20250326T161740Z
LAST-MODIFIED:20250326T161740Z
UID:10003942-1861946100-1861949700@lcor.org
SUMMARY:Ladies Bible Study
DESCRIPTION:Looking for a refreshing pause in the midst of your busy week? Join us for our Ladies Bible Study via Zoom\, where we not only delve into meaningful conversations about faith but also build a supportive and nurturing community. Whether you’re new to Bible study or a seasoned participant\, come as you are\, from the comfort of your home\, and let’s grow spiritually together! We can’t wait to see you there. ✨
URL:https://lcor.org/events-calendar/ladies-bible-study-5/2029-01-01/
CATEGORIES:Bible Study
ATTACH;FMTTYPE=image/png:https://lcor.org/wp-content/uploads/2025/01/Ladies-Bible-study.png
END:VEVENT
BEGIN:VEVENT
DTSTART;TZID=UTC:20290104T071500
DTEND;TZID=UTC:20290104T081500
DTSTAMP:20260423T084730
CREATED:20250326T161740Z
LAST-MODIFIED:20250326T161740Z
UID:10003943-1862205300-1862208900@lcor.org
SUMMARY:Ladies Bible Study
DESCRIPTION:Looking for a refreshing pause in the midst of your busy week? Join us for our Ladies Bible Study via Zoom\, where we not only delve into meaningful conversations about faith but also build a supportive and nurturing community. Whether you’re new to Bible study or a seasoned participant\, come as you are\, from the comfort of your home\, and let’s grow spiritually together! We can’t wait to see you there. ✨
URL:https://lcor.org/events-calendar/ladies-bible-study-5/2029-01-04/
CATEGORIES:Bible Study
ATTACH;FMTTYPE=image/png:https://lcor.org/wp-content/uploads/2025/01/Ladies-Bible-study.png
END:VEVENT
BEGIN:VEVENT
DTSTART;TZID=UTC:20290108T071500
DTEND;TZID=UTC:20290108T081500
DTSTAMP:20260423T084730
CREATED:20250326T161740Z
LAST-MODIFIED:20250326T161740Z
UID:10003944-1862550900-1862554500@lcor.org
SUMMARY:Ladies Bible Study
DESCRIPTION:Looking for a refreshing pause in the midst of your busy week? Join us for our Ladies Bible Study via Zoom\, where we not only delve into meaningful conversations about faith but also build a supportive and nurturing community. Whether you’re new to Bible study or a seasoned participant\, come as you are\, from the comfort of your home\, and let’s grow spiritually together! We can’t wait to see you there. ✨
URL:https://lcor.org/events-calendar/ladies-bible-study-5/2029-01-08/
CATEGORIES:Bible Study
ATTACH;FMTTYPE=image/png:https://lcor.org/wp-content/uploads/2025/01/Ladies-Bible-study.png
END:VEVENT
BEGIN:VEVENT
DTSTART;TZID=UTC:20290111T071500
DTEND;TZID=UTC:20290111T081500
DTSTAMP:20260423T084730
CREATED:20250326T161740Z
LAST-MODIFIED:20250326T161740Z
UID:10003945-1862810100-1862813700@lcor.org
SUMMARY:Ladies Bible Study
DESCRIPTION:Looking for a refreshing pause in the midst of your busy week? Join us for our Ladies Bible Study via Zoom\, where we not only delve into meaningful conversations about faith but also build a supportive and nurturing community. Whether you’re new to Bible study or a seasoned participant\, come as you are\, from the comfort of your home\, and let’s grow spiritually together! We can’t wait to see you there. ✨
URL:https://lcor.org/events-calendar/ladies-bible-study-5/2029-01-11/
CATEGORIES:Bible Study
ATTACH;FMTTYPE=image/png:https://lcor.org/wp-content/uploads/2025/01/Ladies-Bible-study.png
END:VEVENT
BEGIN:VEVENT
DTSTART;TZID=UTC:20290115T071500
DTEND;TZID=UTC:20290115T081500
DTSTAMP:20260423T084730
CREATED:20250326T161740Z
LAST-MODIFIED:20250326T161740Z
UID:10003946-1863155700-1863159300@lcor.org
SUMMARY:Ladies Bible Study
DESCRIPTION:Looking for a refreshing pause in the midst of your busy week? Join us for our Ladies Bible Study via Zoom\, where we not only delve into meaningful conversations about faith but also build a supportive and nurturing community. Whether you’re new to Bible study or a seasoned participant\, come as you are\, from the comfort of your home\, and let’s grow spiritually together! We can’t wait to see you there. ✨
URL:https://lcor.org/events-calendar/ladies-bible-study-5/2029-01-15/
CATEGORIES:Bible Study
ATTACH;FMTTYPE=image/png:https://lcor.org/wp-content/uploads/2025/01/Ladies-Bible-study.png
END:VEVENT
BEGIN:VEVENT
DTSTART;TZID=UTC:20290118T071500
DTEND;TZID=UTC:20290118T081500
DTSTAMP:20260423T084730
CREATED:20250326T161740Z
LAST-MODIFIED:20250326T161740Z
UID:10003947-1863414900-1863418500@lcor.org
SUMMARY:Ladies Bible Study
DESCRIPTION:Looking for a refreshing pause in the midst of your busy week? Join us for our Ladies Bible Study via Zoom\, where we not only delve into meaningful conversations about faith but also build a supportive and nurturing community. Whether you’re new to Bible study or a seasoned participant\, come as you are\, from the comfort of your home\, and let’s grow spiritually together! We can’t wait to see you there. ✨
URL:https://lcor.org/events-calendar/ladies-bible-study-5/2029-01-18/
CATEGORIES:Bible Study
ATTACH;FMTTYPE=image/png:https://lcor.org/wp-content/uploads/2025/01/Ladies-Bible-study.png
END:VEVENT
BEGIN:VEVENT
DTSTART;TZID=UTC:20290122T071500
DTEND;TZID=UTC:20290122T081500
DTSTAMP:20260423T084730
CREATED:20250326T161740Z
LAST-MODIFIED:20250326T161740Z
UID:10003948-1863760500-1863764100@lcor.org
SUMMARY:Ladies Bible Study
DESCRIPTION:Looking for a refreshing pause in the midst of your busy week? Join us for our Ladies Bible Study via Zoom\, where we not only delve into meaningful conversations about faith but also build a supportive and nurturing community. Whether you’re new to Bible study or a seasoned participant\, come as you are\, from the comfort of your home\, and let’s grow spiritually together! We can’t wait to see you there. ✨
URL:https://lcor.org/events-calendar/ladies-bible-study-5/2029-01-22/
CATEGORIES:Bible Study
ATTACH;FMTTYPE=image/png:https://lcor.org/wp-content/uploads/2025/01/Ladies-Bible-study.png
END:VEVENT
BEGIN:VEVENT
DTSTART;TZID=UTC:20290125T071500
DTEND;TZID=UTC:20290125T081500
DTSTAMP:20260423T084730
CREATED:20250326T161740Z
LAST-MODIFIED:20250326T161740Z
UID:10003949-1864019700-1864023300@lcor.org
SUMMARY:Ladies Bible Study
DESCRIPTION:Looking for a refreshing pause in the midst of your busy week? Join us for our Ladies Bible Study via Zoom\, where we not only delve into meaningful conversations about faith but also build a supportive and nurturing community. Whether you’re new to Bible study or a seasoned participant\, come as you are\, from the comfort of your home\, and let’s grow spiritually together! We can’t wait to see you there. ✨
URL:https://lcor.org/events-calendar/ladies-bible-study-5/2029-01-25/
CATEGORIES:Bible Study
ATTACH;FMTTYPE=image/png:https://lcor.org/wp-content/uploads/2025/01/Ladies-Bible-study.png
END:VEVENT
BEGIN:VEVENT
DTSTART;TZID=UTC:20290129T071500
DTEND;TZID=UTC:20290129T081500
DTSTAMP:20260423T084730
CREATED:20250326T161740Z
LAST-MODIFIED:20250326T161740Z
UID:10003950-1864365300-1864368900@lcor.org
SUMMARY:Ladies Bible Study
DESCRIPTION:Looking for a refreshing pause in the midst of your busy week? Join us for our Ladies Bible Study via Zoom\, where we not only delve into meaningful conversations about faith but also build a supportive and nurturing community. Whether you’re new to Bible study or a seasoned participant\, come as you are\, from the comfort of your home\, and let’s grow spiritually together! We can’t wait to see you there. ✨
URL:https://lcor.org/events-calendar/ladies-bible-study-5/2029-01-29/
CATEGORIES:Bible Study
ATTACH;FMTTYPE=image/png:https://lcor.org/wp-content/uploads/2025/01/Ladies-Bible-study.png
END:VEVENT
END:VCALENDAR