BEGIN:VCALENDAR
VERSION:2.0
PRODID:-//Lutheran Church of Our Redeemer - ECPv6.15.20//NONSGML v1.0//EN
CALSCALE:GREGORIAN
METHOD:PUBLISH
X-WR-CALNAME:Lutheran Church of Our Redeemer
X-ORIGINAL-URL:https://lcor.org
X-WR-CALDESC:Events for Lutheran Church of Our Redeemer
REFRESH-INTERVAL;VALUE=DURATION:PT1H
X-Robots-Tag:noindex
X-PUBLISHED-TTL:PT1H
BEGIN:VTIMEZONE
TZID:UTC
BEGIN:STANDARD
TZOFFSETFROM:+0000
TZOFFSETTO:+0000
TZNAME:UTC
DTSTART:20230101T000000
END:STANDARD
END:VTIMEZONE
BEGIN:VEVENT
DTSTART;VALUE=DATE:20240902
DTEND;VALUE=DATE:20240903
DTSTAMP:20260423T173607
CREATED:20240807T215352Z
LAST-MODIFIED:20240807T215352Z
UID:10002331-1725235200-1725321599@lcor.org
SUMMARY:Labor Day - Office Closed
DESCRIPTION:
URL:https://lcor.org/events-calendar/labor-day-office-closed/
CATEGORIES:Administration
END:VEVENT
BEGIN:VEVENT
DTSTART;VALUE=DATE:20240921
DTEND;VALUE=DATE:20240922
DTSTAMP:20260423T173607
CREATED:20240907T210503Z
LAST-MODIFIED:20240907T210503Z
UID:10002356-1726876800-1726963199@lcor.org
SUMMARY:Newsletter Deadline
DESCRIPTION:
URL:https://lcor.org/events-calendar/newsletter-deadline-12/
CATEGORIES:Administration
END:VEVENT
BEGIN:VEVENT
DTSTART;VALUE=DATE:20241221
DTEND;VALUE=DATE:20241222
DTSTAMP:20260423T173607
CREATED:20241005T014723Z
LAST-MODIFIED:20241205T185225Z
UID:10002392-1734739200-1734825599@lcor.org
SUMMARY:Newsletter Deadline
DESCRIPTION:Please have your submissions in to the Church Office by today.
URL:https://lcor.org/events-calendar/newsletter-deadline-13/
CATEGORIES:Administration
END:VEVENT
BEGIN:VEVENT
DTSTART;VALUE=DATE:20250118
DTEND;VALUE=DATE:20250119
DTSTAMP:20260423T173607
CREATED:20250116T164304Z
LAST-MODIFIED:20250116T164304Z
UID:10002715-1737158400-1737244799@lcor.org
SUMMARY:Newsletter Deadline
DESCRIPTION:
URL:https://lcor.org/events-calendar/newsletter-deadline-14/
CATEGORIES:Administration
END:VEVENT
BEGIN:VEVENT
DTSTART;VALUE=DATE:20250120
DTEND;VALUE=DATE:20250121
DTSTAMP:20260423T173607
CREATED:20250116T164221Z
LAST-MODIFIED:20250116T164221Z
UID:10002714-1737331200-1737417599@lcor.org
SUMMARY:Office Closed
DESCRIPTION:
URL:https://lcor.org/events-calendar/office-closed-8/
CATEGORIES:Administration
END:VEVENT
BEGIN:VEVENT
DTSTART;VALUE=DATE:20251127
DTEND;VALUE=DATE:20251128
DTSTAMP:20260423T173607
CREATED:20251103T192835Z
LAST-MODIFIED:20251103T192835Z
UID:10004136-1764201600-1764287999@lcor.org
SUMMARY:LCOR Office Closed
DESCRIPTION:Happy Thanksgiving to all!
URL:https://lcor.org/events-calendar/lcor-office-closed/
CATEGORIES:Administration
END:VEVENT
BEGIN:VEVENT
DTSTART;VALUE=DATE:20251225
DTEND;VALUE=DATE:20251226
DTSTAMP:20260423T173607
CREATED:20251204T175732Z
LAST-MODIFIED:20251204T175732Z
UID:10004145-1766620800-1766707199@lcor.org
SUMMARY:LCOR Office Closed
DESCRIPTION:Merry Christmas to all!
URL:https://lcor.org/events-calendar/lcor-office-closed-2/
CATEGORIES:Administration
END:VEVENT
END:VCALENDAR