BEGIN:VCALENDAR
VERSION:2.0
PRODID:-//Lutheran Church of Our Redeemer - ECPv6.15.20//NONSGML v1.0//EN
CALSCALE:GREGORIAN
METHOD:PUBLISH
X-ORIGINAL-URL:https://lcor.org
X-WR-CALDESC:Events for Lutheran Church of Our Redeemer
REFRESH-INTERVAL;VALUE=DURATION:PT1H
X-Robots-Tag:noindex
X-PUBLISHED-TTL:PT1H
BEGIN:VTIMEZONE
TZID:UTC
BEGIN:STANDARD
TZOFFSETFROM:+0000
TZOFFSETTO:+0000
TZNAME:UTC
DTSTART:20240101T000000
END:STANDARD
END:VTIMEZONE
BEGIN:VEVENT
DTSTART;TZID=UTC:20250802T070000
DTEND;TZID=UTC:20250802T070000
DTSTAMP:20260419T172123
CREATED:20250702T183617Z
LAST-MODIFIED:20250702T183642Z
UID:10004103-1754118000-1754118000@lcor.org
SUMMARY:Trail Magic
DESCRIPTION:Trail Magic: 7:00am-4:00pm Ride out to Sheffield\, MA to offer hospitality to hikers on the Appalachian Trail. We always have a great time meeting hikers\, cooking them lunch on a grill\, and fellowshipping with our team on the car ride out and back. Signup sheet is on the church bulletin board.
URL:https://lcor.org/events-calendar/trail-magic/
CATEGORIES:Social Ministry
ATTACH;FMTTYPE=image/jpeg:https://lcor.org/wp-content/uploads/2025/07/Trail-Magic-2025-1.jpg
END:VEVENT
END:VCALENDAR