BEGIN:VCALENDAR
VERSION:2.0
PRODID:-//Lutheran Church of Our Redeemer - ECPv6.15.20//NONSGML v1.0//EN
CALSCALE:GREGORIAN
METHOD:PUBLISH
X-ORIGINAL-URL:https://lcor.org
X-WR-CALDESC:Events for Lutheran Church of Our Redeemer
REFRESH-INTERVAL;VALUE=DURATION:PT1H
X-Robots-Tag:noindex
X-PUBLISHED-TTL:PT1H
BEGIN:VTIMEZONE
TZID:UTC
BEGIN:STANDARD
TZOFFSETFROM:+0000
TZOFFSETTO:+0000
TZNAME:UTC
DTSTART:20240101T000000
END:STANDARD
END:VTIMEZONE
BEGIN:VEVENT
DTSTART;TZID=UTC:20250405T083000
DTEND;TZID=UTC:20250405T140000
DTSTAMP:20260420T065208
CREATED:20250326T153738Z
LAST-MODIFIED:20250326T153820Z
UID:10002756-1743841800-1743861600@lcor.org
SUMMARY:NEWELCA Ladies Gathering
DESCRIPTION:Saturday\, April 5th WELCA Ladies Gathering: 9:00-1:45pm.  Doors open at 8:30am.  You’re invited to the RI and SE MA Conference of the WELCA.  Breakfast & Lunch provided.  The gathering will feature worship\, Bible study\, a guest speaker\, games\, door prizes\, and a silent auction.  During the meeting\, we will review upcoming events\, address conference business\, and conduct elections.  $20.00 per person.  RSVP to office@lcor.org before 4/1 or email Loni with any questions.  We will be collecting a gift-in-kind of new or gently-used small kitchen appliances.  A free-will offering for NEWELCA will also be gathered.
URL:https://lcor.org/events-calendar/newelca-ladies-gathering/
END:VEVENT
END:VCALENDAR