BEGIN:VCALENDAR
VERSION:2.0
PRODID:-//Lutheran Church of Our Redeemer - ECPv6.15.20//NONSGML v1.0//EN
CALSCALE:GREGORIAN
METHOD:PUBLISH
X-WR-CALNAME:Lutheran Church of Our Redeemer
X-ORIGINAL-URL:https://lcor.org
X-WR-CALDESC:Events for Lutheran Church of Our Redeemer
REFRESH-INTERVAL;VALUE=DURATION:PT1H
X-Robots-Tag:noindex
X-PUBLISHED-TTL:PT1H
BEGIN:VTIMEZONE
TZID:UTC
BEGIN:STANDARD
TZOFFSETFROM:+0000
TZOFFSETTO:+0000
TZNAME:UTC
DTSTART:20240101T000000
END:STANDARD
END:VTIMEZONE
BEGIN:VEVENT
DTSTART;TZID=UTC:20250302T083000
DTEND;TZID=UTC:20250302T083000
DTSTAMP:20260420T065148
CREATED:20250116T163255Z
LAST-MODIFIED:20250116T165117Z
UID:10002594-1740904200-1740904200@lcor.org
SUMMARY:Contemporary Worship Service
DESCRIPTION:
URL:https://lcor.org/events-calendar/contemporary-worship-service-4/2025-03-02/
CATEGORIES:Worship & Music
ATTACH;FMTTYPE=image/png:https://lcor.org/wp-content/uploads/2024/11/Screenshot-2024-11-13-141206.png
END:VEVENT
BEGIN:VEVENT
DTSTART;TZID=UTC:20250302T091500
DTEND;TZID=UTC:20250302T091500
DTSTAMP:20260420T065148
CREATED:20250116T164711Z
LAST-MODIFIED:20250116T164836Z
UID:10002723-1740906900-1740906900@lcor.org
SUMMARY:Fellowship
DESCRIPTION:
URL:https://lcor.org/events-calendar/fellowship-5/2025-03-02/
CATEGORIES:Fellowship
ATTACH;FMTTYPE=image/png:https://lcor.org/wp-content/uploads/2024/11/Screenshot-2024-11-13-142008-e1731525667393.png
END:VEVENT
BEGIN:VEVENT
DTSTART;TZID=UTC:20250302T103000
DTEND;TZID=UTC:20250302T103000
DTSTAMP:20260420T065148
CREATED:20250116T163140Z
LAST-MODIFIED:20250116T165040Z
UID:10002657-1740911400-1740911400@lcor.org
SUMMARY:Traditional Worship Service
DESCRIPTION:
URL:https://lcor.org/events-calendar/traditional-worship-service-6/2025-03-02/
CATEGORIES:Worship & Music
ATTACH;FMTTYPE=image/png:https://lcor.org/wp-content/uploads/2024/11/Screenshot-2024-11-13-144351.png
END:VEVENT
END:VCALENDAR