BEGIN:VCALENDAR
VERSION:2.0
PRODID:-//Lutheran Church of Our Redeemer - ECPv6.15.20//NONSGML v1.0//EN
CALSCALE:GREGORIAN
METHOD:PUBLISH
X-WR-CALNAME:Lutheran Church of Our Redeemer
X-ORIGINAL-URL:https://lcor.org
X-WR-CALDESC:Events for Lutheran Church of Our Redeemer
REFRESH-INTERVAL;VALUE=DURATION:PT1H
X-Robots-Tag:noindex
X-PUBLISHED-TTL:PT1H
BEGIN:VTIMEZONE
TZID:UTC
BEGIN:STANDARD
TZOFFSETFROM:+0000
TZOFFSETTO:+0000
TZNAME:UTC
DTSTART:20240101T000000
END:STANDARD
END:VTIMEZONE
BEGIN:VEVENT
DTSTART;VALUE=DATE:20250223
DTEND;VALUE=DATE:20250224
DTSTAMP:20260420T065149
CREATED:20250210T181023Z
LAST-MODIFIED:20250210T181048Z
UID:10002736-1740268800-1740355199@lcor.org
SUMMARY:No Sunday School
DESCRIPTION:There will be no Sunday School 2/23/25 due to school vacation.
URL:https://lcor.org/events-calendar/no-sunday-school-2/
ATTACH;FMTTYPE=image/png:https://lcor.org/wp-content/uploads/2025/02/No-Sunday-School-Feb.-23rd.png
END:VEVENT
BEGIN:VEVENT
DTSTART;TZID=UTC:20250223T083000
DTEND;TZID=UTC:20250223T083000
DTSTAMP:20260420T065149
CREATED:20250116T163255Z
LAST-MODIFIED:20250116T165117Z
UID:10002593-1740299400-1740299400@lcor.org
SUMMARY:Contemporary Worship Service
DESCRIPTION:
URL:https://lcor.org/events-calendar/contemporary-worship-service-4/2025-02-23/
CATEGORIES:Worship & Music
ATTACH;FMTTYPE=image/png:https://lcor.org/wp-content/uploads/2024/11/Screenshot-2024-11-13-141206.png
END:VEVENT
BEGIN:VEVENT
DTSTART;TZID=UTC:20250223T091500
DTEND;TZID=UTC:20250223T091500
DTSTAMP:20260420T065149
CREATED:20250116T164711Z
LAST-MODIFIED:20250116T164836Z
UID:10002722-1740302100-1740302100@lcor.org
SUMMARY:Fellowship
DESCRIPTION:
URL:https://lcor.org/events-calendar/fellowship-5/2025-02-23/
CATEGORIES:Fellowship
ATTACH;FMTTYPE=image/png:https://lcor.org/wp-content/uploads/2024/11/Screenshot-2024-11-13-142008-e1731525667393.png
END:VEVENT
BEGIN:VEVENT
DTSTART;TZID=UTC:20250223T103000
DTEND;TZID=UTC:20250223T103000
DTSTAMP:20260420T065149
CREATED:20250116T163140Z
LAST-MODIFIED:20250116T165040Z
UID:10002656-1740306600-1740306600@lcor.org
SUMMARY:Traditional Worship Service
DESCRIPTION:
URL:https://lcor.org/events-calendar/traditional-worship-service-6/2025-02-23/
CATEGORIES:Worship & Music
ATTACH;FMTTYPE=image/png:https://lcor.org/wp-content/uploads/2024/11/Screenshot-2024-11-13-144351.png
END:VEVENT
END:VCALENDAR