BEGIN:VCALENDAR
VERSION:2.0
PRODID:-//Lutheran Church of Our Redeemer - ECPv6.15.20//NONSGML v1.0//EN
CALSCALE:GREGORIAN
METHOD:PUBLISH
X-WR-CALNAME:Lutheran Church of Our Redeemer
X-ORIGINAL-URL:https://lcor.org
X-WR-CALDESC:Events for Lutheran Church of Our Redeemer
REFRESH-INTERVAL;VALUE=DURATION:PT1H
X-Robots-Tag:noindex
X-PUBLISHED-TTL:PT1H
BEGIN:VTIMEZONE
TZID:UTC
BEGIN:STANDARD
TZOFFSETFROM:+0000
TZOFFSETTO:+0000
TZNAME:UTC
DTSTART:20240101T000000
END:STANDARD
END:VTIMEZONE
BEGIN:VEVENT
DTSTART;TZID=UTC:20250202T083000
DTEND;TZID=UTC:20250202T083000
DTSTAMP:20260420T065031
CREATED:20250116T163255Z
LAST-MODIFIED:20250116T165117Z
UID:10002590-1738485000-1738485000@lcor.org
SUMMARY:Contemporary Worship Service
DESCRIPTION:
URL:https://lcor.org/events-calendar/contemporary-worship-service-4/2025-02-02/
CATEGORIES:Worship & Music
ATTACH;FMTTYPE=image/png:https://lcor.org/wp-content/uploads/2024/11/Screenshot-2024-11-13-141206.png
END:VEVENT
BEGIN:VEVENT
DTSTART;TZID=UTC:20250202T091500
DTEND;TZID=UTC:20250202T091500
DTSTAMP:20260420T065031
CREATED:20250116T164711Z
LAST-MODIFIED:20250116T164836Z
UID:10002719-1738487700-1738487700@lcor.org
SUMMARY:Fellowship
DESCRIPTION:
URL:https://lcor.org/events-calendar/fellowship-5/2025-02-02/
CATEGORIES:Fellowship
ATTACH;FMTTYPE=image/png:https://lcor.org/wp-content/uploads/2024/11/Screenshot-2024-11-13-142008-e1731525667393.png
END:VEVENT
BEGIN:VEVENT
DTSTART;TZID=UTC:20250202T093000
DTEND;TZID=UTC:20250202T093000
DTSTAMP:20260420T065031
CREATED:20250115T195955Z
LAST-MODIFIED:20250115T195955Z
UID:10002459-1738488600-1738488600@lcor.org
SUMMARY:Adult Ed- A Clash of Kingdoms
DESCRIPTION:A Clash of Kingdoms by Ray Vander Laan\nUsing part of the “That the World May Know” series\, we will discover how Paul communicated the Good News of Christ to Philippi\, a Roman colony that worshiped false gods. The narrator brings his-tory alive with information about the political powers of the time (Caesar Augustus and others) as well as the geographical and cultural context in which Paul was living. This study shows us what the culture and the world was like when Paul came to present-day Greece and how the challenges he faced are still in our own culture.\nEach week is a stand-alone video and discussion so please join us as you are able.
URL:https://lcor.org/events-calendar/adult-ed-a-clash-of-kingdoms/2025-02-02/
CATEGORIES:Christian Education
END:VEVENT
BEGIN:VEVENT
DTSTART;TZID=UTC:20250202T103000
DTEND;TZID=UTC:20250202T103000
DTSTAMP:20260420T065031
CREATED:20250116T163140Z
LAST-MODIFIED:20250116T165040Z
UID:10002653-1738492200-1738492200@lcor.org
SUMMARY:Traditional Worship Service
DESCRIPTION:
URL:https://lcor.org/events-calendar/traditional-worship-service-6/2025-02-02/
CATEGORIES:Worship & Music
ATTACH;FMTTYPE=image/png:https://lcor.org/wp-content/uploads/2024/11/Screenshot-2024-11-13-144351.png
END:VEVENT
END:VCALENDAR